{"text_format":"1","workbook":"xlsx","n_sheets":22,"sheets":["Титульный лист","1000, 1001","2000","2001, 3000","3001, 3002, 3003","4000,4001","5000 и 5001 ДВН","5000 и 5001 ПО","5000 и 5001 свод","6000-6010","5000, 5001","Список МО","Проверочный лист","ДВН и профосмотр_общая ","ДВН-124н","профосмотры 124н","Нацпроект_ДВН_ПО _Ф.12","период. и предвар. осмотры","Таб 2510 ф.№30","таб. 2516 ф. 30","Старше труд._период и предвар.","Включите макросы"],"not_rendered":{"charts":0,"images":4,"macros":1,"external_links":1,"defined_names":12,"comments":0,"pivot_tables":0},"unopened":[],"bounds":{"document_bytes":16777216,"sheet_cells":100000,"rows_first":2000,"rows_last":500,"rows_between":2000,"halvings":0,"cell_chars":16384,"cell_head_chars":4096},"cells_cut":0,"cells_raw":0,"read":"whole","date_system":"1900"}

{"sheet":"Титульный лист","index":0,"n_rows":33,"n_cols":8,"rows_kept":33,"cut":false,"hidden":true,"merged":[[25,5,25,6],[24,5,24,6],[23,5,23,6],[22,1,22,6],[19,2,19,3],[21,2,21,6],[19,4,19,6],[16,4,16,6],[17,4,17,6],[18,4,18,6],[6,1,6,2],[8,1,8,2],[16,1,18,1],[16,2,18,3],[10,1,10,3],[12,1,12,3],[15,2,15,3],[15,5,15,6]]}
[]
[null,null,null,null,null,null,"Приложение N 3"]
[null,null,null,null,null,null,"к приказу Министерства здравоохранения"]
[null,null,null,null,null,null,"Российской Федерации"]
[null,null,null,null,null,null,"от 10 ноября 2020 г. N 1207н"]
[]
[null,"ОТРАСЛЕВАЯ СТАТИСТИЧЕСКАЯ ОТЧЕТНОСТЬ"]
[]
[null,"КОНФИДЕНЦИАЛЬНОСТЬ ГАРАНТИРУЕТСЯ ПОЛУЧАТЕЛЕМ ИНФОРМАЦИИ"]
[]
[null,"ВОЗМОЖНО ПРЕДСТАВЛЕНИЕ В ЭЛЕКТРОННОМ ВИДЕ",null,null,null,null,"Еженедельный отчёт","2023-03-30"]
[]
[null,"\"СВЕДЕНИЯ О ПРОВЕДЕНИИ ПРОФИЛАКТИЧЕСКОГО МЕДИЦИНСКОГО ОСМОТРА И ДИСПАНСЕРИЗАЦИИ ОПРЕДЕЛЕННЫХ ГРУПП ВЗРОСЛОГО НАСЕЛЕНИЯ\"",null,null,null,null,"Ежемесячный отчёт"]
[null,"                                                                                                        2023 года                          за период","январь","Март"]
[]
[null,"Представляют:","Сроки представления",null,null,"ФОРМА N 131/о"]
[null,"Медицинские организации, оказывающие первичную медико-санитарную помощь (далее - медицинская организация), органу исполнительной власти субъектов Российской Федерации в сфере охраны здоровья","5 числа месяца, следующего за отчетным периодом"]
[null,null,null,null,"Утверждена приказом Минздрава России"]
[null,null,null,null,"от ___________ N _____"]
[null,"Органы исполнительной власти субъектов Российской Федерации в сфере охраны здоровья - Министерству здравоохранения Российской Федерации","10 числа месяца, следующего за отчетным периодом",null,"нарастающим итогом ежемесячная, годовая"]
[]
[null,"Наименование медицинской организации:","ГБУЗ \"Кумылженская ЦРБ\""]
[null,"Почтовый адрес:"]
[null,"Код медицинской организации по ОКПО","Код вида деятельности по ОКВЭД","Код отрасли по ОКОНХ","Код территории по ОКАТО","Код органа исполнительной власти субъекта Российской Федерации в сфере охраны здоровья по ОКОГУ"]
[null,1,2,3,4,5]
[null,"00088390","75.11.21",null,"18401395000",2300229]
[]
[null,"Должностное лицо (уполномоченный представитель), ответственное за предоставление статистической информации "]
[null,"Главный врач","должность (руководитель медицинской организации)"]
[null,"Шиповская Юлия Дмитриевна","Ф.И.О."]
[null,"Ростовцева Ирина Федоровна","Ф.И.О. исполнителя"]
[null,"89044132260","номер контактного телефона"]
[null,"crb_kumylga@volganet.ru","E-mail",null,null,"М.П."]

{"sheet":"1000, 1001","index":1,"n_rows":28,"n_cols":27,"rows_kept":28,"cut":false,"hidden":true,"merged":[[7,15,8,15],[6,7,7,7],[6,8,7,8],[6,11,7,11],[24,1,24,5],[18,9,19,10],[21,6,22,7],[25,1,25,2],[26,1,26,2],[6,5,6,6],[6,12,7,12],[19,1,19,7],[0,1,0,14],[20,1,20,5],[21,1,21,2],[22,1,22,2],[4,1,7,1],[4,3,5,6],[5,7,5,10],[1,1,1,14],[6,9,6,10],[6,13,6,14],[4,2,7,2],[6,3,7,3],[6,4,7,4],[4,7,4,14],[5,11,5,14]]}
[{"$f":"AND('Титульный лист'!$D$14<>\"\",'Титульный лист'!$C$22<>\"\",'Титульный лист'!$B$29<>\"\",'Титульный лист'!$B$30<>\"\",'Титульный лист'!$B$31<>\"\",'Титульный лист'!$B$32<>\"\",'Титульный лист'!$B$33<>\"\")","v":true}]
[null,"Сведения о проведении профилактического медицинского осмотра (ПМО) и диспансеризации определенных групп взрослого населения (ДОГВН)"]
[null,null,null,null,null,null,null,null,null,null,null,null," Код по ОКЕИ: человек - 792"]
[null,"(1000)"]
[null,"Возраст","N   строки","Все взрослое население",null,null,null,"в том числе:"]
[null,null,null,null,null,null,null,"Мужчины",null,null,null,"Женщины"]
[null,null,null,"Численность прикрепленного взрослого населения на 01.01 текущего года","Из них по плану подлежат: ПМО и ДОГВН (чел.)","Из них прошли:",null,"Численность прикрепленного взрослого населения на 01.01 текущего года","Из них по плану подлежат: ПМО и ДОГВН (чел.)","Из них прошли:",null,"Численность прикрепленного взрослого населения на 01.01 текущего года","Из них по плану подлежат: ПМО и ДОГВН (чел.)","Из них прошли:"]
[null,null,null,null,null,"ПМО    (чел.)","ДОГВН   (чел.)",null,null,"ПМО    (чел.)","ДОГВН   (чел.)",null,null,"ПМО    (чел.)","ДОГВН   (чел.)","Проверка"]
[null,1,2,3,4,5,6,7,8,9,10,11,12,13,14]
[null,"18-34",1,{"$f":"H10+L10","v":4367},{"$f":"I10+M10","v":996},{"$f":"'профосмотры 124н'!D9","v":263},{"$f":"'ДВН-124н'!D9","v":78},{"$f":"IF(ISERROR(VLOOKUP('Титульный лист'!$C$22,'Проверочный лист'!$J$3:$AL$55,2,FALSE)),0,VLOOKUP('Титульный лист'!$C$22,'Проверочный лист'!$J$3:$AL$55,2,FALSE))","v":2067},{"$f":"IF(ISERROR(VLOOKUP('Титульный лист'!$C$22,'Проверочный лист'!$J$3:$AL$55,9,FALSE)),0,VLOOKUP('Титульный лист'!$C$22,'Проверочный лист'!$J$3:$AL$55,9,FALSE))","v":479},139,20,{"$f":"IF(ISERROR(VLOOKUP('Титульный лист'!$C$22,'Проверочный лист'!$J$3:$AL$55,16,FALSE)),0,VLOOKUP('Титульный лист'!$C$22,'Проверочный лист'!$J$3:$AL$55,16,FALSE))","v":2300},{"$f":"IF(ISERROR(VLOOKUP('Титульный лист'!$C$22,'Проверочный лист'!$J$3:$AL$55,23,FALSE)),0,VLOOKUP('Титульный лист'!$C$22,'Проверочный лист'!$J$3:$AL$55,23,FALSE))","v":517},{"$f":"F10-J10","v":124},{"$f":"G10-K10","v":58},{"$f":"IF(S10>0,\"гр.8 >= гр.7 по строке \"&R10,\"ОК\")","v":"ОК"},"гр.8 должна быть меньше гр.7 по всем строкам",{"$f":"IF(S10>0,INDEX($C$10:$C$17,S10,1),CHAR(151))","v":"—"},{"$f":"IF(ISERROR(MATCH(FALSE,T10:AA10,0)),0,MATCH(FALSE,T10:AA10,0))","v":0},{"$f":"IF(OR($I10<>0,$H10<>0),$I10<$H10,TRUE)","v":true},{"$f":"IF(OR($I11<>0,$H11<>0),$I11<$H11,TRUE)","v":true},{"$f":"IF(OR($I12<>0,$H12<>0),$I12<$H12,TRUE)","v":true},{"$f":"IF(OR($I13<>0,$H13<>0),$I13<$H13,TRUE)","v":true},{"$f":"IF(OR($I14<>0,$H14<>0),$I14<$H14,TRUE)","v":true},{"$f":"IF(OR($I15<>0,$H15<>0),$I15<$H15,TRUE)","v":true},{"$f":"IF(OR($I16<>0,$H16<>0),$I16<$H16,TRUE)","v":true},{"$f":"IF(OR($I17<>0,$H17<>0),$I17<$H17,TRUE)","v":true}]
[null,"35-39",2,{"$f":"H11+L11","v":2923},1218,{"$f":"'профосмотры 124н'!D10","v":128},{"$f":"'ДВН-124н'!D10","v":87},{"$f":"IF(ISERROR(VLOOKUP('Титульный лист'!$C$22,'Проверочный лист'!$J$3:$AL$55,3,FALSE)),0,VLOOKUP('Титульный лист'!$C$22,'Проверочный лист'!$J$3:$AL$55,3,FALSE))","v":1293},{"$f":"IF(ISERROR(VLOOKUP('Титульный лист'!$C$22,'Проверочный лист'!$J$3:$AL$55,10,FALSE)),0,VLOOKUP('Титульный лист'!$C$22,'Проверочный лист'!$J$3:$AL$55,10,FALSE))","v":549},37,22,{"$f":"IF(ISERROR(VLOOKUP('Титульный лист'!$C$22,'Проверочный лист'!$J$3:$AL$55,17,FALSE)),0,VLOOKUP('Титульный лист'!$C$22,'Проверочный лист'!$J$3:$AL$55,17,FALSE))","v":1630},{"$f":"IF(ISERROR(VLOOKUP('Титульный лист'!$C$22,'Проверочный лист'!$J$3:$AL$55,24,FALSE)),0,VLOOKUP('Титульный лист'!$C$22,'Проверочный лист'!$J$3:$AL$55,24,FALSE))","v":669},{"$f":"F11-J11","v":91},65,{"$f":"IF(S11>0,\"гр.12 >= гр.11 по строке \"&R11,\"ОК\")","v":"ОК"},"гр.12 должна быть меньше гр.11 по всем строкам",{"$f":"IF(S11>0,INDEX($C$10:$C$17,S11,1),CHAR(151))","v":"—"},{"$f":"IF(ISERROR(MATCH(FALSE,T11:AA11,0)),0,MATCH(FALSE,T11:AA11,0))","v":0},{"$f":"IF(OR($M10<>0,$L10<>0),$M10<$L10,TRUE)","v":true},{"$f":"IF(OR($M11<>0,$L11<>0),$M11<$L11,TRUE)","v":true},{"$f":"IF(OR($M12<>0,$L12<>0),$M12<$L12,TRUE)","v":true},{"$f":"IF(OR($M13<>0,$L13<>0),$M13<$L13,TRUE)","v":true},{"$f":"IF(OR($M14<>0,$L14<>0),$M14<$L14,TRUE)","v":true},{"$f":"IF(OR($M15<>0,$L15<>0),$M15<$L15,TRUE)","v":true},{"$f":"IF(OR($M16<>0,$L16<>0),$M16<$L16,TRUE)","v":true},{"$f":"IF(OR($M17<>0,$L17<>0),$M17<$L17,TRUE)","v":true}]
[null,"40-54",3,3154,935,{"$f":"'профосмотры 124н'!D11","v":0},{"$f":"'ДВН-124н'!D11","v":96},{"$f":"IF(ISERROR(VLOOKUP('Титульный лист'!$C$22,'Проверочный лист'!$J$3:$AL$55,4,FALSE)),0,VLOOKUP('Титульный лист'!$C$22,'Проверочный лист'!$J$3:$AL$55,4,FALSE))","v":1117},{"$f":"IF(ISERROR(VLOOKUP('Титульный лист'!$C$22,'Проверочный лист'!$J$3:$AL$55,11,FALSE)),0,VLOOKUP('Титульный лист'!$C$22,'Проверочный лист'!$J$3:$AL$55,11,FALSE))","v":417},null,53,{"$f":"IF(ISERROR(VLOOKUP('Титульный лист'!$C$22,'Проверочный лист'!$J$3:$AL$55,18,FALSE)),0,VLOOKUP('Титульный лист'!$C$22,'Проверочный лист'!$J$3:$AL$55,18,FALSE))","v":2037},{"$f":"IF(ISERROR(VLOOKUP('Титульный лист'!$C$22,'Проверочный лист'!$J$3:$AL$55,25,FALSE)),0,VLOOKUP('Титульный лист'!$C$22,'Проверочный лист'!$J$3:$AL$55,25,FALSE))","v":518},0,43,{"$f":"IF(S12>0,\"гр.9+гр.10 > гр.8 по строке \"&R12,\"ОК\")","v":"ОК"},"сумма граф.9+10 должна быть меньше или равна гр.8 по всем строкам",{"$f":"IF(S12>0,INDEX($C$10:$C$17,S12,1),CHAR(151))","v":"—"},{"$f":"IF(ISERROR(MATCH(FALSE,T12:AA12,0)),0,MATCH(FALSE,T12:AA12,0))","v":0},{"$f":"IF(OR(SUM($J10:$K10)<>0,$I10<>0),SUM($J10:$K10)<=$I10,TRUE)","v":true},{"$f":"IF(OR(SUM($J11:$K11)<>0,$I11<>0),SUM($J11:$K11)<=$I11,TRUE)","v":true},{"$f":"IF(OR(SUM($J12:$K12)<>0,$I12<>0),SUM($J12:$K12)<=$I12,TRUE)","v":true},{"$f":"IF(OR(SUM($J13:$K13)<>0,$I13<>0),SUM($J13:$K13)<=$I13,TRUE)","v":true},{"$f":"IF(OR(SUM($J14:$K14)<>0,$I14<>0),SUM($J14:$K14)<=$I14,TRUE)","v":true},{"$f":"IF(OR(SUM($J15:$K15)<>0,$I15<>0),SUM($J15:$K15)<=$I15,TRUE)","v":true},{"$f":"IF(OR(SUM($J16:$K16)<>0,$I16<>0),SUM($J16:$K16)<=$I16,TRUE)","v":true},{"$f":"IF(OR(SUM($J17:$K17)<>0,$I17<>0),SUM($J17:$K17)<=$I17,TRUE)","v":true}]
[null,"55-59",4,1518,651,{"$f":"'профосмотры 124н'!D12","v":0},{"$f":"'ДВН-124н'!D12","v":81},{"$f":"IF(ISERROR(VLOOKUP('Титульный лист'!$C$22,'Проверочный лист'!$J$3:$AL$55,5,FALSE)),0,VLOOKUP('Титульный лист'!$C$22,'Проверочный лист'!$J$3:$AL$55,5,FALSE))","v":669},{"$f":"IF(ISERROR(VLOOKUP('Титульный лист'!$C$22,'Проверочный лист'!$J$3:$AL$55,12,FALSE)),0,VLOOKUP('Титульный лист'!$C$22,'Проверочный лист'!$J$3:$AL$55,12,FALSE))","v":294},null,47,{"$f":"IF(ISERROR(VLOOKUP('Титульный лист'!$C$22,'Проверочный лист'!$J$3:$AL$55,19,FALSE)),0,VLOOKUP('Титульный лист'!$C$22,'Проверочный лист'!$J$3:$AL$55,19,FALSE))","v":849},{"$f":"IF(ISERROR(VLOOKUP('Титульный лист'!$C$22,'Проверочный лист'!$J$3:$AL$55,26,FALSE)),0,VLOOKUP('Титульный лист'!$C$22,'Проверочный лист'!$J$3:$AL$55,26,FALSE))","v":357},0,34,{"$f":"IF(S13>0,\"гр.13+гр.14 > гр.12 по строке \"&R13,\"ОК\")","v":"ОК"},"сумма граф.13+14 должна быть меньше или равна гр.12 по всем строкам",{"$f":"IF(S13>0,INDEX($C$10:$C$17,S13,1),CHAR(151))","v":"—"},{"$f":"IF(ISERROR(MATCH(FALSE,T13:AA13,0)),0,MATCH(FALSE,T13:AA13,0))","v":0},{"$f":"IF(OR(SUM($N10:$O10)<>0,$M10<>0),SUM($N10:$O10)<=$M10,TRUE)","v":true},{"$f":"IF(OR(SUM($N11:$O11)<>0,$M11<>0),SUM($N11:$O11)<=$M11,TRUE)","v":true},{"$f":"IF(OR(SUM($N12:$O12)<>0,$M12<>0),SUM($N12:$O12)<=$M12,TRUE)","v":true},{"$f":"IF(OR(SUM($N13:$O13)<>0,$M13<>0),SUM($N13:$O13)<=$M13,TRUE)","v":true},{"$f":"IF(OR(SUM($N14:$O14)<>0,$M14<>0),SUM($N14:$O14)<=$M14,TRUE)","v":true},{"$f":"IF(OR(SUM($N15:$O15)<>0,$M15<>0),SUM($N15:$O15)<=$M15,TRUE)","v":true},{"$f":"IF(OR(SUM($N16:$O16)<>0,$M16<>0),SUM($N16:$O16)<=$M16,TRUE)","v":true},{"$f":"IF(OR(SUM($N17:$O17)<>0,$M17<>0),SUM($N17:$O17)<=$M17,TRUE)","v":true}]
[null,"60-64",5,896,590,{"$f":"'профосмотры 124н'!D13","v":0},{"$f":"'ДВН-124н'!D13","v":199},{"$f":"IF(ISERROR(VLOOKUP('Титульный лист'!$C$22,'Проверочный лист'!$J$3:$AL$55,6,FALSE)),0,VLOOKUP('Титульный лист'!$C$22,'Проверочный лист'!$J$3:$AL$55,6,FALSE))","v":439},{"$f":"IF(ISERROR(VLOOKUP('Титульный лист'!$C$22,'Проверочный лист'!$J$3:$AL$55,13,FALSE)),0,VLOOKUP('Титульный лист'!$C$22,'Проверочный лист'!$J$3:$AL$55,13,FALSE))","v":273},null,43,{"$f":"IF(ISERROR(VLOOKUP('Титульный лист'!$C$22,'Проверочный лист'!$J$3:$AL$55,20,FALSE)),0,VLOOKUP('Титульный лист'!$C$22,'Проверочный лист'!$J$3:$AL$55,20,FALSE))","v":457},{"$f":"IF(ISERROR(VLOOKUP('Титульный лист'!$C$22,'Проверочный лист'!$J$3:$AL$55,27,FALSE)),0,VLOOKUP('Титульный лист'!$C$22,'Проверочный лист'!$J$3:$AL$55,27,FALSE))","v":317},null,156]
[null,"65-74",6,890,493,null,{"$f":"'ДВН-124н'!D14","v":225},{"$f":"IF(ISERROR(VLOOKUP('Титульный лист'!$C$22,'Проверочный лист'!$J$3:$AL$55,7,FALSE)),0,VLOOKUP('Титульный лист'!$C$22,'Проверочный лист'!$J$3:$AL$55,7,FALSE))","v":434},{"$f":"IF(ISERROR(VLOOKUP('Титульный лист'!$C$22,'Проверочный лист'!$J$3:$AL$55,14,FALSE)),0,VLOOKUP('Титульный лист'!$C$22,'Проверочный лист'!$J$3:$AL$55,14,FALSE))","v":237},null,73,{"$f":"IF(ISERROR(VLOOKUP('Титульный лист'!$C$22,'Проверочный лист'!$J$3:$AL$55,21,FALSE)),0,VLOOKUP('Титульный лист'!$C$22,'Проверочный лист'!$J$3:$AL$55,21,FALSE))","v":456},{"$f":"IF(ISERROR(VLOOKUP('Титульный лист'!$C$22,'Проверочный лист'!$J$3:$AL$55,28,FALSE)),0,VLOOKUP('Титульный лист'!$C$22,'Проверочный лист'!$J$3:$AL$55,28,FALSE))","v":256},null,152]
[null,"75 и старше",7,1137,975,null,{"$f":"'ДВН-124н'!D15","v":309},{"$f":"IF(ISERROR(VLOOKUP('Титульный лист'!$C$22,'Проверочный лист'!$J$3:$AL$55,8,FALSE)),0,VLOOKUP('Титульный лист'!$C$22,'Проверочный лист'!$J$3:$AL$55,8,FALSE))","v":489},{"$f":"IF(ISERROR(VLOOKUP('Титульный лист'!$C$22,'Проверочный лист'!$J$3:$AL$55,15,FALSE)),0,VLOOKUP('Титульный лист'!$C$22,'Проверочный лист'!$J$3:$AL$55,15,FALSE))","v":445},null,55,{"$f":"IF(ISERROR(VLOOKUP('Титульный лист'!$C$22,'Проверочный лист'!$J$3:$AL$55,22,FALSE)),0,VLOOKUP('Титульный лист'!$C$22,'Проверочный лист'!$J$3:$AL$55,22,FALSE))","v":648},{"$f":"IF(ISERROR(VLOOKUP('Титульный лист'!$C$22,'Проверочный лист'!$J$3:$AL$55,29,FALSE)),0,VLOOKUP('Титульный лист'!$C$22,'Проверочный лист'!$J$3:$AL$55,29,FALSE))","v":530},null,254]
[null,"Всего",8,{"$f":"SUM(D10:D16)","v":14885},{"$f":"SUM(E10:E16)","v":5858},{"$f":"SUM(F10:F14)","v":391},{"$f":"SUM(G10:G16)","v":1075},{"$f":"SUM(H10:H16)","v":6508},2694,{"$f":"SUM(J10:J14)","v":176},313,8377,3164,215,762]
[null,null,null,null,{"$f":"E17-'ДВН и профосмотр_общая '!A11-'ДВН и профосмотр_общая '!AD11","v":0},{"$f":"F17-'ДВН и профосмотр_общая '!AF11","v":0},{"$f":"G17-'ДВН и профосмотр_общая '!G11","v":0}]
[null,"(1001)",null,null,null," Код по ОКЕИ: человек - 792",null,null,null,"Заполните только желтые поля"]
[null,"Число лиц в трудоспособном возрасте прошло:"]
[null," диспансеризацию определенных групп взрослого населения всего 1",null,null,null,null,{"$f":"SUM('ДВН и профосмотр_общая '!AW12:AY12)","v":342},",",null,null,null,null,null,null,null,{"$f":"IF(OR(D22<>0,SUM(O10:O12)<>0),IF(D22>=SUM(O10:O12),\"ОК\",\"гр.2 табл.1001 < стр.1+стр.2+стр.3 гр.14 табл.1000 \"),\"ОК\")","v":"ОК"}]
[null," в том числе: женщин          2 ",null,{"$f":"G21-D23","v":200},",",null,"Сумма строк  с 1 по 4 по графе 6 должна быть меньше графы 1 табл.(1001)",null,null,null,null,null,null,null,null,{"$f":"IF(OR(D22<>0,SUM(O10:O13)<>0),IF(D22<=SUM(O10:O13),\"ОК\",\"гр.2 табл.1001 > стр.1+стр.2+стр.3+стр.4 гр.14 табл.1000 \"),\"ОК\")","v":"ОК"},"гр.2 табл.1001  должна быть больше или равна  суммы строк с 1 по 3  гр.14 табл.1000, но меньше или равна суммы строк с 1 по 4 по гр.14 табл.1000"]
[null,"мужчин                                       3 ",null,{"$f":"G21-SUM(O10:O13)","v":142},";",null,null,null,null,null,null,null,null,null,null,{"$f":"IF(OR(D23<>0,SUM(K10:K13)<>0),IF(D23>=SUM(K10:K13),\"ОК\",\"гр.3 табл.1001 < стр.1+стр.2+стр.3+стр.4 гр.10 табл.1000 \"),\"ОК\")","v":"ОК"},"гр.3 табл.1001  должна быть больше или равна суммы строк с 1 по 4, но меньше или равна суммы строк с 1 по 5 по гр.10 табл.1000"]
[null,null,null,null,null,null,null,null,null,null,null,null,null,null,null,{"$f":"IF(OR(D23<>0,SUM(K10:K14)<>0),IF(D23<=SUM(K10:K14),\"ОК\",\"гр.3 табл.1001 > стр.1+стр.2+стр.3+стр.4+стр.5 гр.10 табл.1000 \"),\"ОК\")","v":"ОК"}]
[null,"профилактический медицинский осмотр всего                                             4 ",null,null,null,null,{"$f":"SUM('ДВН и профосмотр_общая '!AW13:AY13)","v":391},",",null,null,null,null,null,null,null,{"$f":"IF(OR(D26<>0,SUM(N10:N12)<>0),IF(D26>=SUM(N10:N12),\"ОК\",\"гр.5 табл.1001 < стр.1+стр.2+стр.3 гр.13 табл.1000 \"),\"ОК\")","v":"ОК"}]
[null," в том числе: женщин           5 ",null,{"$f":"G25-D27","v":215},",",null,null,null,null,null,null,null,null,null,null,{"$f":"IF(OR(D26<>0,SUM(N10:N13)<>0),IF(D26<=SUM(N10:N13),\"ОК\",\"гр.5 табл.1001 > стр.1+стр.2+стр.3+стр.4 гр.13 табл.1000 \"),\"ОК\")","v":"ОК"},"гр.5 табл.1001  должна быть больше или равна  суммы строк с 1 по 3  гр.13 табл.1000, но меньше или равна суммы строк с 1 по 4 по гр.13 табл.1000"]
[null,"мужчин                                       6 ",null,{"$f":"$J$17","v":176},";",null,null,null,null,null,null,null,null,null,null,{"$f":"IF(OR(D27<>0,SUM(J10:J13)<>0),IF(D27>=SUM(J10:J13),\"ОК\",\"гр.6 табл.1001 < стр.1+стр.2+стр.3+стр.4 гр.9 табл.1000 \"),\"ОК\")","v":"ОК"},"гр.6 табл.1001  должна быть больше или равна суммы строк с 1 по 4, но меньше или равна суммы строк с 1 по 5 по гр.9 табл.1000"]
[null,null,null,null,null,null,null,null,null,null,null,null,null,null,null,{"$f":"IF(OR(D27<>0,SUM(J10:J14)<>0),IF(D27<=SUM(J10:J14),\"ОК\",\"гр.6 табл.1001 > стр.1+стр.2+стр.3+стр.4+стр.5 гр.9 табл.1000 \"),\"ОК\")","v":"ОК"}]

{"sheet":"2000","index":2,"n_rows":27,"n_cols":7,"rows_kept":27,"cut":false,"hidden":true,"merged":[[1,0,1,6],[5,0,26,0]]}
[{"$f":"AND('Титульный лист'!$D$14<>\"\",'Титульный лист'!$C$22<>\"\",'Титульный лист'!$B$29<>\"\",'Титульный лист'!$B$30<>\"\",'Титульный лист'!$B$31<>\"\",'Титульный лист'!$B$32<>\"\",'Титульный лист'!$B$33<>\"\")","v":true}]
["Сведения о приёмах (осмотрах), консультациях, исследованиях и иных медицинских вмешательствах, входящих в объем профилактического медицинского осмотра и первого этапа диспансеризации"]
["(2000)",null,null,null,null," Код по ОКЕИ: едицица - 642"]
[null,"Приём (осмотр), консультация, исследование и иное медицинское вмешательство (далее - медицинское мероприятие), входящее в объем профилактического медицинского осмотра/первого этапа диспансеризации","N  строки","Проведено медицинских мероприятий","Учтено из числа выполненных ранее (в предшествующие 12 мес.)","Число отказов","Выявлены патологические состояния"]
[null,1,2,3,4,5,6]
[null,"Опрос (анкетирование)",1,{"$f":"SUM('1000, 1001'!$F$17:$G$17)","v":1466},"X",null,1287]
[null,"Расчет на основании антропометрии (измерение роста, массы тела, окружности талии) индекса массы тела",2,{"$f":"SUM('1000, 1001'!$F$17:$G$17)-E7-F7","v":1466},null,null,516]
[null,"Измерение артериального давления на периферических артериях",3,{"$f":"SUM('1000, 1001'!$F$17:$G$17)-E8-F8","v":1466},null,null,72]
[null,"Определение уровня общего холестерина в крови",4,{"$f":"SUM('1000, 1001'!$F$17:$G$17)-E9-F9","v":1427},39,null,480]
[null,"Определение уровня глюкозы в крови натощак",5,{"$f":"SUM('1000, 1001'!$F$17:$G$17)-E10-F10","v":1428},38,null,217]
[null,"Определение относительного сердечно-сосудистого риска",6,415,null,null,88]
[null,"Определение абсолютного сердечно-сосудистого риска",7,455,null,null,63]
[null,"Флюорография легких или рентгенография легких",8,357,338,null,13]
[null,"Электрокардиография в покое",9,1112,47,null,174]
[null,"Измерение внутриглазного давления",10,1031,20,null,4]
[null,"Осмотр фельдшером (акушеркой) или врачом акушером-гинекологом",11,777]
[null,"Взятие с использованием щетки цитологической цервикальной мазка (соскоба) с поверхности шейки матки (наружного маточного зева) и цервикального канала на цитологическое исследование, цитологическое исследование мазка с шейки матки",12,76,14]
[null,"Маммография обеих молочных желез в двух проекциях",13,157,20,9,1]
[null,"Исследование кала на скрытую кровь иммунохимическим методом",14,594,19,null,71]
[null,"Определение простат-специфического антигена в крови",15,48,3]
[null,"Эзофагогастродуоденоскопия",16,6]
[null,"Общий анализ крови",17,1051,28]
[null,"Краткое индивидуальное профилактическое консультирование",18,1121]
[null,"Прием (осмотр) по результатам профилактического медицинского осмотра фельдшером фельдшерского здравпункта или фельдшерско-акушерского пункта, врачом-терапевтом или врачом по медицинской профилактике отделения (кабинета) медицинской профилактики или центра здоровья граждан в возрасте 18 лет и старше, 1 раз в год",19,{"$f":"'1000, 1001'!F17","v":391},"X",null,98]
[null,"Прием (осмотр) врачом-терапевтом по результатам первого этапа диспансеризации:                                                                                                                                           а) граждан в возрасте от 18 лет до 39 лет 1 раз в 3 года","19.1",{"$f":"SUM('1000, 1001'!$G$10:$G$11)","v":165},"X",null,63]
[null,"б) граждан в возрасте 40 лет и старше 1 раз в год","19.2",{"$f":"SUM('1000, 1001'!$G$12:$G$16)","v":910},"X",null,270]
[null,"Осмотр на выявление визуальных и иных локализаций онкологических заболеваний, включающий осмотр кожных покровов, слизистых губ и ротовой полости, пальпацию щитовидной железы, лимфатических узлов",20,{"$f":"SUM('1000, 1001'!$F$17:$G$17)","v":1466},"X",null,636]

{"sheet":"2001, 3000","index":3,"n_rows":29,"n_cols":8,"rows_kept":29,"cut":false,"hidden":true,"merged":[[7,6,8,6],[7,7,8,7],[2,1,2,3],[7,4,7,5],[7,1,8,1],[7,2,8,2],[7,3,8,3]]}
[{"$f":"AND('Титульный лист'!$D$14<>\"\",'Титульный лист'!$C$22<>\"\",'Титульный лист'!$B$29<>\"\",'Титульный лист'!$B$30<>\"\",'Титульный лист'!$B$31<>\"\",'Титульный лист'!$B$32<>\"\",'Титульный лист'!$B$33<>\"\")","v":true}]
[null,"(2001)"]
[null,"Число лиц, которые по результатам первого этапа диспансеризации направлены на второй этап ___________.",null,null,{"$f":"'ДВН и профосмотр_общая '!$AB$11","v":452}]
[]
[null,"Сведения о приёмах (осмотрах), медицинских исследованиях и иных медицинских вмешательствах второго этапа диспансеризации"]
[]
[null,"(3000)",null,null,null," Код по ОКЕИ: едицица - 642"]
[null,"Медицинское вмешательство, входящее в объем второго этапа диспансеризации","N   строки","Число лиц с выявленными медицинскими показаниями в рамках первого этапа диспансеризации","Число выполненных медицинских мероприятий",null,"Число отказов","Впервые выявлено заболевание или патологическое состояние"]
[null,null,null,null,"в рамках диспансеризации","проведено ранее (в предшествующие 12 мес.)"]
[null,1,2,3,4,5,6,7]
[null,"Осмотр (консультация) врачом-неврологом",1,{"$f":"SUM(E11:G11)","v":6},6,null,null,6]
[null,"Дуплексное сканирование брахиоцефальных артерий",2,0]
[null,"Осмотр (консультация) врачом-хирургом или врачом-урологом",3,1,1,null,null,1]
[null,"Осмотр (консультация) врачом-хирургом или врачом-колопроктологом, включая проведение ректороманоскопии",4,7,7,null,null,7]
[null,"Колоноскопия",5,0]
[null,"Эзофагогастродуоденоскопия",6,2,2,null,null,2]
[null,"Рентгенография легких",7,149,149,null,null,149]
[null,"Компьютерная томография легких",8,0]
[null,"Спирометрия",9,41,41,null,null,41]
[null,"Осмотр (консультация) врачом акушером-гинекологом",10,3,3,null,null,3]
[null,"Осмотр (консультация) врачом-оториноларингологом",11,5,5,null,null,5]
[null,"Осмотр (консультация) врачом-офтальмологом",12,8,8,null,null,8]
[null,"Индивидуальное или групповое (школа для пациентов) углубленное профилактическое консультирование для граждан:",13,0,{"$f":"SUM(E24:E27)","v":0},{"$f":"SUM(F24:F27)","v":0},{"$f":"SUM(G24:G27)","v":0},"X"]
[null,"с выявленными ишемической болезнью сердца, цереброваскулярными заболеваниями, хронической ишемией нижних конечностей атеросклеротического генеза или болезнями, характеризующимися повышенным кровяным давлением","13.1",0,null,null,null,"X"]
[null,"с выявленным по результатам анкетирования риском пагубного потребления алкоголя и (или) потребления наркотических средств и психотропных веществ без назначения врача","13.2",0,null,null,null,"X"]
[null,"в возрасте 65 лет и старше в целях коррекции выявленных факторов риска и (или) профилактики старческой астении","13.3",0,null,null,null,"X"]
[null,"при выявлении высокого относительного, высокого и очень высокого абсолютного сердечно-сосудистого риска, и (или) ожирения, и (или) гиперхолестеринемии с уровнем общего холестерина 8 ммоль/л и более, а также установленном по результатам анкетирования курении более 20 сигарет в день, риске пагубного потребления алкоголя и (или) риске немедицинского потребления наркотических средств и психотропных веществ","13.4",0,null,null,null,"X"]
[null,"Прием (осмотр) врачом-терапевтом по результатам второго этапа диспансеризации",14,{"$f":"E28","v":322},{"$f":"'3001, 3002, 3003'!Q4","v":322},null,null,222]
[null,"Направление на осмотр (консультацию) врачом-онкологом при подозрении на онкологические заболевания",15,0]

{"sheet":"3001, 3002, 3003","index":4,"n_rows":12,"n_cols":18,"rows_kept":12,"cut":false,"hidden":true,"merged":[[3,1,3,15],[7,1,7,15],[11,1,11,15],[0,1,0,16]]}
[{"$f":"AND('Титульный лист'!$D$14<>\"\",'Титульный лист'!$C$22<>\"\",'Титульный лист'!$B$29<>\"\",'Титульный лист'!$B$30<>\"\",'Титульный лист'!$B$31<>\"\",'Титульный лист'!$B$32<>\"\",'Титульный лист'!$B$33<>\"\")","v":true}]
[null,"(3001)",null,null,null,null,null,null,null,null,null,null," Код по ОКЕИ: человек - 792"]
[]
[null,"Число лиц, прошедших полностью все мероприятия второго этапа диспансеризации, на которые они были направлены по результатам первого этапа",null,null,null,null,null,null,null,null,null,null,null,null,null,null,{"$f":"'ДВН и профосмотр_общая '!$AC$11","v":322},";"]
[]
[null,"(3002)",null,null,null,null,null,null,null,null,null,null," Код по ОКЕИ: человек - 792"]
[]
[null,"Число лиц, прошедших частично (не все рекомендованные) мероприятия второго этапа диспансеризации, на которые они были направлены по результатам первого этапа",null,null,null,null,null,null,null,null,null,null,null,null,null,null,{"$f":"'ДВН и профосмотр_общая '!AB11-'ДВН и профосмотр_общая '!AC11-Q12","v":130},";"]
[]
[null,"(3003)",null,null,null,null,null,null,null,null,null,null," Код по ОКЕИ: человек - 792"]
[]
[null,"Число лиц, не прошедших ни одного мероприятия второго этапа диспансеризации, на которые они были направлены по результатам первого этапа",null,null,null,null,null,null,null,null,null,null,null,null,null,null,null,";"]

{"sheet":"4000,4001","index":5,"n_rows":31,"n_cols":15,"rows_kept":31,"cut":false,"hidden":true,"merged":[[28,14,30,15],[6,0,22,0],[1,1,1,12],[3,7,3,9],[3,10,3,12],[3,1,4,1],[3,2,4,2],[3,3,4,3],[3,4,3,6]]}
[{"$f":"AND('Титульный лист'!$D$14<>\"\",'Титульный лист'!$C$22<>\"\",'Титульный лист'!$B$29<>\"\",'Титульный лист'!$B$30<>\"\",'Титульный лист'!$B$31<>\"\",'Титульный лист'!$B$32<>\"\",'Титульный лист'!$B$33<>\"\")","v":true}]
[null,"Сведения о выявленных при проведении профилактического медицинского осмотра (диспансеризации) факторах риска и других патологических состояниях и заболеваниях, повышающих вероятность развития хронических неинфекционных заболеваний (далее - факторы риска)"]
[null,"(4000)",null,null,null,null,null,null,null," Код по ОКЕИ: человек - 792"]
[null,"Наименование факторов риска и других патологических состояний и заболеваний","Код МКБ-10 1","N строки","Все взрослое население  в том числе:",null,null,"Мужчины в том числе:",null,null,"Женщины в том числе:"]
[null,null,null,null,"Всего","в трудоспособном возрасте","в возрасте старше трудоспособного","Всего","в трудоспособном возрасте","в возрасте старше трудоспособного","Всего","в трудоспособном возрасте","в возрасте старше трудоспособного"]
[null,1,2,3,4,5,6,7,8,9,10,11,12]
[null,"Гиперхолестеринемия","Е78",1,{"$f":"SUM(H7+K7)","v":480},{"$f":"SUM(I7+L7)","v":145},{"$f":"SUM(J7+M7)","v":335},184,83,101,296,62,234]
[null,"Гипергликемия","R73.9",2,{"$f":"SUM(H8+K8)","v":217},{"$f":"SUM(I8+L8)","v":44},{"$f":"SUM(J8+M8)","v":173},81,28,53,136,16,120]
[null,"Курение табака","Z72.0",3,240,166,74,226,154,72,14,12,2]
[null,"Нерациональное питание","Z72.4",4,508,204,304,238,129,109,270,75,195]
[null,"Избыточная масса тела","R63.5",5,516,221,295,264,141,123,252,80,172]
[null,"Ожирение","Е66",6,472,157,315,157,80,77,315,77,238]
[null,"Низкая физическая активность","Z72.3",7,422,127,295,177,71,106,245,56,189]
[null,"Риск пагубного потребления алкоголя","Z72.1",8,30,21,9,30,21,9]
[null,"Риск потребления наркотических средств и психотропных веществ без назначения врача","Z72.2",9,7,1,6,2,1,1,5,null,5]
[null,"Отягощенная наследственность по инфаркту  миокарда","Z82.4",10,343,140,203,160,69,91,183,71,112]
[null,"Отягощенная наследственность по мозговому  инсульту","Z82.3",11,0,0,0]
[null,"Отягощенная наследственность по ЗНО колоректальной области","Z80.0",12,0,0,0]
[null,"Отягощенная наследственность по ЗНО по другим локализациям","Z80.9",13,68,33,35,41,20,21,27,13,14]
[null,"Отягощенная наследственность по хроническим болезням нижних дыхательных путей","Z82.5",14,47,25,22,23,15,8,24,10,14]
[null,"Отягощенная наследственность по сахарному диабету","Z83.3",15,62,35,27,28,18,10,34,17,17]
[null,"Высокий (5% и более) или очень высокий (10% и более) абсолютный сердечно-сосудистый риск","-",16,63,31,32,34,19,15,29,12,17]
[null,"Высокий (более 1 ед.) относительный сердечно-сосудистый риск","-",17,88,88,0,45,45,null,43,43]
[null,"Старческая астения","R54",18,0,0,0]
[]
[null,"(4001)"]
[null,"Число лиц, у которых по строкам 03, 04, 07, 08, 09 отсутствуют факторы риска ",null,null,null,null,null,null,63,";"]
[]
[null,"Число граждан, у которых выявлены факторы риска",null,null,{"$f":"SUM(E7:E11)+SUM(E13:E15)+SUM(E24)","v":2420},{"$f":"SUM(F7:F11)+SUM(F13:F15)+SUM(F24)","v":929},{"$f":"SUM(G7:G11)+SUM(G13:G15)+SUM(G24)","v":1491},null,null,null,null,null,null,null,"Новое!"]
[]
[null,"в том числ при ДВН",null,null,59]

{"sheet":"5000 и 5001 ДВН","index":6,"n_rows":84,"n_cols":90,"rows_kept":84,"cut":false,"hidden":true,"merged":[[80,1,80,11],[3,10,3,11],[10,3,11,3],[12,3,13,3],[14,3,15,3],[3,4,3,5],[18,3,19,3],[3,8,3,9],[26,3,28,3],[29,3,31,3],[32,3,33,3],[16,3,17,3],[20,3,21,3],[0,1,0,13],[2,1,4,1],[2,2,4,2],[2,3,4,3],[2,4,2,7],[2,8,2,13],[3,6,3,7],[3,12,3,13]]}
[{"$f":"AND('Титульный лист'!$D$14<>\"\",'Титульный лист'!$C$22<>\"\",'Титульный лист'!$B$29<>\"\",'Титульный лист'!$B$30<>\"\",'Титульный лист'!$B$31<>\"\",'Титульный лист'!$B$32<>\"\",'Титульный лист'!$B$33<>\"\")","v":true},"Заболевания, выявленные при проведении профилактического медицинского осмотра (диспансеризации), установление диспансерного наблюдения"]
[null,"(5000)",null,null,null,null,null,null,null,null,"Код по ОКЕИ: единица - 642"]
[null,"Наименование классов и отдельных заболеваний","N строки","Код МКБ-10","Выявлено заболеваний",null,null,null,"из них: с впервые в жизни установленным диагнозом"]
[null,null,null,null,"всего",null,"в том числе:",null,"всего",null,"в трудоспособном возрасте",null,"в возрасте старше трудоспособного"]
[null,null,null,null,"всего","из них: установлено диспансерное наблюдение","В трудоспособном возрасте","В возрасте старше трудоспособного","всего","из них: установлено диспансерное наблюдение","всего","из них: установлено диспансерное наблюдение","всего","из них: установлено диспансерное наблюдение","Проверка","Сделать проверку на соответствие значений с  гр 4 и 8, 5 и 9, 6 и 10, 7 и 12, в паре второе число д. б. <= первого по всем строкам "]
[null,1,2,3,4,5,6,7,8,9,10,11,12,13]
[null,"Некоторые инфекционные и паразитарные болезни ",1,"А00-В99",{"$f":"G7+H7","v":1},1,1,null,{"$f":"K7+M7","v":0},{"$f":"L7+N7","v":0},null,null,null,null,{"$f":"IF(Q7>0,\"гр.4 >= гр.8 по строке \"&P7,\"ОК\")","v":"ОК"},{"$f":"IF(Q7>0,INDEX($C$7:$C$78,Q7,1),CHAR(151))","v":"—"},{"$f":"IF(ISERROR(MATCH(FALSE,S7:CL7,0)),0,MATCH(FALSE,S7:CL7,0))","v":0},null,{"$f":"IF(OR($E7<>0,$I7<>0),$E7>=$I7,TRUE)","v":true},{"$f":"IF(OR($E8<>0,$I8<>0),$E8>=$I8,TRUE)","v":true},{"$f":"IF(OR($E9<>0,$I9<>0),$E9>=$I9,TRUE)","v":true},{"$f":"IF(OR($E10<>0,$I10<>0),$E10>=$I10,TRUE)","v":true},{"$f":"IF(OR($E11<>0,$I11<>0),$E11>=$I11,TRUE)","v":true},{"$f":"IF(OR($E12<>0,$I12<>0),$E12>=$I12,TRUE)","v":true},{"$f":"IF(OR($E13<>0,$I13<>0),$E13>=$I13,TRUE)","v":true},{"$f":"IF(OR($E14<>0,$I14<>0),$E14>=$I14,TRUE)","v":true},{"$f":"IF(OR($E15<>0,$I15<>0),$E15>=$I15,TRUE)","v":true},{"$f":"IF(OR($E16<>0,$I16<>0),$E16>=$I16,TRUE)","v":true},{"$f":"IF(OR($E17<>0,$I17<>0),$E17>=$I17,TRUE)","v":true},{"$f":"IF(OR($E18<>0,$I18<>0),$E18>=$I18,TRUE)","v":true},{"$f":"IF(OR($E19<>0,$I19<>0),$E19>=$I19,TRUE)","v":true},{"$f":"IF(OR($E20<>0,$I20<>0),$E20>=$I20,TRUE)","v":true},{"$f":"IF(OR($E21<>0,$I21<>0),$E21>=$I21,TRUE)","v":true},{"$f":"IF(OR($E22<>0,$I22<>0),$E22>=$I22,TRUE)","v":true},{"$f":"IF(OR($E23<>0,$I23<>0),$E23>=$I23,TRUE)","v":true},{"$f":"IF(OR($E24<>0,$I24<>0),$E24>=$I24,TRUE)","v":true},{"$f":"IF(OR($E25<>0,$I25<>0),$E25>=$I25,TRUE)","v":true},{"$f":"IF(OR($E26<>0,$I26<>0),$E26>=$I26,TRUE)","v":true},{"$f":"IF(OR($E27<>0,$I27<>0),$E27>=$I27,TRUE)","v":true},{"$f":"IF(OR($E28<>0,$I28<>0),$E28>=$I28,TRUE)","v":true},{"$f":"IF(OR($E29<>0,$I29<>0),$E29>=$I29,TRUE)","v":true},{"$f":"IF(OR($E30<>0,$I30<>0),$E30>=$I30,TRUE)","v":true},{"$f":"IF(OR($E31<>0,$I31<>0),$E31>=$I31,TRUE)","v":true},{"$f":"IF(OR($E32<>0,$I32<>0),$E32>=$I32,TRUE)","v":true},{"$f":"IF(OR($E33<>0,$I33<>0),$E33>=$I33,TRUE)","v":true},{"$f":"IF(OR($E34<>0,$I34<>0),$E34>=$I34,TRUE)","v":true},{"$f":"IF(OR($E35<>0,$I35<>0),$E35>=$I35,TRUE)","v":true},{"$f":"IF(OR($E36<>0,$I36<>0),$E36>=$I36,TRUE)","v":true},{"$f":"IF(OR($E37<>0,$I37<>0),$E37>=$I37,TRUE)","v":true},{"$f":"IF(OR($E38<>0,$I38<>0),$E38>=$I38,TRUE)","v":true},{"$f":"IF(OR($E39<>0,$I39<>0),$E39>=$I39,TRUE)","v":true},{"$f":"IF(OR($E40<>0,$I40<>0),$E40>=$I40,TRUE)","v":true},{"$f":"IF(OR($E41<>0,$I41<>0),$E41>=$I41,TRUE)","v":true},{"$f":"IF(OR($E42<>0,$I42<>0),$E42>=$I42,TRUE)","v":true},{"$f":"IF(OR($E43<>0,$I43<>0),$E43>=$I43,TRUE)","v":true},{"$f":"IF(OR($E44<>0,$I44<>0),$E44>=$I44,TRUE)","v":true},{"$f":"IF(OR($E45<>0,$I45<>0),$E45>=$I45,TRUE)","v":true},{"$f":"IF(OR($E46<>0,$I46<>0),$E46>=$I46,TRUE)","v":true},{"$f":"IF(OR($E47<>0,$I47<>0),$E47>=$I47,TRUE)","v":true},{"$f":"IF(OR($E48<>0,$I48<>0),$E48>=$I48,TRUE)","v":true},{"$f":"IF(OR($E49<>0,$I49<>0),$E49>=$I49,TRUE)","v":true},{"$f":"IF(OR($E50<>0,$I50<>0),$E50>=$I50,TRUE)","v":true},{"$f":"IF(OR($E51<>0,$I51<>0),$E51>=$I51,TRUE)","v":true},{"$f":"IF(OR($E52<>0,$I52<>0),$E52>=$I52,TRUE)","v":true},{"$f":"IF(OR($E53<>0,$I53<>0),$E53>=$I53,TRUE)","v":true},{"$f":"IF(OR($E54<>0,$I54<>0),$E54>=$I54,TRUE)","v":true},{"$f":"IF(OR($E55<>0,$I55<>0),$E55>=$I55,TRUE)","v":true},{"$f":"IF(OR($E56<>0,$I56<>0),$E56>=$I56,TRUE)","v":true},{"$f":"IF(OR($E57<>0,$I57<>0),$E57>=$I57,TRUE)","v":true},{"$f":"IF(OR($E58<>0,$I58<>0),$E58>=$I58,TRUE)","v":true},{"$f":"IF(OR($E59<>0,$I59<>0),$E59>=$I59,TRUE)","v":true},{"$f":"IF(OR($E60<>0,$I60<>0),$E60>=$I60,TRUE)","v":true},{"$f":"IF(OR($E61<>0,$I61<>0),$E61>=$I61,TRUE)","v":true},{"$f":"IF(OR($E62<>0,$I62<>0),$E62>=$I62,TRUE)","v":true},{"$f":"IF(OR($E63<>0,$I63<>0),$E63>=$I63,TRUE)","v":true},{"$f":"IF(OR($E64<>0,$I64<>0),$E64>=$I64,TRUE)","v":true},{"$f":"IF(OR($E65<>0,$I65<>0),$E65>=$I65,TRUE)","v":true},{"$f":"IF(OR($E66<>0,$I66<>0),$E66>=$I66,TRUE)","v":true},{"$f":"IF(OR($E67<>0,$I67<>0),$E67>=$I67,TRUE)","v":true},{"$f":"IF(OR($E68<>0,$I68<>0),$E68>=$I68,TRUE)","v":true},{"$f":"IF(OR($E69<>0,$I69<>0),$E69>=$I69,TRUE)","v":true},{"$f":"IF(OR($E70<>0,$I70<>0),$E70>=$I70,TRUE)","v":true},{"$f":"IF(OR($E71<>0,$I71<>0),$E71>=$I71,TRUE)","v":true},{"$f":"IF(OR($E72<>0,$I72<>0),$E72>=$I72,TRUE)","v":true},{"$f":"IF(OR($E73<>0,$I73<>0),$E73>=$I73,TRUE)","v":true},{"$f":"IF(OR($E74<>0,$I74<>0),$E74>=$I74,TRUE)","v":true},{"$f":"IF(OR($E75<>0,$I75<>0),$E75>=$I75,TRUE)","v":true},{"$f":"IF(OR($E76<>0,$I76<>0),$E76>=$I76,TRUE)","v":true},{"$f":"IF(OR($E77<>0,$I77<>0),$E77>=$I77,TRUE)","v":true},{"$f":"IF(OR($E78<>0,$I78<>0),$E78>=$I78,TRUE)","v":true}]
[null,"в том числе: туберкулез ","1.1","А15-А19",{"$f":"G8+H8","v":1},1,1,null,{"$f":"K8+M8","v":0},0,null,null,null,null,{"$f":"IF(Q8>0,\"гр.5 >= гр.9 по строке \"&P8,\"ОК\")","v":"ОК"},{"$f":"IF(Q8>0,INDEX($C$7:$C$78,Q8,1),CHAR(151))","v":"—"},{"$f":"IF(ISERROR(MATCH(FALSE,S8:CL8,0)),0,MATCH(FALSE,S8:CL8,0))","v":0},null,{"$f":"IF(OR($F7<>0,$J7<>0),$F7>=$J7,TRUE)","v":true},{"$f":"IF(OR($F8<>0,$J8<>0),$F8>=$J8,TRUE)","v":true},{"$f":"IF(OR($F9<>0,$J9<>0),$F9>=$J9,TRUE)","v":true},{"$f":"IF(OR($F10<>0,$J10<>0),$F10>=$J10,TRUE)","v":true},{"$f":"IF(OR($F11<>0,$J11<>0),$F11>=$J11,TRUE)","v":true},{"$f":"IF(OR($F12<>0,$J12<>0),$F12>=$J12,TRUE)","v":true},{"$f":"IF(OR($F13<>0,$J13<>0),$F13>=$J13,TRUE)","v":true},{"$f":"IF(OR($F14<>0,$J14<>0),$F14>=$J14,TRUE)","v":true},{"$f":"IF(OR($F15<>0,$J15<>0),$F15>=$J15,TRUE)","v":true},{"$f":"IF(OR($F16<>0,$J16<>0),$F16>=$J16,TRUE)","v":true},{"$f":"IF(OR($F17<>0,$J17<>0),$F17>=$J17,TRUE)","v":true},{"$f":"IF(OR($F18<>0,$J18<>0),$F18>=$J18,TRUE)","v":true},{"$f":"IF(OR($F19<>0,$J19<>0),$F19>=$J19,TRUE)","v":true},{"$f":"IF(OR($F20<>0,$J20<>0),$F20>=$J20,TRUE)","v":true},{"$f":"IF(OR($F21<>0,$J21<>0),$F21>=$J21,TRUE)","v":true},{"$f":"IF(OR($F22<>0,$J22<>0),$F22>=$J22,TRUE)","v":true},{"$f":"IF(OR($F23<>0,$J23<>0),$F23>=$J23,TRUE)","v":true},{"$f":"IF(OR($F24<>0,$J24<>0),$F24>=$J24,TRUE)","v":true},{"$f":"IF(OR($F25<>0,$J25<>0),$F25>=$J25,TRUE)","v":true},{"$f":"IF(OR($F26<>0,$J26<>0),$F26>=$J26,TRUE)","v":true},{"$f":"IF(OR($F27<>0,$J27<>0),$F27>=$J27,TRUE)","v":true},{"$f":"IF(OR($F28<>0,$J28<>0),$F28>=$J28,TRUE)","v":true},{"$f":"IF(OR($F29<>0,$J29<>0),$F29>=$J29,TRUE)","v":true},{"$f":"IF(OR($F30<>0,$J30<>0),$F30>=$J30,TRUE)","v":true},{"$f":"IF(OR($F31<>0,$J31<>0),$F31>=$J31,TRUE)","v":true},{"$f":"IF(OR($F32<>0,$J32<>0),$F32>=$J32,TRUE)","v":true},{"$f":"IF(OR($F33<>0,$J33<>0),$F33>=$J33,TRUE)","v":true},{"$f":"IF(OR($F34<>0,$J34<>0),$F34>=$J34,TRUE)","v":true},{"$f":"IF(OR($F35<>0,$J35<>0),$F35>=$J35,TRUE)","v":true},{"$f":"IF(OR($F36<>0,$J36<>0),$F36>=$J36,TRUE)","v":true},{"$f":"IF(OR($F37<>0,$J37<>0),$F37>=$J37,TRUE)","v":true},{"$f":"IF(OR($F38<>0,$J38<>0),$F38>=$J38,TRUE)","v":true},{"$f":"IF(OR($F39<>0,$J39<>0),$F39>=$J39,TRUE)","v":true},{"$f":"IF(OR($F40<>0,$J40<>0),$F40>=$J40,TRUE)","v":true},{"$f":"IF(OR($F41<>0,$J41<>0),$F41>=$J41,TRUE)","v":true},{"$f":"IF(OR($F42<>0,$J42<>0),$F42>=$J42,TRUE)","v":true},{"$f":"IF(OR($F43<>0,$J43<>0),$F43>=$J43,TRUE)","v":true},{"$f":"IF(OR($F44<>0,$J44<>0),$F44>=$J44,TRUE)","v":true},{"$f":"IF(OR($F45<>0,$J45<>0),$F45>=$J45,TRUE)","v":true},{"$f":"IF(OR($F46<>0,$J46<>0),$F46>=$J46,TRUE)","v":true},{"$f":"IF(OR($F47<>0,$J47<>0),$F47>=$J47,TRUE)","v":true},{"$f":"IF(OR($F48<>0,$J48<>0),$F48>=$J48,TRUE)","v":true},{"$f":"IF(OR($F49<>0,$J49<>0),$F49>=$J49,TRUE)","v":true},{"$f":"IF(OR($F50<>0,$J50<>0),$F50>=$J50,TRUE)","v":true},{"$f":"IF(OR($F51<>0,$J51<>0),$F51>=$J51,TRUE)","v":true},{"$f":"IF(OR($F52<>0,$J52<>0),$F52>=$J52,TRUE)","v":true},{"$f":"IF(OR($F53<>0,$J53<>0),$F53>=$J53,TRUE)","v":true},{"$f":"IF(OR($F54<>0,$J54<>0),$F54>=$J54,TRUE)","v":true},{"$f":"IF(OR($F55<>0,$J55<>0),$F55>=$J55,TRUE)","v":true},{"$f":"IF(OR($F56<>0,$J56<>0),$F56>=$J56,TRUE)","v":true},{"$f":"IF(OR($F57<>0,$J57<>0),$F57>=$J57,TRUE)","v":true},{"$f":"IF(OR($F58<>0,$J58<>0),$F58>=$J58,TRUE)","v":true},{"$f":"IF(OR($F59<>0,$J59<>0),$F59>=$J59,TRUE)","v":true},{"$f":"IF(OR($F60<>0,$J60<>0),$F60>=$J60,TRUE)","v":true},{"$f":"IF(OR($F61<>0,$J61<>0),$F61>=$J61,TRUE)","v":true},{"$f":"IF(OR($F62<>0,$J62<>0),$F62>=$J62,TRUE)","v":true},{"$f":"IF(OR($F63<>0,$J63<>0),$F63>=$J63,TRUE)","v":true},{"$f":"IF(OR($F64<>0,$J64<>0),$F64>=$J64,TRUE)","v":true},{"$f":"IF(OR($F65<>0,$J65<>0),$F65>=$J65,TRUE)","v":true},{"$f":"IF(OR($F66<>0,$J66<>0),$F66>=$J66,TRUE)","v":true},{"$f":"IF(OR($F67<>0,$J67<>0),$F67>=$J67,TRUE)","v":true},{"$f":"IF(OR($F68<>0,$J68<>0),$F68>=$J68,TRUE)","v":true},{"$f":"IF(OR($F69<>0,$J69<>0),$F69>=$J69,TRUE)","v":true},{"$f":"IF(OR($F70<>0,$J70<>0),$F70>=$J70,TRUE)","v":true},{"$f":"IF(OR($F71<>0,$J71<>0),$F71>=$J71,TRUE)","v":true},{"$f":"IF(OR($F72<>0,$J72<>0),$F72>=$J72,TRUE)","v":true},{"$f":"IF(OR($F73<>0,$J73<>0),$F73>=$J73,TRUE)","v":true},{"$f":"IF(OR($F74<>0,$J74<>0),$F74>=$J74,TRUE)","v":true},{"$f":"IF(OR($F75<>0,$J75<>0),$F75>=$J75,TRUE)","v":true},{"$f":"IF(OR($F76<>0,$J76<>0),$F76>=$J76,TRUE)","v":true},{"$f":"IF(OR($F77<>0,$J77<>0),$F77>=$J77,TRUE)","v":true},{"$f":"IF(OR($F78<>0,$J78<>0),$F78>=$J78,TRUE)","v":true}]
[null,"Новообразования ",2,"C00-D48",3,3,1,2,0,0,null,null,null,null,{"$f":"IF(Q9>0,\"гр.6 >= гр.10 по строке \"&P9,\"ОК\")","v":"ОК"},{"$f":"IF(Q9>0,INDEX($C$7:$C$78,Q9,1),CHAR(151))","v":"—"},{"$f":"IF(ISERROR(MATCH(FALSE,S9:CL9,0)),0,MATCH(FALSE,S9:CL9,0))","v":0},null,{"$f":"IF(OR($G7<>0,$K7<>0),$G7>=$K7,TRUE)","v":true},{"$f":"IF(OR($G8<>0,$K8<>0),$G8>=$K8,TRUE)","v":true},{"$f":"IF(OR($G9<>0,$K9<>0),$G9>=$K9,TRUE)","v":true},{"$f":"IF(OR($G10<>0,$K10<>0),$G10>=$K10,TRUE)","v":true},{"$f":"IF(OR($G11<>0,$K11<>0),$G11>=$K11,TRUE)","v":true},{"$f":"IF(OR($G12<>0,$K12<>0),$G12>=$K12,TRUE)","v":true},{"$f":"IF(OR($G13<>0,$K13<>0),$G13>=$K13,TRUE)","v":true},{"$f":"IF(OR($G14<>0,$K14<>0),$G14>=$K14,TRUE)","v":true},{"$f":"IF(OR($G15<>0,$K15<>0),$G15>=$K15,TRUE)","v":true},{"$f":"IF(OR($G16<>0,$K16<>0),$G16>=$K16,TRUE)","v":true},{"$f":"IF(OR($G17<>0,$K17<>0),$G17>=$K17,TRUE)","v":true},{"$f":"IF(OR($G18<>0,$K18<>0),$G18>=$K18,TRUE)","v":true},{"$f":"IF(OR($G19<>0,$K19<>0),$G19>=$K19,TRUE)","v":true},{"$f":"IF(OR($G20<>0,$K20<>0),$G20>=$K20,TRUE)","v":true},{"$f":"IF(OR($G21<>0,$K21<>0),$G21>=$K21,TRUE)","v":true},{"$f":"IF(OR($G22<>0,$K22<>0),$G22>=$K22,TRUE)","v":true},{"$f":"IF(OR($G23<>0,$K23<>0),$G23>=$K23,TRUE)","v":true},{"$f":"IF(OR($G24<>0,$K24<>0),$G24>=$K24,TRUE)","v":true},{"$f":"IF(OR($G25<>0,$K25<>0),$G25>=$K25,TRUE)","v":true},{"$f":"IF(OR($G26<>0,$K26<>0),$G26>=$K26,TRUE)","v":true},{"$f":"IF(OR($G27<>0,$K27<>0),$G27>=$K27,TRUE)","v":true},{"$f":"IF(OR($G28<>0,$K28<>0),$G28>=$K28,TRUE)","v":true},{"$f":"IF(OR($G29<>0,$K29<>0),$G29>=$K29,TRUE)","v":true},{"$f":"IF(OR($G30<>0,$K30<>0),$G30>=$K30,TRUE)","v":true},{"$f":"IF(OR($G31<>0,$K31<>0),$G31>=$K31,TRUE)","v":true},{"$f":"IF(OR($G32<>0,$K32<>0),$G32>=$K32,TRUE)","v":true},{"$f":"IF(OR($G33<>0,$K33<>0),$G33>=$K33,TRUE)","v":true},{"$f":"IF(OR($G34<>0,$K34<>0),$G34>=$K34,TRUE)","v":true},{"$f":"IF(OR($G35<>0,$K35<>0),$G35>=$K35,TRUE)","v":true},{"$f":"IF(OR($G36<>0,$K36<>0),$G36>=$K36,TRUE)","v":true},{"$f":"IF(OR($G37<>0,$K37<>0),$G37>=$K37,TRUE)","v":true},{"$f":"IF(OR($G38<>0,$K38<>0),$G38>=$K38,TRUE)","v":true},{"$f":"IF(OR($G39<>0,$K39<>0),$G39>=$K39,TRUE)","v":true},{"$f":"IF(OR($G40<>0,$K40<>0),$G40>=$K40,TRUE)","v":true},{"$f":"IF(OR($G41<>0,$K41<>0),$G41>=$K41,TRUE)","v":true},{"$f":"IF(OR($G42<>0,$K42<>0),$G42>=$K42,TRUE)","v":true},{"$f":"IF(OR($G43<>0,$K43<>0),$G43>=$K43,TRUE)","v":true},{"$f":"IF(OR($G44<>0,$K44<>0),$G44>=$K44,TRUE)","v":true},{"$f":"IF(OR($G45<>0,$K45<>0),$G45>=$K45,TRUE)","v":true},{"$f":"IF(OR($G46<>0,$K46<>0),$G46>=$K46,TRUE)","v":true},{"$f":"IF(OR($G47<>0,$K47<>0),$G47>=$K47,TRUE)","v":true},{"$f":"IF(OR($G48<>0,$K48<>0),$G48>=$K48,TRUE)","v":true},{"$f":"IF(OR($G49<>0,$K49<>0),$G49>=$K49,TRUE)","v":true},{"$f":"IF(OR($G50<>0,$K50<>0),$G50>=$K50,TRUE)","v":true},{"$f":"IF(OR($G51<>0,$K51<>0),$G51>=$K51,TRUE)","v":true},{"$f":"IF(OR($G52<>0,$K52<>0),$G52>=$K52,TRUE)","v":true},{"$f":"IF(OR($G53<>0,$K53<>0),$G53>=$K53,TRUE)","v":true},{"$f":"IF(OR($G54<>0,$K54<>0),$G54>=$K54,TRUE)","v":true},{"$f":"IF(OR($G55<>0,$K55<>0),$G55>=$K55,TRUE)","v":true},{"$f":"IF(OR($G56<>0,$K56<>0),$G56>=$K56,TRUE)","v":true},{"$f":"IF(OR($G57<>0,$K57<>0),$G57>=$K57,TRUE)","v":true},{"$f":"IF(OR($G58<>0,$K58<>0),$G58>=$K58,TRUE)","v":true},{"$f":"IF(OR($G59<>0,$K59<>0),$G59>=$K59,TRUE)","v":true},{"$f":"IF(OR($G60<>0,$K60<>0),$G60>=$K60,TRUE)","v":true},{"$f":"IF(OR($G61<>0,$K61<>0),$G61>=$K61,TRUE)","v":true},{"$f":"IF(OR($G62<>0,$K62<>0),$G62>=$K62,TRUE)","v":true},{"$f":"IF(OR($G63<>0,$K63<>0),$G63>=$K63,TRUE)","v":true},{"$f":"IF(OR($G64<>0,$K64<>0),$G64>=$K64,TRUE)","v":true},{"$f":"IF(OR($G65<>0,$K65<>0),$G65>=$K65,TRUE)","v":true},{"$f":"IF(OR($G66<>0,$K66<>0),$G66>=$K66,TRUE)","v":true},{"$f":"IF(OR($G67<>0,$K67<>0),$G67>=$K67,TRUE)","v":true},{"$f":"IF(OR($G68<>0,$K68<>0),$G68>=$K68,TRUE)","v":true},{"$f":"IF(OR($G69<>0,$K69<>0),$G69>=$K69,TRUE)","v":true},{"$f":"IF(OR($G70<>0,$K70<>0),$G70>=$K70,TRUE)","v":true},{"$f":"IF(OR($G71<>0,$K71<>0),$G71>=$K71,TRUE)","v":true},{"$f":"IF(OR($G72<>0,$K72<>0),$G72>=$K72,TRUE)","v":true},{"$f":"IF(OR($G73<>0,$K73<>0),$G73>=$K73,TRUE)","v":true},{"$f":"IF(OR($G74<>0,$K74<>0),$G74>=$K74,TRUE)","v":true},{"$f":"IF(OR($G75<>0,$K75<>0),$G75>=$K75,TRUE)","v":true},{"$f":"IF(OR($G76<>0,$K76<>0),$G76>=$K76,TRUE)","v":true},{"$f":"IF(OR($G77<>0,$K77<>0),$G77>=$K77,TRUE)","v":true},{"$f":"IF(OR($G78<>0,$K78<>0),$G78>=$K78,TRUE)","v":true}]
[null,"Злокачественные новообразования","2.1","C00 - С97",3,3,1,2,0,0,{"$f":"'ДВН-124н'!$N$8-$M$10","v":0},{"$f":"'ДВН-124н'!N19","v":0},{"$f":"'ДВН-124н'!$N$17","v":0},{"$f":"'ДВН-124н'!$N$20","v":0},{"$f":"IF(Q10>0,\"гр.7 >= гр.12 по строке \"&P10,\"ОК\")","v":"ОК"},{"$f":"IF(Q10>0,INDEX($C$7:$C$78,Q10,1),CHAR(151))","v":"—"},{"$f":"IF(ISERROR(MATCH(FALSE,S10:CL10,0)),0,MATCH(FALSE,S10:CL10,0))","v":0},null,{"$f":"IF(OR($H7<>0,$M7<>0),$H7>=$M7,TRUE)","v":true},{"$f":"IF(OR($H8<>0,$M8<>0),$H8>=$M8,TRUE)","v":true},{"$f":"IF(OR($H9<>0,$M9<>0),$H9>=$M9,TRUE)","v":true},{"$f":"IF(OR($H10<>0,$M10<>0),$H10>=$M10,TRUE)","v":true},{"$f":"IF(OR($H11<>0,$M11<>0),$H11>=$M11,TRUE)","v":true},{"$f":"IF(OR($H12<>0,$M12<>0),$H12>=$M12,TRUE)","v":true},{"$f":"IF(OR($H13<>0,$M13<>0),$H13>=$M13,TRUE)","v":true},{"$f":"IF(OR($H14<>0,$M14<>0),$H14>=$M14,TRUE)","v":true},{"$f":"IF(OR($H15<>0,$M15<>0),$H15>=$M15,TRUE)","v":true},{"$f":"IF(OR($H16<>0,$M16<>0),$H16>=$M16,TRUE)","v":true},{"$f":"IF(OR($H17<>0,$M17<>0),$H17>=$M17,TRUE)","v":true},{"$f":"IF(OR($H18<>0,$M18<>0),$H18>=$M18,TRUE)","v":true},{"$f":"IF(OR($H19<>0,$M19<>0),$H19>=$M19,TRUE)","v":true},{"$f":"IF(OR($H20<>0,$M20<>0),$H20>=$M20,TRUE)","v":true},{"$f":"IF(OR($H21<>0,$M21<>0),$H21>=$M21,TRUE)","v":true},{"$f":"IF(OR($H22<>0,$M22<>0),$H22>=$M22,TRUE)","v":true},{"$f":"IF(OR($H23<>0,$M23<>0),$H23>=$M23,TRUE)","v":true},{"$f":"IF(OR($H24<>0,$M24<>0),$H24>=$M24,TRUE)","v":true},{"$f":"IF(OR($H25<>0,$M25<>0),$H25>=$M25,TRUE)","v":true},{"$f":"IF(OR($H26<>0,$M26<>0),$H26>=$M26,TRUE)","v":true},{"$f":"IF(OR($H27<>0,$M27<>0),$H27>=$M27,TRUE)","v":true},{"$f":"IF(OR($H28<>0,$M28<>0),$H28>=$M28,TRUE)","v":true},{"$f":"IF(OR($H29<>0,$M29<>0),$H29>=$M29,TRUE)","v":true},{"$f":"IF(OR($H30<>0,$M30<>0),$H30>=$M30,TRUE)","v":true},{"$f":"IF(OR($H31<>0,$M31<>0),$H31>=$M31,TRUE)","v":true},{"$f":"IF(OR($H32<>0,$M32<>0),$H32>=$M32,TRUE)","v":true},{"$f":"IF(OR($H33<>0,$M33<>0),$H33>=$M33,TRUE)","v":true},{"$f":"IF(OR($H34<>0,$M34<>0),$H34>=$M34,TRUE)","v":true},{"$f":"IF(OR($H35<>0,$M35<>0),$H35>=$M35,TRUE)","v":true},{"$f":"IF(OR($H36<>0,$M36<>0),$H36>=$M36,TRUE)","v":true},{"$f":"IF(OR($H37<>0,$M37<>0),$H37>=$M37,TRUE)","v":true},{"$f":"IF(OR($H38<>0,$M38<>0),$H38>=$M38,TRUE)","v":true},{"$f":"IF(OR($H39<>0,$M39<>0),$H39>=$M39,TRUE)","v":true},{"$f":"IF(OR($H40<>0,$M40<>0),$H40>=$M40,TRUE)","v":true},{"$f":"IF(OR($H41<>0,$M41<>0),$H41>=$M41,TRUE)","v":true},{"$f":"IF(OR($H42<>0,$M42<>0),$H42>=$M42,TRUE)","v":true},{"$f":"IF(OR($H43<>0,$M43<>0),$H43>=$M43,TRUE)","v":true},{"$f":"IF(OR($H44<>0,$M44<>0),$H44>=$M44,TRUE)","v":true},{"$f":"IF(OR($H45<>0,$M45<>0),$H45>=$M45,TRUE)","v":true},{"$f":"IF(OR($H46<>0,$M46<>0),$H46>=$M46,TRUE)","v":true},{"$f":"IF(OR($H47<>0,$M47<>0),$H47>=$M47,TRUE)","v":true},{"$f":"IF(OR($H48<>0,$M48<>0),$H48>=$M48,TRUE)","v":true},{"$f":"IF(OR($H49<>0,$M49<>0),$H49>=$M49,TRUE)","v":true},{"$f":"IF(OR($H50<>0,$M50<>0),$H50>=$M50,TRUE)","v":true},{"$f":"IF(OR($H51<>0,$M51<>0),$H51>=$M51,TRUE)","v":true},{"$f":"IF(OR($H52<>0,$M52<>0),$H52>=$M52,TRUE)","v":true},{"$f":"IF(OR($H53<>0,$M53<>0),$H53>=$M53,TRUE)","v":true},{"$f":"IF(OR($H54<>0,$M54<>0),$H54>=$M54,TRUE)","v":true},{"$f":"IF(OR($H55<>0,$M55<>0),$H55>=$M55,TRUE)","v":true},{"$f":"IF(OR($H56<>0,$M56<>0),$H56>=$M56,TRUE)","v":true},{"$f":"IF(OR($H57<>0,$M57<>0),$H57>=$M57,TRUE)","v":true},{"$f":"IF(OR($H58<>0,$M58<>0),$H58>=$M58,TRUE)","v":true},{"$f":"IF(OR($H59<>0,$M59<>0),$H59>=$M59,TRUE)","v":true},{"$f":"IF(OR($H60<>0,$M60<>0),$H60>=$M60,TRUE)","v":true},{"$f":"IF(OR($H61<>0,$M61<>0),$H61>=$M61,TRUE)","v":true},{"$f":"IF(OR($H62<>0,$M62<>0),$H62>=$M62,TRUE)","v":true},{"$f":"IF(OR($H63<>0,$M63<>0),$H63>=$M63,TRUE)","v":true},{"$f":"IF(OR($H64<>0,$M64<>0),$H64>=$M64,TRUE)","v":true},{"$f":"IF(OR($H65<>0,$M65<>0),$H65>=$M65,TRUE)","v":true},{"$f":"IF(OR($H66<>0,$M66<>0),$H66>=$M66,TRUE)","v":true},{"$f":"IF(OR($H67<>0,$M67<>0),$H67>=$M67,TRUE)","v":true},{"$f":"IF(OR($H68<>0,$M68<>0),$H68>=$M68,TRUE)","v":true},{"$f":"IF(OR($H69<>0,$M69<>0),$H69>=$M69,TRUE)","v":true},{"$f":"IF(OR($H70<>0,$M70<>0),$H70>=$M70,TRUE)","v":true},{"$f":"IF(OR($H71<>0,$M71<>0),$H71>=$M71,TRUE)","v":true},{"$f":"IF(OR($H72<>0,$M72<>0),$H72>=$M72,TRUE)","v":true},{"$f":"IF(OR($H73<>0,$M73<>0),$H73>=$M73,TRUE)","v":true},{"$f":"IF(OR($H74<>0,$M74<>0),$H74>=$M74,TRUE)","v":true},{"$f":"IF(OR($H75<>0,$M75<>0),$H75>=$M75,TRUE)","v":true},{"$f":"IF(OR($H76<>0,$M76<>0),$H76>=$M76,TRUE)","v":true},{"$f":"IF(OR($H77<>0,$M77<>0),$H77>=$M77,TRUE)","v":true},{"$f":"IF(OR($H78<>0,$M78<>0),$H78>=$M78,TRUE)","v":true}]
[null,"Из них губы, полости рта и глотки","2.2","C00 - С14",0,null,null,null,0,0,null,null,null,null,{"$f":"IF(Q11>0,\"стр.2.1 < суммы строк (2.2.+2.4+2.6+2.8+2.10+2.12+2.14+2.16+2.18+2.21+2.24) по графе \"&P11,\"ОК\")","v":"ОК"},{"$f":"IF(Q11>0,INDEX($F$6:$N$6,1,Q11),CHAR(151))","v":"—"},{"$f":"IF(ISERROR(MATCH(FALSE,S11:AA11,0)),0,MATCH(FALSE,S11:AA11,0))","v":0},"данные по строке 2.1 д.б. больше или равны суммы строк (2.2.+2.4+2.6+2.8+2.10+2.12+2.14+2.16+2.18+2.21+2.24) по всем графам",{"$f":"F10>=SUM(F11,F13,F15,F17,F19,F21,F23,F25,F27,F30,F33)","v":true},{"$f":"G10>=SUM(G11,G13,G15,G17,G19,G21,G23,G25,G27,G30,G33)","v":true},true,{"$f":"I10>=SUM(I11,I13,I15,I17,I19,I21,I23,I25,I27,I30,I33)","v":true},{"$f":"J10>=SUM(J11,J13,J15,J17,J19,J21,J23,J25,J27,J30,J33)","v":true},true,true,true,true]
[null,"из них в 1-2 стадии","2.3",null,0,null,null,null,0,0,null,null,null,null,{"$f":"IF(Q12>0,\"стр.2 < стр.2.1 по графе \"&P12,\"ОК\")","v":"ОК"},{"$f":"IF(Q12>0,INDEX($F$6:$N$6,1,Q12),CHAR(151))","v":"—"},{"$f":"IF(ISERROR(MATCH(FALSE,S12:AA12,0)),0,MATCH(FALSE,S12:AA12,0))","v":0},"строка 2 д.б больше или равна строке 2.1",{"$f":"F9>=F10","v":true},{"$f":"G9>=G10","v":true},true,true,true,true,true,true,true]
[null,"пищевода","2.4","С15",0,null,null,null,0,0]
[null,"из них в 1-2 стадии","2.5",null,0,null,null,null,0,0]
[null,"желудка","2.6","С16",0,null,null,null,0,0]
[null,"из них в 1-2 стадии","2.7",null,0,null,null,null,0,0]
[null,"тонкого кишечника","2.8","С17",0,null,null,null,0,0]
[null,"из них в 1-2 стадии","2.9",null,0,null,null,null,0,0]
[null,"ободочной кишки","2.10","С18",0,null,null,null,0,0]
[null,"из них в 1-2 стадии","2.11",null,0,null,null,null,0,0]
[null,"ректосигмоидного соединения, прямой кишки, заднего прохода (ануса) и анального канала","2.12","С19 - С21",1,1,1,null,0,0]
[null,"из них в 1-2 стадии","2.13",null,1,1,1,null,0,0]
[null,"трахеи, бронхов, легкого","2.14","C33,",0,null,null,null,0,0]
[null,"из них в 1-2 стадии","2.15","С34",0,null,null,null,0,0]
[null,"кожи","2.16","С43-",0,null,null,null,0,0]
[null,"из них в 1-2 стадии","2.17","С44",0,null,null,null,0,0]
[null,"молочной железы","2.18","С50",1,1,null,1,0,0]
[null,"из них в 0-1 стадии","2.19",null,0,null,null,null,0,0]
[null,"2 стадии","2.20",null,1,1,null,1,0,0]
[null,"шейки матки","2.21","С53",0,null,null,null,0,0]
[null,"из них в 0-1 стадии","2.22",null,0,null,null,null,0,0]
[null,"2 стадии","2.23",null,0,null,null,null,0,0]
[null,"предстательной железы","2.24","С61",1,1,null,1,0,0]
[null,"из них в 1-2 стадии","2.25",null,1,1,null,1,0,0]
[null,"Болезни крови, кроветворных органов и отдельные нарушения, вовлекающие иммунный механизм","3","D50-D89 ",0,1,null,null,0,0,null,null,null,null,{"$f":"IF(Q35>0,\"стр.3 < стр.3.1 по графе \"&P35,\"ОК\")","v":"ОК"},{"$f":"IF(Q35>0,INDEX($F$6:$N$6,1,Q35),CHAR(151))","v":"—"},{"$f":"IF(ISERROR(MATCH(FALSE,S35:AA35,0)),0,MATCH(FALSE,S35:AA35,0))","v":0},"данные по строке 3 должны быть больше или равны по соотв.графам строки 3.1",{"$f":"F35>=F36","v":true},{"$f":"G35>=G36","v":true},true,true,true,true,true,true,true]
[null,"в том числе: анемии, связанные с питанием, гемолитические анемии, апластические и другие анемии","3.1","D50-D64 ",0,1,null,null,0,0]
[null,"Болезни эндокринной системы, расстройства питания и нарушения обмена веществ ","4","Е00-Е90 ",205,137,46,159,11,11,null,null,11,11,{"$f":"IF(Q37>0,\"стр.4 < суммы строк(4.1+4.3+4.4) по графе \"&P37,\"ОК\")","v":"ОК"},{"$f":"IF(Q37>0,INDEX($F$6:$N$6,1,Q37),CHAR(151))","v":"—"},{"$f":"IF(ISERROR(MATCH(FALSE,S37:AA37,0)),0,MATCH(FALSE,S37:AA37,0))","v":0},"данные по строке 4 должны быть больше или равны по соотв.графам строки 4.1 и больше или равны суммы строк(4.1+4.3+4.4)",{"$f":"F37>=SUM(F38,F40:F41)","v":true},{"$f":"G37>=SUM(G38,G40:G41)","v":true},true,true,true,true,true,true,true]
[null,"Сахарный диабет","4.1","Е10 - Е14",103,97,9,94,11,11,{"$f":"'ДВН-124н'!$P$8-M38","v":0},{"$f":"'ДВН-124н'!$P$19","v":0},{"$f":"'ДВН-124н'!$P$17","v":11},{"$f":"'ДВН-124н'!$P$20","v":11}]
[null,"из него: инсулиннезависимый сахарный диабет","4.2","Е11",103,97,9,94,11,11,null,null,11,11]
[null,"ожирение ","4.3","Е66 ",58,29,20,38,0,0]
[null,"нарушения обмена липопротеинов и другие липидемии","4.4","Е78",29,7,11,18,0,0]
[null,"Болезни нервной системы ","5","G00-G99 ",138,11,94,44,0,0,null,null,null,null,{"$f":"IF(Q42>0,\"стр.5 < стр.5.1 по графе \"&P42,\"ОК\")","v":"ОК"},{"$f":"IF(Q42>0,INDEX($F$6:$N$6,1,Q42),CHAR(151))","v":"—"},{"$f":"IF(ISERROR(MATCH(FALSE,S42:AA42,0)),0,MATCH(FALSE,S42:AA42,0))","v":0},"данные по строке 5 должны быть больше или равны по соотв.графам строки 5.1",{"$f":"F42>=F43","v":true},{"$f":"G42>=G43","v":true},true,true,true,true,true,true,true]
[null,"Преходящие церебральные ишемические приступы (атаки) и родственные синдромы","5.1","G45",0,null,null,null,0,0]
[null,"Болезни глаза и его придаточного аппарата ","6","Н00-Н59 ",6,3,1,5,0,0,null,null,null,null,{"$f":"IF(Q44>0,\"стр.6 < суммы строк(6.1+6.2+6.3) по графе \"&P44,\"ОК\")","v":"ОК"},{"$f":"IF(Q44>0,INDEX($F$6:$N$6,1,Q44),CHAR(151))","v":"—"},{"$f":"IF(ISERROR(MATCH(FALSE,S44:AA44,0)),0,MATCH(FALSE,S44:AA44,0))","v":0},"данные по строке 6 должны быть больше или равны по соотв.графам суммы строк(6.1+6.2+6.3)",{"$f":"F44>=SUM(F45:F47)","v":true},true,true,true,true,true,true,true,true]
[null,"Старческая катаракта и другие катаракты","6.1","Н25, Н26",0,null,null,null,0,0]
[null,"Глаукома","6.2","Н40",5,2,1,4,0,0,{"$f":"'ДВН-124н'!$R$8-M46","v":0},{"$f":"'ДВН-124н'!$R$19","v":0},{"$f":"'ДВН-124н'!$R$17","v":0},{"$f":"'ДВН-124н'!$R$20","v":0}]
[null,"Слепота и пониженное зрение","6.3","Н54",1,1,null,1,0,0]
[null,"Болезни системы кровообращения ","7","I00-I99 ",1225,1260,137,1088,56,56,{"$f":"'ДВН-124н'!$M$8-$M$48","v":18},{"$f":"'ДВН-124н'!$M$19","v":18},{"$f":"'ДВН-124н'!$M$17","v":38},{"$f":"'ДВН-124н'!$M$20","v":38},{"$f":"IF(Q48>0,\"стр.7 < суммы строк(7.1+7.2+7.4+7.6) по графе \"&P48,\"ОК\")","v":"ОК"},{"$f":"IF(Q48>0,INDEX($F$6:$N$6,1,Q48),CHAR(151))","v":"—"},{"$f":"IF(ISERROR(MATCH(FALSE,S48:AA48,0)),0,MATCH(FALSE,S48:AA48,0))","v":0},"данные по строке 7  должны быть больше или равны по соотв.графам суммы строк(7.1+7.2+7.4+7.6)",{"$f":"F48>=SUM(F49:F50,F55,F59)","v":true},{"$f":"G48>=SUM(G49:G50,G55,G59)","v":true},true,true,true,true,true,true,true]
[null,"из них болезни, характеризующиеся повышенным кровяным давлением","7.1","I10 - I13",656,702,98,558,32,32,10,10,22,22]
[null,"ишемические болезни сердца","7.2","I20 - I25",387,{"$f":"F51+F53","v":403},{"$f":"G51+G53","v":23},{"$f":"H51+H53","v":364},{"$f":"I51+I53","v":24},24,{"$f":"K51+K53","v":8},{"$f":"L51+L53","v":8},{"$f":"M51+M53","v":16},{"$f":"N51+N53","v":16}]
[null,"в том числе: стенокардия (грудная жаба) ","7.2.1","I20 ",56,60,6,50,0,0]
[null,"в том числе нестабильная стенокардия ","7.2.2","I20.0 ",0,null,null,null,0,0]
[null,"хроническая ишемическая болезнь сердца ","7.3","I25 ",331,343,17,314,24,24,8,8,16,16]
[null,"в том числе: перенесенный в прошлом инфаркт миокарда ","7.3.1","I25.2",30,30,2,28,0,0]
[null,"другие болезни сердца ","7.4","I30-I52 ",63,63,2,61,0,0]
[null,"цереброваскулярные болезни","7.5","I60 - I69",102,84,10,92,0,0]
[null,"из них: закупорка и стеноз прецеребральных и (или) церебральных артерий, не приводящие к инфаркту мозга","7.5.1","I65, I66",2,2,null,2,0,0]
[null,"другие цереброваскулярные болезни ","7.5.2","I67 ",76,57,6,70,0,0]
[null,"аневризма брюшной аорты","7.6","I71.3-I71.4",0,null,null,null,0,0]
[null,"Болезни органов дыхания ","8.0","J00-J98 ",51,53,15,36,13,2,{"$f":"'ДВН-124н'!$S$8-M60","v":6},{"$f":"'ДВН-124н'!$S$19","v":1},{"$f":"'ДВН-124н'!$S$17","v":7},{"$f":"'ДВН-124н'!$S$20","v":1},{"$f":"IF(Q60>0,\"стр.8 < суммы строк(8.1+8.2+8.3) по графе \"&P60,\"ОК\")","v":"ОК"},{"$f":"IF(Q60>0,INDEX($F$6:$N$6,1,Q60),CHAR(151))","v":"—"},{"$f":"IF(ISERROR(MATCH(FALSE,S60:AA60,0)),0,MATCH(FALSE,S60:AA60,0))","v":0},"данные по строке 8  должны быть больше или равны по соотв.графам  суммы строк(8.1+8.2+8.3)",{"$f":"F60>=SUM(F61:F63)","v":true},{"$f":"G60>=SUM(G61:G63)","v":true},true,true,true,true,true,true,true]
[null,"в том числе: вирусная пневмония, пневмония, вызванная Streptococcus pneumonia, пневмония, вызванная Haemophilus influenza, бактериальная пневмония, пневмония, вызванная другими инфекционными возбудителями, пневмония при болезнях, классифицированных в других рубриках, пневмония без уточнения возбудителя","8.1","J12-J18 ",0,null,null,null,0,0]
[null,"Бронхит, не уточненный как острый и хронический, простой и слизисто-гнойный хронический бронхит, хронический бронхит неуточненный, эмфизема","8.2","J40 - J43",22,22,9,13,13,2,6,1,7,1]
[null,"Другая хроническая обструктивная легочная болезнь, астма, астматический статус, бронхоэктатическая болезнь","8.3","J44 - J47",29,31,6,23,0,0]
[null,"Болезни органов пищеварения ","9.0","К00-К93 ",68,49,32,36,13,0,{"$f":"'ДВН-124н'!$T$8-M64","v":5},{"$f":"'ДВН-124н'!$T$19","v":0},{"$f":"'ДВН-124н'!$T$17","v":8},{"$f":"'ДВН-124н'!$T$20","v":0},{"$f":"IF(Q64>0,\"стр.9 < суммы строк(9.1+9.2+9.3+9.4) по графе \"&P64,\"ОК\")","v":"ОК"},{"$f":"IF(Q64>0,INDEX($F$6:$N$6,1,Q64),CHAR(151))","v":"—"},{"$f":"IF(ISERROR(MATCH(FALSE,S64:AA64,0)),0,MATCH(FALSE,S64:AA64,0))","v":0},"данные по строке 9  должны быть больше или равны по соотв.графам  суммы строк(9.1+9.2+9.3+9.4)",{"$f":"F64>=SUM(F65:F68)","v":true},{"$f":"G64>=SUM(G65:G68)","v":true},true,true,true,true,true,true,true]
[null,"язва желудка, язва двенадцатиперстной кишки","9.1","K25, К26",15,11,9,6,0,0]
[null,"гастрит и дуоденит","9.2","K29",27,20,10,17,3,0,1,null,2]
[null,"неинфекционный энтерит и колит ","9.3","К50-К52 ",0,1,null,null,0,0]
[null,"другие болезни кишечника ","9.4","К55-К63 ",{"$f":"G68+H68","v":0},null,null,null,0,0]
[null,"Прочие заболевания","10.0",null,{"$f":"SUM(E70+E74+E76+E77)","v":435},{"$f":"SUM(F70+F74+F76+F77)","v":159},239,196,239,0,94,0,145,0,{"$f":"IF(Q69>0,\"стр.10.1 < суммы строк(10.1.1+10.1.2+10.1.3) по графе \"&P69,\"ОК\")","v":"ОК"},{"$f":"IF(Q69>0,INDEX($F$6:$N$6,1,Q69),CHAR(151))","v":"—"},{"$f":"IF(ISERROR(MATCH(FALSE,S69:AA69,0)),0,MATCH(FALSE,S69:AA69,0))","v":0},"данные по строке 10.1  должны быть больше или равны по соотв.графам  суммы строк(10.1.1+10.1.2+10.1.3)",{"$f":"F70>=SUM(F71:F73)","v":true},{"$f":"G70>=SUM(G71:G73)","v":true},true,true,true,true,true,true,true]
[null,"Болезни мочеполовой системы ","10.1","N00-N99 ",{"$f":"G70+H70","v":167},36,145,22,0,0]
[null,"в том числе: гиперплазия предстательной железы, воспалительные болезни предстательной железы, другие болезни предстательной железы","10.1.1","N40-N42 ",{"$f":"G71+H71","v":5},1,1,4,0,0]
[null,"доброкачественная дисплазия молочной железы ","10.1.2","N60 ",0,null,null,null,{"$f":"K72+M72","v":0},0]
[null,"воспалительные болезни женских тазовых органов ","10.1.3","N70-N77 ",0,null,null,null,0,0]
[null,"Болезни уха и сосцевидного отростка","11.0","Н60-Н95",0,null,null,null,0,0,null,null,null,null,{"$f":"IF(Q74>0,\"стр.11.0 < стр.11.1 по графе \"&P74,\"ОК\")","v":"ОК"},{"$f":"IF(Q74>0,INDEX($F$6:$N$6,1,Q74),CHAR(151))","v":"—"},{"$f":"IF(ISERROR(MATCH(FALSE,S74:AA74,0)),0,MATCH(FALSE,S74:AA74,0))","v":0},"строка 11.0 д.б больше или равна строке 11.1",{"$f":"F74>=F75","v":true},{"$f":"G74>=G75","v":true},true,true,true,true,true,true,true]
[null,"Кондуктивная и нейросенсорная потеря слуха","11.1","Н90",0,null,null,null,0,0]
[null,"Болезни кожи и подкожной клетчатки","12.0","L00-L98",0,null,null,null,0,0]
[null,"Болезни костно-мышечной системы","13.0","М00-М99",268,123,94,174,239,0,94,null,145]
[null,"ИТОГО заболеваний","14.0","А00-Т98",{"$f":"E7+E9+E35+E37+E42+E44+E48+E60+E64+E69","v":2132},{"$f":"F7+F9+F35+F37+F42+F44+F48+F60+F64+F69","v":1677},566,1566,332,69,123,19,209,50,{"$f":"IF(Q78>0,\"стр.14.0 ≠ стр.15.0 по графе \"&P78,\"ОК\")","v":"ОК"},{"$f":"IF(Q78>0,INDEX($F$6:$N$6,1,Q78),CHAR(151))","v":"—"},{"$f":"IF(ISERROR(MATCH(FALSE,S78:AA78,0)),0,MATCH(FALSE,S78:AA78,0))","v":0},"Данные строки 14.0 с 8 по13 графы должны быть равны строке 15.0 по тем же графам",true,true,true,{"$f":"I78=I79","v":true},true,true,true,true,true]
[null,"контрольные цифры","15.0",null,null,null,null,null,{"$f":"'ДВН-124н'!L8","v":332},{"$f":"'ДВН-124н'!$U$18","v":69},{"$f":"'ДВН-124н'!L8-'ДВН-124н'!L17","v":123},{"$f":"'ДВН-124н'!$U$19","v":19},{"$f":"'ДВН-124н'!$L$17","v":209},{"$f":"'ДВН-124н'!$U$20","v":50}]
[null,"(5001)",null,null,null,null,null,null,null,null," Код по ОКЕИ: человек - 792"]
[null,"Число лиц с артериальным давлением ниже 140/90 мм рт.ст. на фоне приема гипотензивных лекарственных препаратов, при наличии болезней, характеризующихся повышенным кровяным давлением (I10 - I15 по МКБ-10)",null,null,null,null,null,null,null,null,null,null,613,";"]
[]
[]
[null," "]

{"sheet":"5000 и 5001 ПО","index":7,"n_rows":84,"n_cols":90,"rows_kept":84,"cut":false,"hidden":true,"merged":[[80,1,80,11],[3,10,3,11],[10,3,11,3],[12,3,13,3],[14,3,15,3],[3,4,3,5],[18,3,19,3],[3,8,3,9],[26,3,28,3],[29,3,31,3],[32,3,33,3],[16,3,17,3],[20,3,21,3],[0,1,0,13],[2,1,4,1],[2,2,4,2],[2,3,4,3],[2,4,2,7],[2,8,2,13],[3,6,3,7],[3,12,3,13]]}
[{"$f":"AND('Титульный лист'!$D$14<>\"\",'Титульный лист'!$C$22<>\"\",'Титульный лист'!$B$29<>\"\",'Титульный лист'!$B$30<>\"\",'Титульный лист'!$B$31<>\"\",'Титульный лист'!$B$32<>\"\",'Титульный лист'!$B$33<>\"\")","v":true},"Заболевания, выявленные при проведении профилактического медицинского осмотра (диспансеризации), установление диспансерного наблюдения"]
[null,"(5000)",null,null,null,null,null,null,null,null,"Код по ОКЕИ: единица - 642"]
[null,"Наименование классов и отдельных заболеваний","N строки","Код МКБ-10","Выявлено заболеваний",null,null,null,"из них: с впервые в жизни установленным диагнозом"]
[null,null,null,null,"всего",null,"в том числе:",null,"всего",null,"в трудоспособном возрасте",null,"в возрасте старше трудоспособного"]
[null,null,null,null,"всего","из них: установлено диспансерное наблюдение","В трудоспособном возрасте","В возрасте старше трудоспособного","всего","из них: установлено диспансерное наблюдение","всего","из них: установлено диспансерное наблюдение","всего","из них: установлено диспансерное наблюдение","Проверка","Сделать проверку на соответствие значений с  гр 4 и 8, 5 и 9, 6 и 10, 7 и 12, в паре второе число д. б. <= первого по всем строкам "]
[null,1,2,3,4,5,6,7,8,9,10,11,12,13]
[null,"Некоторые инфекционные и паразитарные болезни ",1,"А00-В99",{"$f":"G7+H7","v":0},null,null,null,{"$f":"K7+M7","v":0},{"$f":"L7+N7","v":0},null,null,null,null,{"$f":"IF(Q7>0,\"гр.4 >= гр.8 по строке \"&P7,\"ОК\")","v":"ОК"},{"$f":"IF(Q7>0,INDEX($C$7:$C$78,Q7,1),CHAR(151))","v":"—"},{"$f":"IF(ISERROR(MATCH(FALSE,S7:CL7,0)),0,MATCH(FALSE,S7:CL7,0))","v":0},null,{"$f":"IF(OR($E7<>0,$I7<>0),$E7>=$I7,TRUE)","v":true},{"$f":"IF(OR($E8<>0,$I8<>0),$E8>=$I8,TRUE)","v":true},{"$f":"IF(OR($E9<>0,$I9<>0),$E9>=$I9,TRUE)","v":true},{"$f":"IF(OR($E10<>0,$I10<>0),$E10>=$I10,TRUE)","v":true},{"$f":"IF(OR($E11<>0,$I11<>0),$E11>=$I11,TRUE)","v":true},{"$f":"IF(OR($E12<>0,$I12<>0),$E12>=$I12,TRUE)","v":true},{"$f":"IF(OR($E13<>0,$I13<>0),$E13>=$I13,TRUE)","v":true},{"$f":"IF(OR($E14<>0,$I14<>0),$E14>=$I14,TRUE)","v":true},{"$f":"IF(OR($E15<>0,$I15<>0),$E15>=$I15,TRUE)","v":true},{"$f":"IF(OR($E16<>0,$I16<>0),$E16>=$I16,TRUE)","v":true},{"$f":"IF(OR($E17<>0,$I17<>0),$E17>=$I17,TRUE)","v":true},{"$f":"IF(OR($E18<>0,$I18<>0),$E18>=$I18,TRUE)","v":true},{"$f":"IF(OR($E19<>0,$I19<>0),$E19>=$I19,TRUE)","v":true},{"$f":"IF(OR($E20<>0,$I20<>0),$E20>=$I20,TRUE)","v":true},{"$f":"IF(OR($E21<>0,$I21<>0),$E21>=$I21,TRUE)","v":true},{"$f":"IF(OR($E22<>0,$I22<>0),$E22>=$I22,TRUE)","v":true},{"$f":"IF(OR($E23<>0,$I23<>0),$E23>=$I23,TRUE)","v":true},{"$f":"IF(OR($E24<>0,$I24<>0),$E24>=$I24,TRUE)","v":true},{"$f":"IF(OR($E25<>0,$I25<>0),$E25>=$I25,TRUE)","v":true},{"$f":"IF(OR($E26<>0,$I26<>0),$E26>=$I26,TRUE)","v":true},{"$f":"IF(OR($E27<>0,$I27<>0),$E27>=$I27,TRUE)","v":true},{"$f":"IF(OR($E28<>0,$I28<>0),$E28>=$I28,TRUE)","v":true},{"$f":"IF(OR($E29<>0,$I29<>0),$E29>=$I29,TRUE)","v":true},{"$f":"IF(OR($E30<>0,$I30<>0),$E30>=$I30,TRUE)","v":true},{"$f":"IF(OR($E31<>0,$I31<>0),$E31>=$I31,TRUE)","v":true},{"$f":"IF(OR($E32<>0,$I32<>0),$E32>=$I32,TRUE)","v":true},{"$f":"IF(OR($E33<>0,$I33<>0),$E33>=$I33,TRUE)","v":true},{"$f":"IF(OR($E34<>0,$I34<>0),$E34>=$I34,TRUE)","v":true},{"$f":"IF(OR($E35<>0,$I35<>0),$E35>=$I35,TRUE)","v":true},{"$f":"IF(OR($E36<>0,$I36<>0),$E36>=$I36,TRUE)","v":true},{"$f":"IF(OR($E37<>0,$I37<>0),$E37>=$I37,TRUE)","v":true},{"$f":"IF(OR($E38<>0,$I38<>0),$E38>=$I38,TRUE)","v":true},{"$f":"IF(OR($E39<>0,$I39<>0),$E39>=$I39,TRUE)","v":true},{"$f":"IF(OR($E40<>0,$I40<>0),$E40>=$I40,TRUE)","v":true},{"$f":"IF(OR($E41<>0,$I41<>0),$E41>=$I41,TRUE)","v":true},{"$f":"IF(OR($E42<>0,$I42<>0),$E42>=$I42,TRUE)","v":true},{"$f":"IF(OR($E43<>0,$I43<>0),$E43>=$I43,TRUE)","v":true},{"$f":"IF(OR($E44<>0,$I44<>0),$E44>=$I44,TRUE)","v":true},{"$f":"IF(OR($E45<>0,$I45<>0),$E45>=$I45,TRUE)","v":true},{"$f":"IF(OR($E46<>0,$I46<>0),$E46>=$I46,TRUE)","v":true},{"$f":"IF(OR($E47<>0,$I47<>0),$E47>=$I47,TRUE)","v":true},{"$f":"IF(OR($E48<>0,$I48<>0),$E48>=$I48,TRUE)","v":true},{"$f":"IF(OR($E49<>0,$I49<>0),$E49>=$I49,TRUE)","v":true},{"$f":"IF(OR($E50<>0,$I50<>0),$E50>=$I50,TRUE)","v":true},{"$f":"IF(OR($E51<>0,$I51<>0),$E51>=$I51,TRUE)","v":true},{"$f":"IF(OR($E52<>0,$I52<>0),$E52>=$I52,TRUE)","v":true},{"$f":"IF(OR($E53<>0,$I53<>0),$E53>=$I53,TRUE)","v":true},{"$f":"IF(OR($E54<>0,$I54<>0),$E54>=$I54,TRUE)","v":true},{"$f":"IF(OR($E55<>0,$I55<>0),$E55>=$I55,TRUE)","v":true},{"$f":"IF(OR($E56<>0,$I56<>0),$E56>=$I56,TRUE)","v":true},{"$f":"IF(OR($E57<>0,$I57<>0),$E57>=$I57,TRUE)","v":true},{"$f":"IF(OR($E58<>0,$I58<>0),$E58>=$I58,TRUE)","v":true},{"$f":"IF(OR($E59<>0,$I59<>0),$E59>=$I59,TRUE)","v":true},{"$f":"IF(OR($E60<>0,$I60<>0),$E60>=$I60,TRUE)","v":true},{"$f":"IF(OR($E61<>0,$I61<>0),$E61>=$I61,TRUE)","v":true},{"$f":"IF(OR($E62<>0,$I62<>0),$E62>=$I62,TRUE)","v":true},{"$f":"IF(OR($E63<>0,$I63<>0),$E63>=$I63,TRUE)","v":true},{"$f":"IF(OR($E64<>0,$I64<>0),$E64>=$I64,TRUE)","v":true},{"$f":"IF(OR($E65<>0,$I65<>0),$E65>=$I65,TRUE)","v":true},{"$f":"IF(OR($E66<>0,$I66<>0),$E66>=$I66,TRUE)","v":true},{"$f":"IF(OR($E67<>0,$I67<>0),$E67>=$I67,TRUE)","v":true},{"$f":"IF(OR($E68<>0,$I68<>0),$E68>=$I68,TRUE)","v":true},{"$f":"IF(OR($E69<>0,$I69<>0),$E69>=$I69,TRUE)","v":true},{"$f":"IF(OR($E70<>0,$I70<>0),$E70>=$I70,TRUE)","v":true},{"$f":"IF(OR($E71<>0,$I71<>0),$E71>=$I71,TRUE)","v":true},{"$f":"IF(OR($E72<>0,$I72<>0),$E72>=$I72,TRUE)","v":true},{"$f":"IF(OR($E73<>0,$I73<>0),$E73>=$I73,TRUE)","v":true},{"$f":"IF(OR($E74<>0,$I74<>0),$E74>=$I74,TRUE)","v":true},{"$f":"IF(OR($E75<>0,$I75<>0),$E75>=$I75,TRUE)","v":true},{"$f":"IF(OR($E76<>0,$I76<>0),$E76>=$I76,TRUE)","v":true},{"$f":"IF(OR($E77<>0,$I77<>0),$E77>=$I77,TRUE)","v":true},{"$f":"IF(OR($E78<>0,$I78<>0),$E78>=$I78,TRUE)","v":true}]
[null,"в том числе: туберкулез ","1.1","А15-А19",{"$f":"G8+H8","v":0},null,null,null,{"$f":"K8+M8","v":0},{"$f":"L8+N8","v":0},null,null,null,null,{"$f":"IF(Q8>0,\"гр.5 >= гр.9 по строке \"&P8,\"ОК\")","v":"ОК"},{"$f":"IF(Q8>0,INDEX($C$7:$C$78,Q8,1),CHAR(151))","v":"—"},{"$f":"IF(ISERROR(MATCH(FALSE,S8:CL8,0)),0,MATCH(FALSE,S8:CL8,0))","v":0},null,{"$f":"IF(OR($F7<>0,$J7<>0),$F7>=$J7,TRUE)","v":true},{"$f":"IF(OR($F8<>0,$J8<>0),$F8>=$J8,TRUE)","v":true},{"$f":"IF(OR($F9<>0,$J9<>0),$F9>=$J9,TRUE)","v":true},{"$f":"IF(OR($F10<>0,$J10<>0),$F10>=$J10,TRUE)","v":true},{"$f":"IF(OR($F11<>0,$J11<>0),$F11>=$J11,TRUE)","v":true},{"$f":"IF(OR($F12<>0,$J12<>0),$F12>=$J12,TRUE)","v":true},{"$f":"IF(OR($F13<>0,$J13<>0),$F13>=$J13,TRUE)","v":true},{"$f":"IF(OR($F14<>0,$J14<>0),$F14>=$J14,TRUE)","v":true},{"$f":"IF(OR($F15<>0,$J15<>0),$F15>=$J15,TRUE)","v":true},{"$f":"IF(OR($F16<>0,$J16<>0),$F16>=$J16,TRUE)","v":true},{"$f":"IF(OR($F17<>0,$J17<>0),$F17>=$J17,TRUE)","v":true},{"$f":"IF(OR($F18<>0,$J18<>0),$F18>=$J18,TRUE)","v":true},{"$f":"IF(OR($F19<>0,$J19<>0),$F19>=$J19,TRUE)","v":true},{"$f":"IF(OR($F20<>0,$J20<>0),$F20>=$J20,TRUE)","v":true},{"$f":"IF(OR($F21<>0,$J21<>0),$F21>=$J21,TRUE)","v":true},{"$f":"IF(OR($F22<>0,$J22<>0),$F22>=$J22,TRUE)","v":true},{"$f":"IF(OR($F23<>0,$J23<>0),$F23>=$J23,TRUE)","v":true},{"$f":"IF(OR($F24<>0,$J24<>0),$F24>=$J24,TRUE)","v":true},{"$f":"IF(OR($F25<>0,$J25<>0),$F25>=$J25,TRUE)","v":true},{"$f":"IF(OR($F26<>0,$J26<>0),$F26>=$J26,TRUE)","v":true},{"$f":"IF(OR($F27<>0,$J27<>0),$F27>=$J27,TRUE)","v":true},{"$f":"IF(OR($F28<>0,$J28<>0),$F28>=$J28,TRUE)","v":true},{"$f":"IF(OR($F29<>0,$J29<>0),$F29>=$J29,TRUE)","v":true},{"$f":"IF(OR($F30<>0,$J30<>0),$F30>=$J30,TRUE)","v":true},{"$f":"IF(OR($F31<>0,$J31<>0),$F31>=$J31,TRUE)","v":true},{"$f":"IF(OR($F32<>0,$J32<>0),$F32>=$J32,TRUE)","v":true},{"$f":"IF(OR($F33<>0,$J33<>0),$F33>=$J33,TRUE)","v":true},{"$f":"IF(OR($F34<>0,$J34<>0),$F34>=$J34,TRUE)","v":true},{"$f":"IF(OR($F35<>0,$J35<>0),$F35>=$J35,TRUE)","v":true},{"$f":"IF(OR($F36<>0,$J36<>0),$F36>=$J36,TRUE)","v":true},{"$f":"IF(OR($F37<>0,$J37<>0),$F37>=$J37,TRUE)","v":true},{"$f":"IF(OR($F38<>0,$J38<>0),$F38>=$J38,TRUE)","v":true},{"$f":"IF(OR($F39<>0,$J39<>0),$F39>=$J39,TRUE)","v":true},{"$f":"IF(OR($F40<>0,$J40<>0),$F40>=$J40,TRUE)","v":true},{"$f":"IF(OR($F41<>0,$J41<>0),$F41>=$J41,TRUE)","v":true},{"$f":"IF(OR($F42<>0,$J42<>0),$F42>=$J42,TRUE)","v":true},{"$f":"IF(OR($F43<>0,$J43<>0),$F43>=$J43,TRUE)","v":true},{"$f":"IF(OR($F44<>0,$J44<>0),$F44>=$J44,TRUE)","v":true},{"$f":"IF(OR($F45<>0,$J45<>0),$F45>=$J45,TRUE)","v":true},{"$f":"IF(OR($F46<>0,$J46<>0),$F46>=$J46,TRUE)","v":true},{"$f":"IF(OR($F47<>0,$J47<>0),$F47>=$J47,TRUE)","v":true},{"$f":"IF(OR($F48<>0,$J48<>0),$F48>=$J48,TRUE)","v":true},{"$f":"IF(OR($F49<>0,$J49<>0),$F49>=$J49,TRUE)","v":true},{"$f":"IF(OR($F50<>0,$J50<>0),$F50>=$J50,TRUE)","v":true},{"$f":"IF(OR($F51<>0,$J51<>0),$F51>=$J51,TRUE)","v":true},{"$f":"IF(OR($F52<>0,$J52<>0),$F52>=$J52,TRUE)","v":true},{"$f":"IF(OR($F53<>0,$J53<>0),$F53>=$J53,TRUE)","v":true},{"$f":"IF(OR($F54<>0,$J54<>0),$F54>=$J54,TRUE)","v":true},{"$f":"IF(OR($F55<>0,$J55<>0),$F55>=$J55,TRUE)","v":true},{"$f":"IF(OR($F56<>0,$J56<>0),$F56>=$J56,TRUE)","v":true},{"$f":"IF(OR($F57<>0,$J57<>0),$F57>=$J57,TRUE)","v":true},{"$f":"IF(OR($F58<>0,$J58<>0),$F58>=$J58,TRUE)","v":true},{"$f":"IF(OR($F59<>0,$J59<>0),$F59>=$J59,TRUE)","v":true},{"$f":"IF(OR($F60<>0,$J60<>0),$F60>=$J60,TRUE)","v":true},{"$f":"IF(OR($F61<>0,$J61<>0),$F61>=$J61,TRUE)","v":true},{"$f":"IF(OR($F62<>0,$J62<>0),$F62>=$J62,TRUE)","v":true},{"$f":"IF(OR($F63<>0,$J63<>0),$F63>=$J63,TRUE)","v":true},{"$f":"IF(OR($F64<>0,$J64<>0),$F64>=$J64,TRUE)","v":true},{"$f":"IF(OR($F65<>0,$J65<>0),$F65>=$J65,TRUE)","v":true},{"$f":"IF(OR($F66<>0,$J66<>0),$F66>=$J66,TRUE)","v":true},{"$f":"IF(OR($F67<>0,$J67<>0),$F67>=$J67,TRUE)","v":true},{"$f":"IF(OR($F68<>0,$J68<>0),$F68>=$J68,TRUE)","v":true},{"$f":"IF(OR($F69<>0,$J69<>0),$F69>=$J69,TRUE)","v":true},{"$f":"IF(OR($F70<>0,$J70<>0),$F70>=$J70,TRUE)","v":true},{"$f":"IF(OR($F71<>0,$J71<>0),$F71>=$J71,TRUE)","v":true},{"$f":"IF(OR($F72<>0,$J72<>0),$F72>=$J72,TRUE)","v":true},{"$f":"IF(OR($F73<>0,$J73<>0),$F73>=$J73,TRUE)","v":true},{"$f":"IF(OR($F74<>0,$J74<>0),$F74>=$J74,TRUE)","v":true},{"$f":"IF(OR($F75<>0,$J75<>0),$F75>=$J75,TRUE)","v":true},{"$f":"IF(OR($F76<>0,$J76<>0),$F76>=$J76,TRUE)","v":true},{"$f":"IF(OR($F77<>0,$J77<>0),$F77>=$J77,TRUE)","v":true},{"$f":"IF(OR($F78<>0,$J78<>0),$F78>=$J78,TRUE)","v":true}]
[null,"Новообразования ",2,"C00-D48",0,null,null,null,0,0,null,null,null,null,{"$f":"IF(Q9>0,\"гр.6 >= гр.10 по строке \"&P9,\"ОК\")","v":"ОК"},{"$f":"IF(Q9>0,INDEX($C$7:$C$78,Q9,1),CHAR(151))","v":"—"},{"$f":"IF(ISERROR(MATCH(FALSE,S9:CL9,0)),0,MATCH(FALSE,S9:CL9,0))","v":0},null,{"$f":"IF(OR($G7<>0,$K7<>0),$G7>=$K7,TRUE)","v":true},{"$f":"IF(OR($G8<>0,$K8<>0),$G8>=$K8,TRUE)","v":true},{"$f":"IF(OR($G9<>0,$K9<>0),$G9>=$K9,TRUE)","v":true},{"$f":"IF(OR($G10<>0,$K10<>0),$G10>=$K10,TRUE)","v":true},{"$f":"IF(OR($G11<>0,$K11<>0),$G11>=$K11,TRUE)","v":true},{"$f":"IF(OR($G12<>0,$K12<>0),$G12>=$K12,TRUE)","v":true},{"$f":"IF(OR($G13<>0,$K13<>0),$G13>=$K13,TRUE)","v":true},{"$f":"IF(OR($G14<>0,$K14<>0),$G14>=$K14,TRUE)","v":true},{"$f":"IF(OR($G15<>0,$K15<>0),$G15>=$K15,TRUE)","v":true},{"$f":"IF(OR($G16<>0,$K16<>0),$G16>=$K16,TRUE)","v":true},{"$f":"IF(OR($G17<>0,$K17<>0),$G17>=$K17,TRUE)","v":true},{"$f":"IF(OR($G18<>0,$K18<>0),$G18>=$K18,TRUE)","v":true},{"$f":"IF(OR($G19<>0,$K19<>0),$G19>=$K19,TRUE)","v":true},{"$f":"IF(OR($G20<>0,$K20<>0),$G20>=$K20,TRUE)","v":true},{"$f":"IF(OR($G21<>0,$K21<>0),$G21>=$K21,TRUE)","v":true},{"$f":"IF(OR($G22<>0,$K22<>0),$G22>=$K22,TRUE)","v":true},{"$f":"IF(OR($G23<>0,$K23<>0),$G23>=$K23,TRUE)","v":true},{"$f":"IF(OR($G24<>0,$K24<>0),$G24>=$K24,TRUE)","v":true},{"$f":"IF(OR($G25<>0,$K25<>0),$G25>=$K25,TRUE)","v":true},{"$f":"IF(OR($G26<>0,$K26<>0),$G26>=$K26,TRUE)","v":true},{"$f":"IF(OR($G27<>0,$K27<>0),$G27>=$K27,TRUE)","v":true},{"$f":"IF(OR($G28<>0,$K28<>0),$G28>=$K28,TRUE)","v":true},{"$f":"IF(OR($G29<>0,$K29<>0),$G29>=$K29,TRUE)","v":true},{"$f":"IF(OR($G30<>0,$K30<>0),$G30>=$K30,TRUE)","v":true},{"$f":"IF(OR($G31<>0,$K31<>0),$G31>=$K31,TRUE)","v":true},{"$f":"IF(OR($G32<>0,$K32<>0),$G32>=$K32,TRUE)","v":true},{"$f":"IF(OR($G33<>0,$K33<>0),$G33>=$K33,TRUE)","v":true},{"$f":"IF(OR($G34<>0,$K34<>0),$G34>=$K34,TRUE)","v":true},{"$f":"IF(OR($G35<>0,$K35<>0),$G35>=$K35,TRUE)","v":true},{"$f":"IF(OR($G36<>0,$K36<>0),$G36>=$K36,TRUE)","v":true},{"$f":"IF(OR($G37<>0,$K37<>0),$G37>=$K37,TRUE)","v":true},{"$f":"IF(OR($G38<>0,$K38<>0),$G38>=$K38,TRUE)","v":true},{"$f":"IF(OR($G39<>0,$K39<>0),$G39>=$K39,TRUE)","v":true},{"$f":"IF(OR($G40<>0,$K40<>0),$G40>=$K40,TRUE)","v":true},{"$f":"IF(OR($G41<>0,$K41<>0),$G41>=$K41,TRUE)","v":true},{"$f":"IF(OR($G42<>0,$K42<>0),$G42>=$K42,TRUE)","v":true},{"$f":"IF(OR($G43<>0,$K43<>0),$G43>=$K43,TRUE)","v":true},{"$f":"IF(OR($G44<>0,$K44<>0),$G44>=$K44,TRUE)","v":true},{"$f":"IF(OR($G45<>0,$K45<>0),$G45>=$K45,TRUE)","v":true},{"$f":"IF(OR($G46<>0,$K46<>0),$G46>=$K46,TRUE)","v":true},{"$f":"IF(OR($G47<>0,$K47<>0),$G47>=$K47,TRUE)","v":true},{"$f":"IF(OR($G48<>0,$K48<>0),$G48>=$K48,TRUE)","v":true},{"$f":"IF(OR($G49<>0,$K49<>0),$G49>=$K49,TRUE)","v":true},{"$f":"IF(OR($G50<>0,$K50<>0),$G50>=$K50,TRUE)","v":true},{"$f":"IF(OR($G51<>0,$K51<>0),$G51>=$K51,TRUE)","v":true},{"$f":"IF(OR($G52<>0,$K52<>0),$G52>=$K52,TRUE)","v":true},{"$f":"IF(OR($G53<>0,$K53<>0),$G53>=$K53,TRUE)","v":true},{"$f":"IF(OR($G54<>0,$K54<>0),$G54>=$K54,TRUE)","v":true},{"$f":"IF(OR($G55<>0,$K55<>0),$G55>=$K55,TRUE)","v":true},{"$f":"IF(OR($G56<>0,$K56<>0),$G56>=$K56,TRUE)","v":true},{"$f":"IF(OR($G57<>0,$K57<>0),$G57>=$K57,TRUE)","v":true},{"$f":"IF(OR($G58<>0,$K58<>0),$G58>=$K58,TRUE)","v":true},{"$f":"IF(OR($G59<>0,$K59<>0),$G59>=$K59,TRUE)","v":true},{"$f":"IF(OR($G60<>0,$K60<>0),$G60>=$K60,TRUE)","v":true},{"$f":"IF(OR($G61<>0,$K61<>0),$G61>=$K61,TRUE)","v":true},{"$f":"IF(OR($G62<>0,$K62<>0),$G62>=$K62,TRUE)","v":true},{"$f":"IF(OR($G63<>0,$K63<>0),$G63>=$K63,TRUE)","v":true},{"$f":"IF(OR($G64<>0,$K64<>0),$G64>=$K64,TRUE)","v":true},{"$f":"IF(OR($G65<>0,$K65<>0),$G65>=$K65,TRUE)","v":true},{"$f":"IF(OR($G66<>0,$K66<>0),$G66>=$K66,TRUE)","v":true},{"$f":"IF(OR($G67<>0,$K67<>0),$G67>=$K67,TRUE)","v":true},{"$f":"IF(OR($G68<>0,$K68<>0),$G68>=$K68,TRUE)","v":true},{"$f":"IF(OR($G69<>0,$K69<>0),$G69>=$K69,TRUE)","v":true},{"$f":"IF(OR($G70<>0,$K70<>0),$G70>=$K70,TRUE)","v":true},{"$f":"IF(OR($G71<>0,$K71<>0),$G71>=$K71,TRUE)","v":true},{"$f":"IF(OR($G72<>0,$K72<>0),$G72>=$K72,TRUE)","v":true},{"$f":"IF(OR($G73<>0,$K73<>0),$G73>=$K73,TRUE)","v":true},{"$f":"IF(OR($G74<>0,$K74<>0),$G74>=$K74,TRUE)","v":true},{"$f":"IF(OR($G75<>0,$K75<>0),$G75>=$K75,TRUE)","v":true},{"$f":"IF(OR($G76<>0,$K76<>0),$G76>=$K76,TRUE)","v":true},{"$f":"IF(OR($G77<>0,$K77<>0),$G77>=$K77,TRUE)","v":true},{"$f":"IF(OR($G78<>0,$K78<>0),$G78>=$K78,TRUE)","v":true}]
[null,"Злокачественные новообразования","2.1","C00 - С97",0,null,null,null,0,0,{"$f":"'профосмотры 124н'!$N$8","v":0},{"$f":"'профосмотры 124н'!$N$16","v":0},null,null,{"$f":"IF(Q10>0,\"гр.7 >= гр.12 по строке \"&P10,\"ОК\")","v":"ОК"},{"$f":"IF(Q10>0,INDEX($C$7:$C$78,Q10,1),CHAR(151))","v":"—"},{"$f":"IF(ISERROR(MATCH(FALSE,S10:CL10,0)),0,MATCH(FALSE,S10:CL10,0))","v":0},null,{"$f":"IF(OR($H7<>0,$M7<>0),$H7>=$M7,TRUE)","v":true},{"$f":"IF(OR($H8<>0,$M8<>0),$H8>=$M8,TRUE)","v":true},{"$f":"IF(OR($H9<>0,$M9<>0),$H9>=$M9,TRUE)","v":true},{"$f":"IF(OR($H10<>0,$M10<>0),$H10>=$M10,TRUE)","v":true},{"$f":"IF(OR($H11<>0,$M11<>0),$H11>=$M11,TRUE)","v":true},{"$f":"IF(OR($H12<>0,$M12<>0),$H12>=$M12,TRUE)","v":true},{"$f":"IF(OR($H13<>0,$M13<>0),$H13>=$M13,TRUE)","v":true},{"$f":"IF(OR($H14<>0,$M14<>0),$H14>=$M14,TRUE)","v":true},{"$f":"IF(OR($H15<>0,$M15<>0),$H15>=$M15,TRUE)","v":true},{"$f":"IF(OR($H16<>0,$M16<>0),$H16>=$M16,TRUE)","v":true},{"$f":"IF(OR($H17<>0,$M17<>0),$H17>=$M17,TRUE)","v":true},{"$f":"IF(OR($H18<>0,$M18<>0),$H18>=$M18,TRUE)","v":true},{"$f":"IF(OR($H19<>0,$M19<>0),$H19>=$M19,TRUE)","v":true},{"$f":"IF(OR($H20<>0,$M20<>0),$H20>=$M20,TRUE)","v":true},{"$f":"IF(OR($H21<>0,$M21<>0),$H21>=$M21,TRUE)","v":true},{"$f":"IF(OR($H22<>0,$M22<>0),$H22>=$M22,TRUE)","v":true},{"$f":"IF(OR($H23<>0,$M23<>0),$H23>=$M23,TRUE)","v":true},{"$f":"IF(OR($H24<>0,$M24<>0),$H24>=$M24,TRUE)","v":true},{"$f":"IF(OR($H25<>0,$M25<>0),$H25>=$M25,TRUE)","v":true},{"$f":"IF(OR($H26<>0,$M26<>0),$H26>=$M26,TRUE)","v":true},{"$f":"IF(OR($H27<>0,$M27<>0),$H27>=$M27,TRUE)","v":true},{"$f":"IF(OR($H28<>0,$M28<>0),$H28>=$M28,TRUE)","v":true},{"$f":"IF(OR($H29<>0,$M29<>0),$H29>=$M29,TRUE)","v":true},{"$f":"IF(OR($H30<>0,$M30<>0),$H30>=$M30,TRUE)","v":true},{"$f":"IF(OR($H31<>0,$M31<>0),$H31>=$M31,TRUE)","v":true},{"$f":"IF(OR($H32<>0,$M32<>0),$H32>=$M32,TRUE)","v":true},{"$f":"IF(OR($H33<>0,$M33<>0),$H33>=$M33,TRUE)","v":true},{"$f":"IF(OR($H34<>0,$M34<>0),$H34>=$M34,TRUE)","v":true},{"$f":"IF(OR($H35<>0,$M35<>0),$H35>=$M35,TRUE)","v":true},{"$f":"IF(OR($H36<>0,$M36<>0),$H36>=$M36,TRUE)","v":true},{"$f":"IF(OR($H37<>0,$M37<>0),$H37>=$M37,TRUE)","v":true},{"$f":"IF(OR($H38<>0,$M38<>0),$H38>=$M38,TRUE)","v":true},{"$f":"IF(OR($H39<>0,$M39<>0),$H39>=$M39,TRUE)","v":true},{"$f":"IF(OR($H40<>0,$M40<>0),$H40>=$M40,TRUE)","v":true},{"$f":"IF(OR($H41<>0,$M41<>0),$H41>=$M41,TRUE)","v":true},{"$f":"IF(OR($H42<>0,$M42<>0),$H42>=$M42,TRUE)","v":true},{"$f":"IF(OR($H43<>0,$M43<>0),$H43>=$M43,TRUE)","v":true},{"$f":"IF(OR($H44<>0,$M44<>0),$H44>=$M44,TRUE)","v":true},{"$f":"IF(OR($H45<>0,$M45<>0),$H45>=$M45,TRUE)","v":true},{"$f":"IF(OR($H46<>0,$M46<>0),$H46>=$M46,TRUE)","v":true},{"$f":"IF(OR($H47<>0,$M47<>0),$H47>=$M47,TRUE)","v":true},{"$f":"IF(OR($H48<>0,$M48<>0),$H48>=$M48,TRUE)","v":true},{"$f":"IF(OR($H49<>0,$M49<>0),$H49>=$M49,TRUE)","v":true},{"$f":"IF(OR($H50<>0,$M50<>0),$H50>=$M50,TRUE)","v":true},{"$f":"IF(OR($H51<>0,$M51<>0),$H51>=$M51,TRUE)","v":true},{"$f":"IF(OR($H52<>0,$M52<>0),$H52>=$M52,TRUE)","v":true},{"$f":"IF(OR($H53<>0,$M53<>0),$H53>=$M53,TRUE)","v":true},{"$f":"IF(OR($H54<>0,$M54<>0),$H54>=$M54,TRUE)","v":true},{"$f":"IF(OR($H55<>0,$M55<>0),$H55>=$M55,TRUE)","v":true},{"$f":"IF(OR($H56<>0,$M56<>0),$H56>=$M56,TRUE)","v":true},{"$f":"IF(OR($H57<>0,$M57<>0),$H57>=$M57,TRUE)","v":true},{"$f":"IF(OR($H58<>0,$M58<>0),$H58>=$M58,TRUE)","v":true},{"$f":"IF(OR($H59<>0,$M59<>0),$H59>=$M59,TRUE)","v":true},{"$f":"IF(OR($H60<>0,$M60<>0),$H60>=$M60,TRUE)","v":true},{"$f":"IF(OR($H61<>0,$M61<>0),$H61>=$M61,TRUE)","v":true},{"$f":"IF(OR($H62<>0,$M62<>0),$H62>=$M62,TRUE)","v":true},{"$f":"IF(OR($H63<>0,$M63<>0),$H63>=$M63,TRUE)","v":true},{"$f":"IF(OR($H64<>0,$M64<>0),$H64>=$M64,TRUE)","v":true},{"$f":"IF(OR($H65<>0,$M65<>0),$H65>=$M65,TRUE)","v":true},{"$f":"IF(OR($H66<>0,$M66<>0),$H66>=$M66,TRUE)","v":true},{"$f":"IF(OR($H67<>0,$M67<>0),$H67>=$M67,TRUE)","v":true},{"$f":"IF(OR($H68<>0,$M68<>0),$H68>=$M68,TRUE)","v":true},{"$f":"IF(OR($H69<>0,$M69<>0),$H69>=$M69,TRUE)","v":true},{"$f":"IF(OR($H70<>0,$M70<>0),$H70>=$M70,TRUE)","v":true},{"$f":"IF(OR($H71<>0,$M71<>0),$H71>=$M71,TRUE)","v":true},{"$f":"IF(OR($H72<>0,$M72<>0),$H72>=$M72,TRUE)","v":true},{"$f":"IF(OR($H73<>0,$M73<>0),$H73>=$M73,TRUE)","v":true},{"$f":"IF(OR($H74<>0,$M74<>0),$H74>=$M74,TRUE)","v":true},{"$f":"IF(OR($H75<>0,$M75<>0),$H75>=$M75,TRUE)","v":true},{"$f":"IF(OR($H76<>0,$M76<>0),$H76>=$M76,TRUE)","v":true},{"$f":"IF(OR($H77<>0,$M77<>0),$H77>=$M77,TRUE)","v":true},{"$f":"IF(OR($H78<>0,$M78<>0),$H78>=$M78,TRUE)","v":true}]
[null,"Из них губы, полости рта и глотки","2.2","C00 - С14",0,null,null,null,0,0,null,null,null,null,{"$f":"IF(Q11>0,\"стр.2.1 < суммы строк (2.2.+2.4+2.6+2.8+2.10+2.12+2.14+2.16+2.18+2.21+2.24) по графе \"&P11,\"ОК\")","v":"ОК"},{"$f":"IF(Q11>0,INDEX($F$6:$N$6,1,Q11),CHAR(151))","v":"—"},{"$f":"IF(ISERROR(MATCH(FALSE,S11:AA11,0)),0,MATCH(FALSE,S11:AA11,0))","v":0},"данные по строке 2.1 д.б. больше или равны суммы строк (2.2.+2.4+2.6+2.8+2.10+2.12+2.14+2.16+2.18+2.21+2.24) по всем графам",{"$f":"F10>=SUM(F11,F13,F15,F17,F19,F21,F23,F25,F27,F30,F33)","v":true},{"$f":"G10>=SUM(G11,G13,G15,G17,G19,G21,G23,G25,G27,G30,G33)","v":true},true,{"$f":"I10>=SUM(I11,I13,I15,I17,I19,I21,I23,I25,I27,I30,I33)","v":true},{"$f":"J10>=SUM(J11,J13,J15,J17,J19,J21,J23,J25,J27,J30,J33)","v":true},true,true,true,true]
[null,"из них в 1-2 стадии","2.3",null,0,null,null,null,0,0,null,null,null,null,{"$f":"IF(Q12>0,\"стр.2 < стр.2.1 по графе \"&P12,\"ОК\")","v":"ОК"},{"$f":"IF(Q12>0,INDEX($F$6:$N$6,1,Q12),CHAR(151))","v":"—"},{"$f":"IF(ISERROR(MATCH(FALSE,S12:AA12,0)),0,MATCH(FALSE,S12:AA12,0))","v":0},"строка 2 д.б больше или равна строке 2.1",{"$f":"F9>=F10","v":true},{"$f":"G9>=G10","v":true},true,true,true,true,true,true,true]
[null,"пищевода","2.4","С15",0,null,null,null,0,0]
[null,"из них в 1-2 стадии","2.5",null,0,null,null,null,0,0]
[null,"желудка","2.6","С16",0,null,null,null,0,0]
[null,"из них в 1-2 стадии","2.7",null,0,null,null,null,0,0]
[null,"тонкого кишечника","2.8","С17",0,null,null,null,0,0]
[null,"из них в 1-2 стадии","2.9",null,0,null,null,null,0,0]
[null,"ободочной кишки","2.10","С18",0,null,null,null,0,0]
[null,"из них в 1-2 стадии","2.11",null,0,null,null,null,0,0]
[null,"ректосигмоидного соединения, прямой кишки, заднего прохода (ануса) и анального канала","2.12","С19 - С21",0,null,null,null,0,0]
[null,"из них в 1-2 стадии","2.13",null,0,null,null,null,0,0]
[null,"трахеи, бронхов, легкого","2.14","C33,",0,null,null,null,0,0]
[null,"из них в 1-2 стадии","2.15","С34",0,null,null,null,0,0]
[null,"кожи","2.16","С43-",0,null,null,null,0,0]
[null,"из них в 1-2 стадии","2.17","С44",0,null,null,null,0,0]
[null,"молочной железы","2.18","С50",0,null,null,null,0,0]
[null,"из них в 0-1 стадии","2.19",null,0,null,null,null,0,0]
[null,"2 стадии","2.20",null,0,null,null,null,0,0]
[null,"шейки матки","2.21","С53",0,null,null,null,0,0]
[null,"из них в 0-1 стадии","2.22",null,0,null,null,null,0,0]
[null,"2 стадии","2.23",null,0,null,null,null,0,0]
[null,"предстательной железы","2.24","С61",0,null,null,null,0,0]
[null,"из них в 1-2 стадии","2.25",null,0,null,null,null,0,0]
[null,"Болезни крови, кроветворных органов и отдельные нарушения, вовлекающие иммунный механизм","3","D50-D89 ",0,null,null,null,0,0,null,null,null,null,{"$f":"IF(Q35>0,\"стр.3 < стр.3.1 по графе \"&P35,\"ОК\")","v":"ОК"},{"$f":"IF(Q35>0,INDEX($F$6:$N$6,1,Q35),CHAR(151))","v":"—"},{"$f":"IF(ISERROR(MATCH(FALSE,S35:AA35,0)),0,MATCH(FALSE,S35:AA35,0))","v":0},"данные по строке 3 должны быть больше или равны по соотв.графам строки 3.1",{"$f":"F35>=F36","v":true},{"$f":"G35>=G36","v":true},true,true,true,true,true,true,true]
[null,"в том числе: анемии, связанные с питанием, гемолитические анемии, апластические и другие анемии","3.1","D50-D64 ",0,null,null,null,0,0]
[null,"Болезни эндокринной системы, расстройства питания и нарушения обмена веществ ","4","Е00-Е90 ",0,null,null,null,0,0,null,null,null,null,{"$f":"IF(Q37>0,\"стр.4 < суммы строк(4.1+4.3+4.4) по графе \"&P37,\"ОК\")","v":"ОК"},{"$f":"IF(Q37>0,INDEX($F$6:$N$6,1,Q37),CHAR(151))","v":"—"},{"$f":"IF(ISERROR(MATCH(FALSE,S37:AA37,0)),0,MATCH(FALSE,S37:AA37,0))","v":0},"данные по строке 4 должны быть больше или равны по соотв.графам строки 4.1 и больше или равны суммы строк(4.1+4.3+4.4)",{"$f":"F37>=SUM(F38,F40:F41)","v":true},{"$f":"G37>=SUM(G38,G40:G41)","v":true},true,true,true,true,true,true,true]
[null,"Сахарный диабет","4.1","Е10 - Е14",0,null,null,null,0,0,{"$f":"'профосмотры 124н'!$P$8","v":0},{"$f":"'профосмотры 124н'!$P$16","v":0}]
[null,"из него: инсулиннезависимый сахарный диабет","4.2","Е11",0,null,null,null,0,0]
[null,"ожирение ","4.3","Е66 ",0,null,null,null,0,0]
[null,"нарушения обмена липопротеинов и другие липидемии","4.4","Е78",0,null,null,null,0,0]
[null,"Болезни нервной системы ","5","G00-G99 ",0,null,null,null,0,0,null,null,null,null,{"$f":"IF(Q42>0,\"стр.5 < стр.5.1 по графе \"&P42,\"ОК\")","v":"ОК"},{"$f":"IF(Q42>0,INDEX($F$6:$N$6,1,Q42),CHAR(151))","v":"—"},{"$f":"IF(ISERROR(MATCH(FALSE,S42:AA42,0)),0,MATCH(FALSE,S42:AA42,0))","v":0},"данные по строке 5 должны быть больше или равны по соотв.графам строки 5.1",{"$f":"F42>=F43","v":true},{"$f":"G42>=G43","v":true},true,true,true,true,true,true,true]
[null,"Преходящие церебральные ишемические приступы (атаки) и родственные синдромы","5.1","G45",0,null,null,null,0,0]
[null,"Болезни глаза и его придаточного аппарата ","6","Н00-Н59 ",0,null,null,null,0,0,null,null,null,null,{"$f":"IF(Q44>0,\"стр.6 < суммы строк(6.1+6.2+6.3) по графе \"&P44,\"ОК\")","v":"ОК"},{"$f":"IF(Q44>0,INDEX($F$6:$N$6,1,Q44),CHAR(151))","v":"—"},{"$f":"IF(ISERROR(MATCH(FALSE,S44:AA44,0)),0,MATCH(FALSE,S44:AA44,0))","v":0},"данные по строке 6 должны быть больше или равны по соотв.графам суммы строк(6.1+6.2+6.3)",{"$f":"F44>=SUM(F45:F47)","v":true},true,true,true,true,true,true,true,true]
[null,"Старческая катаракта и другие катаракты","6.1","Н25, Н26",0,null,null,null,0,0]
[null,"Глаукома","6.2","Н40",0,null,null,null,0,0,{"$f":"'профосмотры 124н'!$R$8","v":0},{"$f":"'профосмотры 124н'!$R$16","v":0}]
[null,"Слепота и пониженное зрение","6.3","Н54",0,null,null,null,0,0]
[null,"Болезни системы кровообращения ","7","I00-I99 ",1,1,1,null,1,1,{"$f":"'профосмотры 124н'!$M$8","v":1},{"$f":"'профосмотры 124н'!$M$16","v":1},null,null,{"$f":"IF(Q48>0,\"стр.7 < суммы строк(7.1+7.2+7.4+7.6) по графе \"&P48,\"ОК\")","v":"ОК"},{"$f":"IF(Q48>0,INDEX($F$6:$N$6,1,Q48),CHAR(151))","v":"—"},{"$f":"IF(ISERROR(MATCH(FALSE,S48:AA48,0)),0,MATCH(FALSE,S48:AA48,0))","v":0},"данные по строке 7  должны быть больше или равны по соотв.графам суммы строк(7.1+7.2+7.4+7.6)",{"$f":"F48>=SUM(F49:F50,F55,F59)","v":true},{"$f":"G48>=SUM(G49:G50,G55,G59)","v":true},true,true,true,true,true,true,true]
[null,"из них болезни, характеризующиеся повышенным кровяным давлением","7.1","I10 - I13",0,null,null,null,0,0]
[null,"ишемические болезни сердца","7.2","I20 - I25",0,null,null,null,0,0]
[null,"в том числе: стенокардия (грудная жаба) ","7.2.1","I20 ",0,null,null,null,0,0]
[null,"в том числе нестабильная стенокардия ","7.2.2","I20.0 ",0,null,null,null,0,0]
[null,"хроническая ишемическая болезнь сердца ","7.3","I25 ",0,null,null,null,0,0]
[null,"в том числе: перенесенный в прошлом инфаркт миокарда ","7.3.1","I25.2",0,null,null,null,0,0]
[null,"другие болезни сердца ","7.4","I30-I52 ",0,null,null,null,0,0]
[null,"цереброваскулярные болезни","7.5","I60 - I69",0,null,null,null,0,0]
[null,"из них: закупорка и стеноз прецеребральных и (или) церебральных артерий, не приводящие к инфаркту мозга","7.5.1","I65, I66",0,null,null,null,0,0]
[null,"другие цереброваскулярные болезни ","7.5.2","I67 ",0,null,null,null,0,0]
[null,"аневризма брюшной аорты","7.6","I71.3-I71.4",0,null,null,null,0,0]
[null,"Болезни органов дыхания ","8.0","J00-J98 ",0,null,null,null,0,0,{"$f":"'профосмотры 124н'!$S$8","v":0},{"$f":"'профосмотры 124н'!$S$16","v":0},null,null,{"$f":"IF(Q60>0,\"стр.8 < суммы строк(8.1+8.2+8.3) по графе \"&P60,\"ОК\")","v":"ОК"},{"$f":"IF(Q60>0,INDEX($F$6:$N$6,1,Q60),CHAR(151))","v":"—"},{"$f":"IF(ISERROR(MATCH(FALSE,S60:AA60,0)),0,MATCH(FALSE,S60:AA60,0))","v":0},"данные по строке 8  должны быть больше или равны по соотв.графам  суммы строк(8.1+8.2+8.3)",{"$f":"F60>=SUM(F61:F63)","v":true},{"$f":"G60>=SUM(G61:G63)","v":true},true,true,true,true,true,true,true]
[null,"в том числе: вирусная пневмония, пневмония, вызванная Streptococcus pneumonia, пневмония, вызванная Haemophilus influenza, бактериальная пневмония, пневмония, вызванная другими инфекционными возбудителями, пневмония при болезнях, классифицированных в других рубриках, пневмония без уточнения возбудителя","8.1","J12-J18 ",0,null,null,null,0,0]
[null,"Бронхит, не уточненный как острый и хронический, простой и слизисто-гнойный хронический бронхит, хронический бронхит неуточненный, эмфизема","8.2","J40 - J43",0,null,null,null,0,0]
[null,"Другая хроническая обструктивная легочная болезнь, астма, астматический статус, бронхоэктатическая болезнь","8.3","J44 - J47",0,null,null,null,0,0]
[null,"Болезни органов пищеварения ","9.0","К00-К93 ",0,null,null,null,0,0,{"$f":"'профосмотры 124н'!$T$8","v":0},{"$f":"'профосмотры 124н'!$T$16","v":0},null,null,{"$f":"IF(Q64>0,\"стр.9 < суммы строк(9.1+9.2+9.3+9.4) по графе \"&P64,\"ОК\")","v":"ОК"},{"$f":"IF(Q64>0,INDEX($F$6:$N$6,1,Q64),CHAR(151))","v":"—"},{"$f":"IF(ISERROR(MATCH(FALSE,S64:AA64,0)),0,MATCH(FALSE,S64:AA64,0))","v":0},"данные по строке 9  должны быть больше или равны по соотв.графам  суммы строк(9.1+9.2+9.3+9.4)",{"$f":"F64>=SUM(F65:F68)","v":true},{"$f":"G64>=SUM(G65:G68)","v":true},true,true,true,true,true,true,true]
[null,"язва желудка, язва двенадцатиперстной кишки","9.1","K25, К26",0,null,null,null,0,0]
[null,"гастрит и дуоденит","9.2","K29",0,null,null,null,0,0]
[null,"неинфекционный энтерит и колит ","9.3","К50-К52 ",0,null,null,null,0,0]
[null,"другие болезни кишечника ","9.4","К55-К63 ",0,null,null,null,0,0]
[null,"Прочие заболевания","10.0",null,{"$f":"SUM(E70+E74+E76+E77)","v":0},{"$f":"SUM(F70+F74+F76+F77)","v":0},0,0,0,0,0,0,0,0,{"$f":"IF(Q69>0,\"стр.10.1 < суммы строк(10.1.1+10.1.2+10.1.3) по графе \"&P69,\"ОК\")","v":"ОК"},{"$f":"IF(Q69>0,INDEX($F$6:$N$6,1,Q69),CHAR(151))","v":"—"},{"$f":"IF(ISERROR(MATCH(FALSE,S69:AA69,0)),0,MATCH(FALSE,S69:AA69,0))","v":0},"данные по строке 10.1  должны быть больше или равны по соотв.графам  суммы строк(10.1.1+10.1.2+10.1.3)",{"$f":"F70>=SUM(F71:F73)","v":true},{"$f":"G70>=SUM(G71:G73)","v":true},true,true,true,true,true,true,true]
[null,"Болезни мочеполовой системы ","10.1","N00-N99 ",{"$f":"G70+H70","v":0},null,null,null,0,0]
[null,"в том числе: гиперплазия предстательной железы, воспалительные болезни предстательной железы, другие болезни предстательной железы","10.1.1","N40-N42 ",0,null,null,null,0,0]
[null,"доброкачественная дисплазия молочной железы ","10.1.2","N60 ",0,null,null,null,{"$f":"K72+M72","v":0},{"$f":"L72+N72","v":0}]
[null,"воспалительные болезни женских тазовых органов ","10.1.3","N70-N77 ",0,null,null,null,0,0]
[null,"Болезни уха и сосцевидного отростка","11.0","Н60-Н95",0,null,null,null,0,0,null,null,null,null,{"$f":"IF(Q74>0,\"стр.11.0 < стр.11.1 по графе \"&P74,\"ОК\")","v":"ОК"},{"$f":"IF(Q74>0,INDEX($F$6:$N$6,1,Q74),CHAR(151))","v":"—"},{"$f":"IF(ISERROR(MATCH(FALSE,S74:AA74,0)),0,MATCH(FALSE,S74:AA74,0))","v":0},"строка 11.0 д.б больше или равна строке 11.1",{"$f":"F74>=F75","v":true},{"$f":"G74>=G75","v":true},true,true,true,true,true,true,true]
[null,"Кондуктивная и нейросенсорная потеря слуха","11.1","Н90",0,null,null,null,0,0]
[null,"Болезни кожи и подкожной клетчатки","12.0","L00-L98",0,null,null,null,0,0]
[null,"Болезни костно-мышечной системы","13.0","М00-М99",{"$f":"G77+H77","v":0},null,null,null,0,0]
[null,"ИТОГО заболеваний",null,"А00-Т98",{"$f":"E7+E9+E35+E37+E42+E44+E48+E60+E64+E69","v":1},{"$f":"F7+F9+F35+F37+F42+F44+F48+F60+F64+F69","v":1},1,0,1,1,1,1,0,0,{"$f":"IF(Q78>0,\"стр.14.0 ≠ стр.15.0 по графе \"&P78,\"ОК\")","v":"ОК"},{"$f":"IF(Q78>0,INDEX($F$6:$N$6,1,Q78),CHAR(151))","v":"—"},{"$f":"IF(ISERROR(MATCH(FALSE,S78:AA78,0)),0,MATCH(FALSE,S78:AA78,0))","v":0},"Данные строки 14.0 с 8 по13 графы должны быть равны строке 15.0 по тем же графам",true,true,true,{"$f":"I78=I79","v":true},true,true,true,true,true]
[null,{"$f":"'5000 и 5001 ДВН'!$B$79","v":"контрольные цифры"},null,null,null,null,null,null,{"$f":"'профосмотры 124н'!$L$8","v":1},{"$f":"'профосмотры 124н'!$U$16","v":1},{"$f":"'профосмотры 124н'!$L$8","v":1},{"$f":"'профосмотры 124н'!$U$16","v":1}]
[null,"(5001)",null,null,null,null,null,null,null,null," Код по ОКЕИ: человек - 792"]
[null,"Число лиц с артериальным давлением ниже 140/90 мм рт.ст. на фоне приема гипотензивных лекарственных препаратов, при наличии болезней, характеризующихся повышенным кровяным давлением (I10 - I15 по МКБ-10)",null,null,null,null,null,null,null,null,null,null,1,";"]
[]
[]
[null," "]

{"sheet":"5000 и 5001 свод","index":8,"n_rows":84,"n_cols":90,"rows_kept":84,"cut":false,"hidden":true,"merged":[[0,1,0,13],[10,3,11,3],[12,3,13,3],[14,3,15,3],[16,3,17,3],[3,12,3,13],[2,1,4,1],[29,3,31,3],[2,3,4,3],[80,1,80,11],[20,3,21,3],[3,4,3,5],[3,6,3,7],[3,8,3,9],[2,8,2,13],[18,3,19,3],[2,2,4,2],[26,3,28,3],[2,4,2,7],[32,3,33,3],[3,10,3,11]]}
[null,"Заболевания, выявленные при проведении профилактического медицинского осмотра (диспансеризации), установление диспансерного наблюдения"]
[null,"(5000)",null,null,null,null,null,null,null,null,"Код по ОКЕИ: единица - 642"]
[null,"Наименование классов и отдельных заболеваний","N строки","Код МКБ-10","Выявлено заболеваний",null,null,null,"из них: с впервые в жизни установленным диагнозом"]
[null,null,null,null,"всего",null,"в том числе:",null,"всего",null,"в трудоспособном возрасте",null,"в возрасте старше трудоспособного"]
[null,null,null,null,"всего","из них: установлено диспансерное наблюдение","В трудоспособном возрасте","В возрасте старше трудоспособного","всего","из них: установлено диспансерное наблюдение","всего","из них: установлено диспансерное наблюдение","всего","из них: установлено диспансерное наблюдение","Проверка","Сделать проверку на соответствие значений с  гр 4 и 8, 5 и 9, 6 и 10, 7 и 12, в паре второе число д. б. <= первого по всем строкам "]
[null,1,2,3,4,5,6,7,8,9,10,11,12,13]
[null,"Некоторые инфекционные и паразитарные болезни ",1,"А00-В99",{"$f":"'5000 и 5001 ДВН'!E7+'5000 и 5001 ПО'!E7","v":1},{"$f":"'5000 и 5001 ДВН'!F7+'5000 и 5001 ПО'!F7","v":1},{"$f":"'5000 и 5001 ДВН'!G7+'5000 и 5001 ПО'!G7","v":1},{"$f":"'5000 и 5001 ДВН'!H7+'5000 и 5001 ПО'!H7","v":0},{"$f":"K7+M7","v":0},{"$f":"L7+N7","v":0},{"$f":"'5000 и 5001 ДВН'!K7+'5000 и 5001 ПО'!K7","v":0},{"$f":"'5000 и 5001 ДВН'!L7+'5000 и 5001 ПО'!L7","v":0},{"$f":"'5000 и 5001 ДВН'!M7+'5000 и 5001 ПО'!M7","v":0},{"$f":"'5000 и 5001 ДВН'!N7+'5000 и 5001 ПО'!N7","v":0},{"$f":"IF(Q7>0,\"гр.4 >= гр.8 по строке \"&P7,\"ОК\")","v":"ОК"},{"$f":"IF(Q7>0,INDEX($C$7:$C$78,Q7,1),CHAR(151))","v":"—"},{"$f":"IF(ISERROR(MATCH(FALSE,S7:CL7,0)),0,MATCH(FALSE,S7:CL7,0))","v":0},null,{"$f":"IF(OR($E7<>0,$I7<>0),$E7>=$I7,TRUE)","v":true},{"$f":"IF(OR($E8<>0,$I8<>0),$E8>=$I8,TRUE)","v":true},{"$f":"IF(OR($E9<>0,$I9<>0),$E9>=$I9,TRUE)","v":true},{"$f":"IF(OR($E10<>0,$I10<>0),$E10>=$I10,TRUE)","v":true},{"$f":"IF(OR($E11<>0,$I11<>0),$E11>=$I11,TRUE)","v":true},{"$f":"IF(OR($E12<>0,$I12<>0),$E12>=$I12,TRUE)","v":true},{"$f":"IF(OR($E13<>0,$I13<>0),$E13>=$I13,TRUE)","v":true},{"$f":"IF(OR($E14<>0,$I14<>0),$E14>=$I14,TRUE)","v":true},{"$f":"IF(OR($E15<>0,$I15<>0),$E15>=$I15,TRUE)","v":true},{"$f":"IF(OR($E16<>0,$I16<>0),$E16>=$I16,TRUE)","v":true},{"$f":"IF(OR($E17<>0,$I17<>0),$E17>=$I17,TRUE)","v":true},{"$f":"IF(OR($E18<>0,$I18<>0),$E18>=$I18,TRUE)","v":true},{"$f":"IF(OR($E19<>0,$I19<>0),$E19>=$I19,TRUE)","v":true},{"$f":"IF(OR($E20<>0,$I20<>0),$E20>=$I20,TRUE)","v":true},{"$f":"IF(OR($E21<>0,$I21<>0),$E21>=$I21,TRUE)","v":true},{"$f":"IF(OR($E22<>0,$I22<>0),$E22>=$I22,TRUE)","v":true},{"$f":"IF(OR($E23<>0,$I23<>0),$E23>=$I23,TRUE)","v":true},{"$f":"IF(OR($E24<>0,$I24<>0),$E24>=$I24,TRUE)","v":true},{"$f":"IF(OR($E25<>0,$I25<>0),$E25>=$I25,TRUE)","v":true},{"$f":"IF(OR($E26<>0,$I26<>0),$E26>=$I26,TRUE)","v":true},{"$f":"IF(OR($E27<>0,$I27<>0),$E27>=$I27,TRUE)","v":true},{"$f":"IF(OR($E28<>0,$I28<>0),$E28>=$I28,TRUE)","v":true},{"$f":"IF(OR($E29<>0,$I29<>0),$E29>=$I29,TRUE)","v":true},{"$f":"IF(OR($E30<>0,$I30<>0),$E30>=$I30,TRUE)","v":true},{"$f":"IF(OR($E31<>0,$I31<>0),$E31>=$I31,TRUE)","v":true},{"$f":"IF(OR($E32<>0,$I32<>0),$E32>=$I32,TRUE)","v":true},{"$f":"IF(OR($E33<>0,$I33<>0),$E33>=$I33,TRUE)","v":true},{"$f":"IF(OR($E34<>0,$I34<>0),$E34>=$I34,TRUE)","v":true},{"$f":"IF(OR($E35<>0,$I35<>0),$E35>=$I35,TRUE)","v":true},{"$f":"IF(OR($E36<>0,$I36<>0),$E36>=$I36,TRUE)","v":true},{"$f":"IF(OR($E37<>0,$I37<>0),$E37>=$I37,TRUE)","v":true},{"$f":"IF(OR($E38<>0,$I38<>0),$E38>=$I38,TRUE)","v":true},{"$f":"IF(OR($E39<>0,$I39<>0),$E39>=$I39,TRUE)","v":true},{"$f":"IF(OR($E40<>0,$I40<>0),$E40>=$I40,TRUE)","v":true},{"$f":"IF(OR($E41<>0,$I41<>0),$E41>=$I41,TRUE)","v":true},{"$f":"IF(OR($E42<>0,$I42<>0),$E42>=$I42,TRUE)","v":true},{"$f":"IF(OR($E43<>0,$I43<>0),$E43>=$I43,TRUE)","v":true},{"$f":"IF(OR($E44<>0,$I44<>0),$E44>=$I44,TRUE)","v":true},{"$f":"IF(OR($E45<>0,$I45<>0),$E45>=$I45,TRUE)","v":true},{"$f":"IF(OR($E46<>0,$I46<>0),$E46>=$I46,TRUE)","v":true},{"$f":"IF(OR($E47<>0,$I47<>0),$E47>=$I47,TRUE)","v":true},{"$f":"IF(OR($E48<>0,$I48<>0),$E48>=$I48,TRUE)","v":true},{"$f":"IF(OR($E49<>0,$I49<>0),$E49>=$I49,TRUE)","v":true},{"$f":"IF(OR($E50<>0,$I50<>0),$E50>=$I50,TRUE)","v":true},{"$f":"IF(OR($E51<>0,$I51<>0),$E51>=$I51,TRUE)","v":true},{"$f":"IF(OR($E52<>0,$I52<>0),$E52>=$I52,TRUE)","v":true},{"$f":"IF(OR($E53<>0,$I53<>0),$E53>=$I53,TRUE)","v":true},{"$f":"IF(OR($E54<>0,$I54<>0),$E54>=$I54,TRUE)","v":true},{"$f":"IF(OR($E55<>0,$I55<>0),$E55>=$I55,TRUE)","v":true},{"$f":"IF(OR($E56<>0,$I56<>0),$E56>=$I56,TRUE)","v":true},{"$f":"IF(OR($E57<>0,$I57<>0),$E57>=$I57,TRUE)","v":true},{"$f":"IF(OR($E58<>0,$I58<>0),$E58>=$I58,TRUE)","v":true},{"$f":"IF(OR($E59<>0,$I59<>0),$E59>=$I59,TRUE)","v":true},{"$f":"IF(OR($E60<>0,$I60<>0),$E60>=$I60,TRUE)","v":true},{"$f":"IF(OR($E61<>0,$I61<>0),$E61>=$I61,TRUE)","v":true},{"$f":"IF(OR($E62<>0,$I62<>0),$E62>=$I62,TRUE)","v":true},{"$f":"IF(OR($E63<>0,$I63<>0),$E63>=$I63,TRUE)","v":true},{"$f":"IF(OR($E64<>0,$I64<>0),$E64>=$I64,TRUE)","v":true},{"$f":"IF(OR($E65<>0,$I65<>0),$E65>=$I65,TRUE)","v":true},{"$f":"IF(OR($E66<>0,$I66<>0),$E66>=$I66,TRUE)","v":true},{"$f":"IF(OR($E67<>0,$I67<>0),$E67>=$I67,TRUE)","v":true},{"$f":"IF(OR($E68<>0,$I68<>0),$E68>=$I68,TRUE)","v":true},{"$f":"IF(OR($E69<>0,$I69<>0),$E69>=$I69,TRUE)","v":true},{"$f":"IF(OR($E70<>0,$I70<>0),$E70>=$I70,TRUE)","v":true},{"$f":"IF(OR($E71<>0,$I71<>0),$E71>=$I71,TRUE)","v":true},{"$f":"IF(OR($E72<>0,$I72<>0),$E72>=$I72,TRUE)","v":true},{"$f":"IF(OR($E73<>0,$I73<>0),$E73>=$I73,TRUE)","v":true},{"$f":"IF(OR($E74<>0,$I74<>0),$E74>=$I74,TRUE)","v":true},{"$f":"IF(OR($E75<>0,$I75<>0),$E75>=$I75,TRUE)","v":true},{"$f":"IF(OR($E76<>0,$I76<>0),$E76>=$I76,TRUE)","v":true},{"$f":"IF(OR($E77<>0,$I77<>0),$E77>=$I77,TRUE)","v":true},{"$f":"IF(OR($E78<>0,$I78<>0),$E78>=$I78,TRUE)","v":true}]
[null,"в том числе: туберкулез ","1.1","А15-А19",{"$f":"'5000 и 5001 ДВН'!E8+'5000 и 5001 ПО'!E8","v":1},{"$f":"'5000 и 5001 ДВН'!F8+'5000 и 5001 ПО'!F8","v":1},{"$f":"'5000 и 5001 ДВН'!G8+'5000 и 5001 ПО'!G8","v":1},{"$f":"'5000 и 5001 ДВН'!H8+'5000 и 5001 ПО'!H8","v":0},{"$f":"'5000 и 5001 ДВН'!I8+'5000 и 5001 ПО'!I8","v":0},{"$f":"'5000 и 5001 ДВН'!J8+'5000 и 5001 ПО'!J8","v":0},{"$f":"'5000 и 5001 ДВН'!K8+'5000 и 5001 ПО'!K8","v":0},{"$f":"'5000 и 5001 ДВН'!L8+'5000 и 5001 ПО'!L8","v":0},{"$f":"'5000 и 5001 ДВН'!M8+'5000 и 5001 ПО'!M8","v":0},{"$f":"'5000 и 5001 ДВН'!N8+'5000 и 5001 ПО'!N8","v":0},{"$f":"IF(Q8>0,\"гр.5 >= гр.9 по строке \"&P8,\"ОК\")","v":"ОК"},{"$f":"IF(Q8>0,INDEX($C$7:$C$78,Q8,1),CHAR(151))","v":"—"},{"$f":"IF(ISERROR(MATCH(FALSE,S8:CL8,0)),0,MATCH(FALSE,S8:CL8,0))","v":0},null,{"$f":"IF(OR($F7<>0,$J7<>0),$F7>=$J7,TRUE)","v":true},{"$f":"IF(OR($F8<>0,$J8<>0),$F8>=$J8,TRUE)","v":true},{"$f":"IF(OR($F9<>0,$J9<>0),$F9>=$J9,TRUE)","v":true},{"$f":"IF(OR($F10<>0,$J10<>0),$F10>=$J10,TRUE)","v":true},{"$f":"IF(OR($F11<>0,$J11<>0),$F11>=$J11,TRUE)","v":true},{"$f":"IF(OR($F12<>0,$J12<>0),$F12>=$J12,TRUE)","v":true},{"$f":"IF(OR($F13<>0,$J13<>0),$F13>=$J13,TRUE)","v":true},{"$f":"IF(OR($F14<>0,$J14<>0),$F14>=$J14,TRUE)","v":true},{"$f":"IF(OR($F15<>0,$J15<>0),$F15>=$J15,TRUE)","v":true},{"$f":"IF(OR($F16<>0,$J16<>0),$F16>=$J16,TRUE)","v":true},{"$f":"IF(OR($F17<>0,$J17<>0),$F17>=$J17,TRUE)","v":true},{"$f":"IF(OR($F18<>0,$J18<>0),$F18>=$J18,TRUE)","v":true},{"$f":"IF(OR($F19<>0,$J19<>0),$F19>=$J19,TRUE)","v":true},{"$f":"IF(OR($F20<>0,$J20<>0),$F20>=$J20,TRUE)","v":true},{"$f":"IF(OR($F21<>0,$J21<>0),$F21>=$J21,TRUE)","v":true},{"$f":"IF(OR($F22<>0,$J22<>0),$F22>=$J22,TRUE)","v":true},{"$f":"IF(OR($F23<>0,$J23<>0),$F23>=$J23,TRUE)","v":true},{"$f":"IF(OR($F24<>0,$J24<>0),$F24>=$J24,TRUE)","v":true},{"$f":"IF(OR($F25<>0,$J25<>0),$F25>=$J25,TRUE)","v":true},{"$f":"IF(OR($F26<>0,$J26<>0),$F26>=$J26,TRUE)","v":true},{"$f":"IF(OR($F27<>0,$J27<>0),$F27>=$J27,TRUE)","v":true},{"$f":"IF(OR($F28<>0,$J28<>0),$F28>=$J28,TRUE)","v":true},{"$f":"IF(OR($F29<>0,$J29<>0),$F29>=$J29,TRUE)","v":true},{"$f":"IF(OR($F30<>0,$J30<>0),$F30>=$J30,TRUE)","v":true},{"$f":"IF(OR($F31<>0,$J31<>0),$F31>=$J31,TRUE)","v":true},{"$f":"IF(OR($F32<>0,$J32<>0),$F32>=$J32,TRUE)","v":true},{"$f":"IF(OR($F33<>0,$J33<>0),$F33>=$J33,TRUE)","v":true},{"$f":"IF(OR($F34<>0,$J34<>0),$F34>=$J34,TRUE)","v":true},{"$f":"IF(OR($F35<>0,$J35<>0),$F35>=$J35,TRUE)","v":true},{"$f":"IF(OR($F36<>0,$J36<>0),$F36>=$J36,TRUE)","v":true},{"$f":"IF(OR($F37<>0,$J37<>0),$F37>=$J37,TRUE)","v":true},{"$f":"IF(OR($F38<>0,$J38<>0),$F38>=$J38,TRUE)","v":true},{"$f":"IF(OR($F39<>0,$J39<>0),$F39>=$J39,TRUE)","v":true},{"$f":"IF(OR($F40<>0,$J40<>0),$F40>=$J40,TRUE)","v":true},{"$f":"IF(OR($F41<>0,$J41<>0),$F41>=$J41,TRUE)","v":true},{"$f":"IF(OR($F42<>0,$J42<>0),$F42>=$J42,TRUE)","v":true},{"$f":"IF(OR($F43<>0,$J43<>0),$F43>=$J43,TRUE)","v":true},{"$f":"IF(OR($F44<>0,$J44<>0),$F44>=$J44,TRUE)","v":true},{"$f":"IF(OR($F45<>0,$J45<>0),$F45>=$J45,TRUE)","v":true},{"$f":"IF(OR($F46<>0,$J46<>0),$F46>=$J46,TRUE)","v":true},{"$f":"IF(OR($F47<>0,$J47<>0),$F47>=$J47,TRUE)","v":true},{"$f":"IF(OR($F48<>0,$J48<>0),$F48>=$J48,TRUE)","v":true},{"$f":"IF(OR($F49<>0,$J49<>0),$F49>=$J49,TRUE)","v":true},{"$f":"IF(OR($F50<>0,$J50<>0),$F50>=$J50,TRUE)","v":true},{"$f":"IF(OR($F51<>0,$J51<>0),$F51>=$J51,TRUE)","v":true},{"$f":"IF(OR($F52<>0,$J52<>0),$F52>=$J52,TRUE)","v":true},{"$f":"IF(OR($F53<>0,$J53<>0),$F53>=$J53,TRUE)","v":true},{"$f":"IF(OR($F54<>0,$J54<>0),$F54>=$J54,TRUE)","v":true},{"$f":"IF(OR($F55<>0,$J55<>0),$F55>=$J55,TRUE)","v":true},{"$f":"IF(OR($F56<>0,$J56<>0),$F56>=$J56,TRUE)","v":true},{"$f":"IF(OR($F57<>0,$J57<>0),$F57>=$J57,TRUE)","v":true},{"$f":"IF(OR($F58<>0,$J58<>0),$F58>=$J58,TRUE)","v":true},{"$f":"IF(OR($F59<>0,$J59<>0),$F59>=$J59,TRUE)","v":true},{"$f":"IF(OR($F60<>0,$J60<>0),$F60>=$J60,TRUE)","v":true},{"$f":"IF(OR($F61<>0,$J61<>0),$F61>=$J61,TRUE)","v":true},{"$f":"IF(OR($F62<>0,$J62<>0),$F62>=$J62,TRUE)","v":true},{"$f":"IF(OR($F63<>0,$J63<>0),$F63>=$J63,TRUE)","v":true},{"$f":"IF(OR($F64<>0,$J64<>0),$F64>=$J64,TRUE)","v":true},{"$f":"IF(OR($F65<>0,$J65<>0),$F65>=$J65,TRUE)","v":true},{"$f":"IF(OR($F66<>0,$J66<>0),$F66>=$J66,TRUE)","v":true},{"$f":"IF(OR($F67<>0,$J67<>0),$F67>=$J67,TRUE)","v":true},{"$f":"IF(OR($F68<>0,$J68<>0),$F68>=$J68,TRUE)","v":true},{"$f":"IF(OR($F69<>0,$J69<>0),$F69>=$J69,TRUE)","v":true},{"$f":"IF(OR($F70<>0,$J70<>0),$F70>=$J70,TRUE)","v":true},{"$f":"IF(OR($F71<>0,$J71<>0),$F71>=$J71,TRUE)","v":true},{"$f":"IF(OR($F72<>0,$J72<>0),$F72>=$J72,TRUE)","v":true},{"$f":"IF(OR($F73<>0,$J73<>0),$F73>=$J73,TRUE)","v":true},{"$f":"IF(OR($F74<>0,$J74<>0),$F74>=$J74,TRUE)","v":true},{"$f":"IF(OR($F75<>0,$J75<>0),$F75>=$J75,TRUE)","v":true},{"$f":"IF(OR($F76<>0,$J76<>0),$F76>=$J76,TRUE)","v":true},{"$f":"IF(OR($F77<>0,$J77<>0),$F77>=$J77,TRUE)","v":true},{"$f":"IF(OR($F78<>0,$J78<>0),$F78>=$J78,TRUE)","v":true}]
[null,"Новообразования ",2,"C00-D48",{"$f":"'5000 и 5001 ДВН'!E9+'5000 и 5001 ПО'!E9","v":3},{"$f":"'5000 и 5001 ДВН'!F9+'5000 и 5001 ПО'!F9","v":3},{"$f":"'5000 и 5001 ДВН'!G9+'5000 и 5001 ПО'!G9","v":1},{"$f":"'5000 и 5001 ДВН'!H9+'5000 и 5001 ПО'!H9","v":2},{"$f":"'5000 и 5001 ДВН'!I9+'5000 и 5001 ПО'!I9","v":0},{"$f":"'5000 и 5001 ДВН'!J9+'5000 и 5001 ПО'!J9","v":0},{"$f":"'5000 и 5001 ДВН'!K9+'5000 и 5001 ПО'!K9","v":0},{"$f":"'5000 и 5001 ДВН'!L9+'5000 и 5001 ПО'!L9","v":0},{"$f":"'5000 и 5001 ДВН'!M9+'5000 и 5001 ПО'!M9","v":0},{"$f":"'5000 и 5001 ДВН'!N9+'5000 и 5001 ПО'!N9","v":0},{"$f":"IF(Q9>0,\"гр.6 >= гр.10 по строке \"&P9,\"ОК\")","v":"ОК"},{"$f":"IF(Q9>0,INDEX($C$7:$C$78,Q9,1),CHAR(151))","v":"—"},{"$f":"IF(ISERROR(MATCH(FALSE,S9:CL9,0)),0,MATCH(FALSE,S9:CL9,0))","v":0},null,{"$f":"IF(OR($G7<>0,$K7<>0),$G7>=$K7,TRUE)","v":true},{"$f":"IF(OR($G8<>0,$K8<>0),$G8>=$K8,TRUE)","v":true},{"$f":"IF(OR($G9<>0,$K9<>0),$G9>=$K9,TRUE)","v":true},{"$f":"IF(OR($G10<>0,$K10<>0),$G10>=$K10,TRUE)","v":true},{"$f":"IF(OR($G11<>0,$K11<>0),$G11>=$K11,TRUE)","v":true},{"$f":"IF(OR($G12<>0,$K12<>0),$G12>=$K12,TRUE)","v":true},{"$f":"IF(OR($G13<>0,$K13<>0),$G13>=$K13,TRUE)","v":true},{"$f":"IF(OR($G14<>0,$K14<>0),$G14>=$K14,TRUE)","v":true},{"$f":"IF(OR($G15<>0,$K15<>0),$G15>=$K15,TRUE)","v":true},{"$f":"IF(OR($G16<>0,$K16<>0),$G16>=$K16,TRUE)","v":true},{"$f":"IF(OR($G17<>0,$K17<>0),$G17>=$K17,TRUE)","v":true},{"$f":"IF(OR($G18<>0,$K18<>0),$G18>=$K18,TRUE)","v":true},{"$f":"IF(OR($G19<>0,$K19<>0),$G19>=$K19,TRUE)","v":true},{"$f":"IF(OR($G20<>0,$K20<>0),$G20>=$K20,TRUE)","v":true},{"$f":"IF(OR($G21<>0,$K21<>0),$G21>=$K21,TRUE)","v":true},{"$f":"IF(OR($G22<>0,$K22<>0),$G22>=$K22,TRUE)","v":true},{"$f":"IF(OR($G23<>0,$K23<>0),$G23>=$K23,TRUE)","v":true},{"$f":"IF(OR($G24<>0,$K24<>0),$G24>=$K24,TRUE)","v":true},{"$f":"IF(OR($G25<>0,$K25<>0),$G25>=$K25,TRUE)","v":true},{"$f":"IF(OR($G26<>0,$K26<>0),$G26>=$K26,TRUE)","v":true},{"$f":"IF(OR($G27<>0,$K27<>0),$G27>=$K27,TRUE)","v":true},{"$f":"IF(OR($G28<>0,$K28<>0),$G28>=$K28,TRUE)","v":true},{"$f":"IF(OR($G29<>0,$K29<>0),$G29>=$K29,TRUE)","v":true},{"$f":"IF(OR($G30<>0,$K30<>0),$G30>=$K30,TRUE)","v":true},{"$f":"IF(OR($G31<>0,$K31<>0),$G31>=$K31,TRUE)","v":true},{"$f":"IF(OR($G32<>0,$K32<>0),$G32>=$K32,TRUE)","v":true},{"$f":"IF(OR($G33<>0,$K33<>0),$G33>=$K33,TRUE)","v":true},{"$f":"IF(OR($G34<>0,$K34<>0),$G34>=$K34,TRUE)","v":true},{"$f":"IF(OR($G35<>0,$K35<>0),$G35>=$K35,TRUE)","v":true},{"$f":"IF(OR($G36<>0,$K36<>0),$G36>=$K36,TRUE)","v":true},{"$f":"IF(OR($G37<>0,$K37<>0),$G37>=$K37,TRUE)","v":true},{"$f":"IF(OR($G38<>0,$K38<>0),$G38>=$K38,TRUE)","v":true},{"$f":"IF(OR($G39<>0,$K39<>0),$G39>=$K39,TRUE)","v":true},{"$f":"IF(OR($G40<>0,$K40<>0),$G40>=$K40,TRUE)","v":true},{"$f":"IF(OR($G41<>0,$K41<>0),$G41>=$K41,TRUE)","v":true},{"$f":"IF(OR($G42<>0,$K42<>0),$G42>=$K42,TRUE)","v":true},{"$f":"IF(OR($G43<>0,$K43<>0),$G43>=$K43,TRUE)","v":true},{"$f":"IF(OR($G44<>0,$K44<>0),$G44>=$K44,TRUE)","v":true},{"$f":"IF(OR($G45<>0,$K45<>0),$G45>=$K45,TRUE)","v":true},{"$f":"IF(OR($G46<>0,$K46<>0),$G46>=$K46,TRUE)","v":true},{"$f":"IF(OR($G47<>0,$K47<>0),$G47>=$K47,TRUE)","v":true},{"$f":"IF(OR($G48<>0,$K48<>0),$G48>=$K48,TRUE)","v":true},{"$f":"IF(OR($G49<>0,$K49<>0),$G49>=$K49,TRUE)","v":true},{"$f":"IF(OR($G50<>0,$K50<>0),$G50>=$K50,TRUE)","v":true},{"$f":"IF(OR($G51<>0,$K51<>0),$G51>=$K51,TRUE)","v":true},{"$f":"IF(OR($G52<>0,$K52<>0),$G52>=$K52,TRUE)","v":true},{"$f":"IF(OR($G53<>0,$K53<>0),$G53>=$K53,TRUE)","v":true},{"$f":"IF(OR($G54<>0,$K54<>0),$G54>=$K54,TRUE)","v":true},{"$f":"IF(OR($G55<>0,$K55<>0),$G55>=$K55,TRUE)","v":true},{"$f":"IF(OR($G56<>0,$K56<>0),$G56>=$K56,TRUE)","v":true},{"$f":"IF(OR($G57<>0,$K57<>0),$G57>=$K57,TRUE)","v":true},{"$f":"IF(OR($G58<>0,$K58<>0),$G58>=$K58,TRUE)","v":true},{"$f":"IF(OR($G59<>0,$K59<>0),$G59>=$K59,TRUE)","v":true},{"$f":"IF(OR($G60<>0,$K60<>0),$G60>=$K60,TRUE)","v":true},{"$f":"IF(OR($G61<>0,$K61<>0),$G61>=$K61,TRUE)","v":true},{"$f":"IF(OR($G62<>0,$K62<>0),$G62>=$K62,TRUE)","v":true},{"$f":"IF(OR($G63<>0,$K63<>0),$G63>=$K63,TRUE)","v":true},{"$f":"IF(OR($G64<>0,$K64<>0),$G64>=$K64,TRUE)","v":true},{"$f":"IF(OR($G65<>0,$K65<>0),$G65>=$K65,TRUE)","v":true},{"$f":"IF(OR($G66<>0,$K66<>0),$G66>=$K66,TRUE)","v":true},{"$f":"IF(OR($G67<>0,$K67<>0),$G67>=$K67,TRUE)","v":true},{"$f":"IF(OR($G68<>0,$K68<>0),$G68>=$K68,TRUE)","v":true},{"$f":"IF(OR($G69<>0,$K69<>0),$G69>=$K69,TRUE)","v":true},{"$f":"IF(OR($G70<>0,$K70<>0),$G70>=$K70,TRUE)","v":true},{"$f":"IF(OR($G71<>0,$K71<>0),$G71>=$K71,TRUE)","v":true},{"$f":"IF(OR($G72<>0,$K72<>0),$G72>=$K72,TRUE)","v":true},{"$f":"IF(OR($G73<>0,$K73<>0),$G73>=$K73,TRUE)","v":true},{"$f":"IF(OR($G74<>0,$K74<>0),$G74>=$K74,TRUE)","v":true},{"$f":"IF(OR($G75<>0,$K75<>0),$G75>=$K75,TRUE)","v":true},{"$f":"IF(OR($G76<>0,$K76<>0),$G76>=$K76,TRUE)","v":true},{"$f":"IF(OR($G77<>0,$K77<>0),$G77>=$K77,TRUE)","v":true},{"$f":"IF(OR($G78<>0,$K78<>0),$G78>=$K78,TRUE)","v":true}]
[null,"Злокачественные новообразования","2.1","C00 - С97",{"$f":"'5000 и 5001 ДВН'!E10+'5000 и 5001 ПО'!E10","v":3},{"$f":"'5000 и 5001 ДВН'!F10+'5000 и 5001 ПО'!F10","v":3},{"$f":"'5000 и 5001 ДВН'!G10+'5000 и 5001 ПО'!G10","v":1},{"$f":"'5000 и 5001 ДВН'!H10+'5000 и 5001 ПО'!H10","v":2},{"$f":"'5000 и 5001 ДВН'!I10+'5000 и 5001 ПО'!I10","v":0},{"$f":"'5000 и 5001 ДВН'!J10+'5000 и 5001 ПО'!J10","v":0},{"$f":"'5000 и 5001 ДВН'!K10+'5000 и 5001 ПО'!K10","v":0},{"$f":"'5000 и 5001 ДВН'!L10+'5000 и 5001 ПО'!L10","v":0},{"$f":"'5000 и 5001 ДВН'!M10+'5000 и 5001 ПО'!M10","v":0},{"$f":"'5000 и 5001 ДВН'!N10+'5000 и 5001 ПО'!N10","v":0},{"$f":"IF(Q10>0,\"гр.7 >= гр.12 по строке \"&P10,\"ОК\")","v":"ОК"},{"$f":"IF(Q10>0,INDEX($C$7:$C$78,Q10,1),CHAR(151))","v":"—"},{"$f":"IF(ISERROR(MATCH(FALSE,S10:CL10,0)),0,MATCH(FALSE,S10:CL10,0))","v":0},null,{"$f":"IF(OR($H7<>0,$M7<>0),$H7>=$M7,TRUE)","v":true},{"$f":"IF(OR($H8<>0,$M8<>0),$H8>=$M8,TRUE)","v":true},{"$f":"IF(OR($H9<>0,$M9<>0),$H9>=$M9,TRUE)","v":true},{"$f":"IF(OR($H10<>0,$M10<>0),$H10>=$M10,TRUE)","v":true},{"$f":"IF(OR($H11<>0,$M11<>0),$H11>=$M11,TRUE)","v":true},{"$f":"IF(OR($H12<>0,$M12<>0),$H12>=$M12,TRUE)","v":true},{"$f":"IF(OR($H13<>0,$M13<>0),$H13>=$M13,TRUE)","v":true},{"$f":"IF(OR($H14<>0,$M14<>0),$H14>=$M14,TRUE)","v":true},{"$f":"IF(OR($H15<>0,$M15<>0),$H15>=$M15,TRUE)","v":true},{"$f":"IF(OR($H16<>0,$M16<>0),$H16>=$M16,TRUE)","v":true},{"$f":"IF(OR($H17<>0,$M17<>0),$H17>=$M17,TRUE)","v":true},{"$f":"IF(OR($H18<>0,$M18<>0),$H18>=$M18,TRUE)","v":true},{"$f":"IF(OR($H19<>0,$M19<>0),$H19>=$M19,TRUE)","v":true},{"$f":"IF(OR($H20<>0,$M20<>0),$H20>=$M20,TRUE)","v":true},{"$f":"IF(OR($H21<>0,$M21<>0),$H21>=$M21,TRUE)","v":true},{"$f":"IF(OR($H22<>0,$M22<>0),$H22>=$M22,TRUE)","v":true},{"$f":"IF(OR($H23<>0,$M23<>0),$H23>=$M23,TRUE)","v":true},{"$f":"IF(OR($H24<>0,$M24<>0),$H24>=$M24,TRUE)","v":true},{"$f":"IF(OR($H25<>0,$M25<>0),$H25>=$M25,TRUE)","v":true},{"$f":"IF(OR($H26<>0,$M26<>0),$H26>=$M26,TRUE)","v":true},{"$f":"IF(OR($H27<>0,$M27<>0),$H27>=$M27,TRUE)","v":true},{"$f":"IF(OR($H28<>0,$M28<>0),$H28>=$M28,TRUE)","v":true},{"$f":"IF(OR($H29<>0,$M29<>0),$H29>=$M29,TRUE)","v":true},{"$f":"IF(OR($H30<>0,$M30<>0),$H30>=$M30,TRUE)","v":true},{"$f":"IF(OR($H31<>0,$M31<>0),$H31>=$M31,TRUE)","v":true},{"$f":"IF(OR($H32<>0,$M32<>0),$H32>=$M32,TRUE)","v":true},{"$f":"IF(OR($H33<>0,$M33<>0),$H33>=$M33,TRUE)","v":true},{"$f":"IF(OR($H34<>0,$M34<>0),$H34>=$M34,TRUE)","v":true},{"$f":"IF(OR($H35<>0,$M35<>0),$H35>=$M35,TRUE)","v":true},{"$f":"IF(OR($H36<>0,$M36<>0),$H36>=$M36,TRUE)","v":true},{"$f":"IF(OR($H37<>0,$M37<>0),$H37>=$M37,TRUE)","v":true},{"$f":"IF(OR($H38<>0,$M38<>0),$H38>=$M38,TRUE)","v":true},{"$f":"IF(OR($H39<>0,$M39<>0),$H39>=$M39,TRUE)","v":true},{"$f":"IF(OR($H40<>0,$M40<>0),$H40>=$M40,TRUE)","v":true},{"$f":"IF(OR($H41<>0,$M41<>0),$H41>=$M41,TRUE)","v":true},{"$f":"IF(OR($H42<>0,$M42<>0),$H42>=$M42,TRUE)","v":true},{"$f":"IF(OR($H43<>0,$M43<>0),$H43>=$M43,TRUE)","v":true},{"$f":"IF(OR($H44<>0,$M44<>0),$H44>=$M44,TRUE)","v":true},{"$f":"IF(OR($H45<>0,$M45<>0),$H45>=$M45,TRUE)","v":true},{"$f":"IF(OR($H46<>0,$M46<>0),$H46>=$M46,TRUE)","v":true},{"$f":"IF(OR($H47<>0,$M47<>0),$H47>=$M47,TRUE)","v":true},{"$f":"IF(OR($H48<>0,$M48<>0),$H48>=$M48,TRUE)","v":true},{"$f":"IF(OR($H49<>0,$M49<>0),$H49>=$M49,TRUE)","v":true},{"$f":"IF(OR($H50<>0,$M50<>0),$H50>=$M50,TRUE)","v":true},{"$f":"IF(OR($H51<>0,$M51<>0),$H51>=$M51,TRUE)","v":true},{"$f":"IF(OR($H52<>0,$M52<>0),$H52>=$M52,TRUE)","v":true},{"$f":"IF(OR($H53<>0,$M53<>0),$H53>=$M53,TRUE)","v":true},{"$f":"IF(OR($H54<>0,$M54<>0),$H54>=$M54,TRUE)","v":true},{"$f":"IF(OR($H55<>0,$M55<>0),$H55>=$M55,TRUE)","v":true},{"$f":"IF(OR($H56<>0,$M56<>0),$H56>=$M56,TRUE)","v":true},{"$f":"IF(OR($H57<>0,$M57<>0),$H57>=$M57,TRUE)","v":true},{"$f":"IF(OR($H58<>0,$M58<>0),$H58>=$M58,TRUE)","v":true},{"$f":"IF(OR($H59<>0,$M59<>0),$H59>=$M59,TRUE)","v":true},{"$f":"IF(OR($H60<>0,$M60<>0),$H60>=$M60,TRUE)","v":true},{"$f":"IF(OR($H61<>0,$M61<>0),$H61>=$M61,TRUE)","v":true},{"$f":"IF(OR($H62<>0,$M62<>0),$H62>=$M62,TRUE)","v":true},{"$f":"IF(OR($H63<>0,$M63<>0),$H63>=$M63,TRUE)","v":true},{"$f":"IF(OR($H64<>0,$M64<>0),$H64>=$M64,TRUE)","v":true},{"$f":"IF(OR($H65<>0,$M65<>0),$H65>=$M65,TRUE)","v":true},{"$f":"IF(OR($H66<>0,$M66<>0),$H66>=$M66,TRUE)","v":true},{"$f":"IF(OR($H67<>0,$M67<>0),$H67>=$M67,TRUE)","v":true},{"$f":"IF(OR($H68<>0,$M68<>0),$H68>=$M68,TRUE)","v":true},{"$f":"IF(OR($H69<>0,$M69<>0),$H69>=$M69,TRUE)","v":true},{"$f":"IF(OR($H70<>0,$M70<>0),$H70>=$M70,TRUE)","v":true},{"$f":"IF(OR($H71<>0,$M71<>0),$H71>=$M71,TRUE)","v":true},{"$f":"IF(OR($H72<>0,$M72<>0),$H72>=$M72,TRUE)","v":true},{"$f":"IF(OR($H73<>0,$M73<>0),$H73>=$M73,TRUE)","v":true},{"$f":"IF(OR($H74<>0,$M74<>0),$H74>=$M74,TRUE)","v":true},{"$f":"IF(OR($H75<>0,$M75<>0),$H75>=$M75,TRUE)","v":true},{"$f":"IF(OR($H76<>0,$M76<>0),$H76>=$M76,TRUE)","v":true},{"$f":"IF(OR($H77<>0,$M77<>0),$H77>=$M77,TRUE)","v":true},{"$f":"IF(OR($H78<>0,$M78<>0),$H78>=$M78,TRUE)","v":true}]
[null,"Из них губы, полости рта и глотки","2.2","C00 - С14",{"$f":"'5000 и 5001 ДВН'!E11+'5000 и 5001 ПО'!E11","v":0},{"$f":"'5000 и 5001 ДВН'!F11+'5000 и 5001 ПО'!F11","v":0},{"$f":"'5000 и 5001 ДВН'!G11+'5000 и 5001 ПО'!G11","v":0},{"$f":"'5000 и 5001 ДВН'!H11+'5000 и 5001 ПО'!H11","v":0},{"$f":"'5000 и 5001 ДВН'!I11+'5000 и 5001 ПО'!I11","v":0},{"$f":"'5000 и 5001 ДВН'!J11+'5000 и 5001 ПО'!J11","v":0},{"$f":"'5000 и 5001 ДВН'!K11+'5000 и 5001 ПО'!K11","v":0},{"$f":"'5000 и 5001 ДВН'!L11+'5000 и 5001 ПО'!L11","v":0},{"$f":"'5000 и 5001 ДВН'!M11+'5000 и 5001 ПО'!M11","v":0},{"$f":"'5000 и 5001 ДВН'!N11+'5000 и 5001 ПО'!N11","v":0},{"$f":"IF(Q11>0,\"стр.2.1 < суммы строк (2.2.+2.4+2.6+2.8+2.10+2.12+2.14+2.16+2.18+2.21+2.24) по графе \"&P11,\"ОК\")","v":"ОК"},{"$f":"IF(Q11>0,INDEX($F$6:$N$6,1,Q11),CHAR(151))","v":"—"},{"$f":"IF(ISERROR(MATCH(FALSE,S11:AA11,0)),0,MATCH(FALSE,S11:AA11,0))","v":0},"данные по строке 2.1 д.б. больше или равны суммы строк (2.2.+2.4+2.6+2.8+2.10+2.12+2.14+2.16+2.18+2.21+2.24) по всем графам",{"$f":"F10>=SUM(F11,F13,F15,F17,F19,F21,F23,F25,F27,F30,F33)","v":true},{"$f":"G10>=SUM(G11,G13,G15,G17,G19,G21,G23,G25,G27,G30,G33)","v":true},true,{"$f":"I10>=SUM(I11,I13,I15,I17,I19,I21,I23,I25,I27,I30,I33)","v":true},{"$f":"J10>=SUM(J11,J13,J15,J17,J19,J21,J23,J25,J27,J30,J33)","v":true},true,true,true,true]
[null,"из них в 1-2 стадии","2.3",null,{"$f":"'5000 и 5001 ДВН'!E12+'5000 и 5001 ПО'!E12","v":0},{"$f":"'5000 и 5001 ДВН'!F12+'5000 и 5001 ПО'!F12","v":0},{"$f":"'5000 и 5001 ДВН'!G12+'5000 и 5001 ПО'!G12","v":0},{"$f":"'5000 и 5001 ДВН'!H12+'5000 и 5001 ПО'!H12","v":0},{"$f":"'5000 и 5001 ДВН'!I12+'5000 и 5001 ПО'!I12","v":0},{"$f":"'5000 и 5001 ДВН'!J12+'5000 и 5001 ПО'!J12","v":0},{"$f":"'5000 и 5001 ДВН'!K12+'5000 и 5001 ПО'!K12","v":0},{"$f":"'5000 и 5001 ДВН'!L12+'5000 и 5001 ПО'!L12","v":0},{"$f":"'5000 и 5001 ДВН'!M12+'5000 и 5001 ПО'!M12","v":0},{"$f":"'5000 и 5001 ДВН'!N12+'5000 и 5001 ПО'!N12","v":0},{"$f":"IF(Q12>0,\"стр.2 < стр.2.1 по графе \"&P12,\"ОК\")","v":"ОК"},{"$f":"IF(Q12>0,INDEX($F$6:$N$6,1,Q12),CHAR(151))","v":"—"},{"$f":"IF(ISERROR(MATCH(FALSE,S12:AA12,0)),0,MATCH(FALSE,S12:AA12,0))","v":0},"строка 2 д.б больше или равна строке 2.1",{"$f":"F9>=F10","v":true},{"$f":"G9>=G10","v":true},true,true,true,true,true,true,true]
[null,"пищевода","2.4","С15",{"$f":"'5000 и 5001 ДВН'!E13+'5000 и 5001 ПО'!E13","v":0},{"$f":"'5000 и 5001 ДВН'!F13+'5000 и 5001 ПО'!F13","v":0},{"$f":"'5000 и 5001 ДВН'!G13+'5000 и 5001 ПО'!G13","v":0},{"$f":"'5000 и 5001 ДВН'!H13+'5000 и 5001 ПО'!H13","v":0},{"$f":"'5000 и 5001 ДВН'!I13+'5000 и 5001 ПО'!I13","v":0},{"$f":"'5000 и 5001 ДВН'!J13+'5000 и 5001 ПО'!J13","v":0},{"$f":"'5000 и 5001 ДВН'!K13+'5000 и 5001 ПО'!K13","v":0},{"$f":"'5000 и 5001 ДВН'!L13+'5000 и 5001 ПО'!L13","v":0},{"$f":"'5000 и 5001 ДВН'!M13+'5000 и 5001 ПО'!M13","v":0},{"$f":"'5000 и 5001 ДВН'!N13+'5000 и 5001 ПО'!N13","v":0}]
[null,"из них в 1-2 стадии","2.5",null,{"$f":"'5000 и 5001 ДВН'!E14+'5000 и 5001 ПО'!E14","v":0},{"$f":"'5000 и 5001 ДВН'!F14+'5000 и 5001 ПО'!F14","v":0},{"$f":"'5000 и 5001 ДВН'!G14+'5000 и 5001 ПО'!G14","v":0},{"$f":"'5000 и 5001 ДВН'!H14+'5000 и 5001 ПО'!H14","v":0},{"$f":"'5000 и 5001 ДВН'!I14+'5000 и 5001 ПО'!I14","v":0},{"$f":"'5000 и 5001 ДВН'!J14+'5000 и 5001 ПО'!J14","v":0},{"$f":"'5000 и 5001 ДВН'!K14+'5000 и 5001 ПО'!K14","v":0},{"$f":"'5000 и 5001 ДВН'!L14+'5000 и 5001 ПО'!L14","v":0},{"$f":"'5000 и 5001 ДВН'!M14+'5000 и 5001 ПО'!M14","v":0},{"$f":"'5000 и 5001 ДВН'!N14+'5000 и 5001 ПО'!N14","v":0}]
[null,"желудка","2.6","С16",{"$f":"'5000 и 5001 ДВН'!E15+'5000 и 5001 ПО'!E15","v":0},{"$f":"'5000 и 5001 ДВН'!F15+'5000 и 5001 ПО'!F15","v":0},{"$f":"'5000 и 5001 ДВН'!G15+'5000 и 5001 ПО'!G15","v":0},{"$f":"'5000 и 5001 ДВН'!H15+'5000 и 5001 ПО'!H15","v":0},{"$f":"'5000 и 5001 ДВН'!I15+'5000 и 5001 ПО'!I15","v":0},{"$f":"'5000 и 5001 ДВН'!J15+'5000 и 5001 ПО'!J15","v":0},{"$f":"'5000 и 5001 ДВН'!K15+'5000 и 5001 ПО'!K15","v":0},{"$f":"'5000 и 5001 ДВН'!L15+'5000 и 5001 ПО'!L15","v":0},{"$f":"'5000 и 5001 ДВН'!M15+'5000 и 5001 ПО'!M15","v":0},{"$f":"'5000 и 5001 ДВН'!N15+'5000 и 5001 ПО'!N15","v":0}]
[null,"из них в 1-2 стадии","2.7",null,{"$f":"'5000 и 5001 ДВН'!E16+'5000 и 5001 ПО'!E16","v":0},{"$f":"'5000 и 5001 ДВН'!F16+'5000 и 5001 ПО'!F16","v":0},{"$f":"'5000 и 5001 ДВН'!G16+'5000 и 5001 ПО'!G16","v":0},{"$f":"'5000 и 5001 ДВН'!H16+'5000 и 5001 ПО'!H16","v":0},{"$f":"'5000 и 5001 ДВН'!I16+'5000 и 5001 ПО'!I16","v":0},{"$f":"'5000 и 5001 ДВН'!J16+'5000 и 5001 ПО'!J16","v":0},{"$f":"'5000 и 5001 ДВН'!K16+'5000 и 5001 ПО'!K16","v":0},{"$f":"'5000 и 5001 ДВН'!L16+'5000 и 5001 ПО'!L16","v":0},{"$f":"'5000 и 5001 ДВН'!M16+'5000 и 5001 ПО'!M16","v":0},{"$f":"'5000 и 5001 ДВН'!N16+'5000 и 5001 ПО'!N16","v":0}]
[null,"тонкого кишечника","2.8","С17",{"$f":"'5000 и 5001 ДВН'!E17+'5000 и 5001 ПО'!E17","v":0},{"$f":"'5000 и 5001 ДВН'!F17+'5000 и 5001 ПО'!F17","v":0},{"$f":"'5000 и 5001 ДВН'!G17+'5000 и 5001 ПО'!G17","v":0},{"$f":"'5000 и 5001 ДВН'!H17+'5000 и 5001 ПО'!H17","v":0},{"$f":"'5000 и 5001 ДВН'!I17+'5000 и 5001 ПО'!I17","v":0},{"$f":"'5000 и 5001 ДВН'!J17+'5000 и 5001 ПО'!J17","v":0},{"$f":"'5000 и 5001 ДВН'!K17+'5000 и 5001 ПО'!K17","v":0},{"$f":"'5000 и 5001 ДВН'!L17+'5000 и 5001 ПО'!L17","v":0},{"$f":"'5000 и 5001 ДВН'!M17+'5000 и 5001 ПО'!M17","v":0},{"$f":"'5000 и 5001 ДВН'!N17+'5000 и 5001 ПО'!N17","v":0}]
[null,"из них в 1-2 стадии","2.9",null,{"$f":"'5000 и 5001 ДВН'!E18+'5000 и 5001 ПО'!E18","v":0},{"$f":"'5000 и 5001 ДВН'!F18+'5000 и 5001 ПО'!F18","v":0},{"$f":"'5000 и 5001 ДВН'!G18+'5000 и 5001 ПО'!G18","v":0},{"$f":"'5000 и 5001 ДВН'!H18+'5000 и 5001 ПО'!H18","v":0},{"$f":"'5000 и 5001 ДВН'!I18+'5000 и 5001 ПО'!I18","v":0},{"$f":"'5000 и 5001 ДВН'!J18+'5000 и 5001 ПО'!J18","v":0},{"$f":"'5000 и 5001 ДВН'!K18+'5000 и 5001 ПО'!K18","v":0},{"$f":"'5000 и 5001 ДВН'!L18+'5000 и 5001 ПО'!L18","v":0},{"$f":"'5000 и 5001 ДВН'!M18+'5000 и 5001 ПО'!M18","v":0},{"$f":"'5000 и 5001 ДВН'!N18+'5000 и 5001 ПО'!N18","v":0}]
[null,"ободочной кишки","2.10","С18",{"$f":"'5000 и 5001 ДВН'!E19+'5000 и 5001 ПО'!E19","v":0},{"$f":"'5000 и 5001 ДВН'!F19+'5000 и 5001 ПО'!F19","v":0},{"$f":"'5000 и 5001 ДВН'!G19+'5000 и 5001 ПО'!G19","v":0},{"$f":"'5000 и 5001 ДВН'!H19+'5000 и 5001 ПО'!H19","v":0},{"$f":"'5000 и 5001 ДВН'!I19+'5000 и 5001 ПО'!I19","v":0},{"$f":"'5000 и 5001 ДВН'!J19+'5000 и 5001 ПО'!J19","v":0},{"$f":"'5000 и 5001 ДВН'!K19+'5000 и 5001 ПО'!K19","v":0},{"$f":"'5000 и 5001 ДВН'!L19+'5000 и 5001 ПО'!L19","v":0},{"$f":"'5000 и 5001 ДВН'!M19+'5000 и 5001 ПО'!M19","v":0},{"$f":"'5000 и 5001 ДВН'!N19+'5000 и 5001 ПО'!N19","v":0}]
[null,"из них в 1-2 стадии","2.11",null,{"$f":"'5000 и 5001 ДВН'!E20+'5000 и 5001 ПО'!E20","v":0},{"$f":"'5000 и 5001 ДВН'!F20+'5000 и 5001 ПО'!F20","v":0},{"$f":"'5000 и 5001 ДВН'!G20+'5000 и 5001 ПО'!G20","v":0},{"$f":"'5000 и 5001 ДВН'!H20+'5000 и 5001 ПО'!H20","v":0},{"$f":"'5000 и 5001 ДВН'!I20+'5000 и 5001 ПО'!I20","v":0},{"$f":"'5000 и 5001 ДВН'!J20+'5000 и 5001 ПО'!J20","v":0},{"$f":"'5000 и 5001 ДВН'!K20+'5000 и 5001 ПО'!K20","v":0},{"$f":"'5000 и 5001 ДВН'!L20+'5000 и 5001 ПО'!L20","v":0},{"$f":"'5000 и 5001 ДВН'!M20+'5000 и 5001 ПО'!M20","v":0},{"$f":"'5000 и 5001 ДВН'!N20+'5000 и 5001 ПО'!N20","v":0}]
[null,"ректосигмоидного соединения, прямой кишки, заднего прохода (ануса) и анального канала","2.12","С19 - С21",{"$f":"'5000 и 5001 ДВН'!E21+'5000 и 5001 ПО'!E21","v":1},{"$f":"'5000 и 5001 ДВН'!F21+'5000 и 5001 ПО'!F21","v":1},{"$f":"'5000 и 5001 ДВН'!G21+'5000 и 5001 ПО'!G21","v":1},{"$f":"'5000 и 5001 ДВН'!H21+'5000 и 5001 ПО'!H21","v":0},{"$f":"'5000 и 5001 ДВН'!I21+'5000 и 5001 ПО'!I21","v":0},{"$f":"'5000 и 5001 ДВН'!J21+'5000 и 5001 ПО'!J21","v":0},{"$f":"'5000 и 5001 ДВН'!K21+'5000 и 5001 ПО'!K21","v":0},{"$f":"'5000 и 5001 ДВН'!L21+'5000 и 5001 ПО'!L21","v":0},{"$f":"'5000 и 5001 ДВН'!M21+'5000 и 5001 ПО'!M21","v":0},{"$f":"'5000 и 5001 ДВН'!N21+'5000 и 5001 ПО'!N21","v":0}]
[null,"из них в 1-2 стадии","2.13",null,{"$f":"'5000 и 5001 ДВН'!E22+'5000 и 5001 ПО'!E22","v":1},{"$f":"'5000 и 5001 ДВН'!F22+'5000 и 5001 ПО'!F22","v":1},{"$f":"'5000 и 5001 ДВН'!G22+'5000 и 5001 ПО'!G22","v":1},{"$f":"'5000 и 5001 ДВН'!H22+'5000 и 5001 ПО'!H22","v":0},{"$f":"'5000 и 5001 ДВН'!I22+'5000 и 5001 ПО'!I22","v":0},{"$f":"'5000 и 5001 ДВН'!J22+'5000 и 5001 ПО'!J22","v":0},{"$f":"'5000 и 5001 ДВН'!K22+'5000 и 5001 ПО'!K22","v":0},{"$f":"'5000 и 5001 ДВН'!L22+'5000 и 5001 ПО'!L22","v":0},{"$f":"'5000 и 5001 ДВН'!M22+'5000 и 5001 ПО'!M22","v":0},{"$f":"'5000 и 5001 ДВН'!N22+'5000 и 5001 ПО'!N22","v":0}]
[null,"трахеи, бронхов, легкого","2.14","C33,",{"$f":"'5000 и 5001 ДВН'!E23+'5000 и 5001 ПО'!E23","v":0},{"$f":"'5000 и 5001 ДВН'!F23+'5000 и 5001 ПО'!F23","v":0},{"$f":"'5000 и 5001 ДВН'!G23+'5000 и 5001 ПО'!G23","v":0},{"$f":"'5000 и 5001 ДВН'!H23+'5000 и 5001 ПО'!H23","v":0},{"$f":"'5000 и 5001 ДВН'!I23+'5000 и 5001 ПО'!I23","v":0},{"$f":"'5000 и 5001 ДВН'!J23+'5000 и 5001 ПО'!J23","v":0},{"$f":"'5000 и 5001 ДВН'!K23+'5000 и 5001 ПО'!K23","v":0},{"$f":"'5000 и 5001 ДВН'!L23+'5000 и 5001 ПО'!L23","v":0},{"$f":"'5000 и 5001 ДВН'!M23+'5000 и 5001 ПО'!M23","v":0},{"$f":"'5000 и 5001 ДВН'!N23+'5000 и 5001 ПО'!N23","v":0}]
[null,"из них в 1-2 стадии","2.15","С34",{"$f":"'5000 и 5001 ДВН'!E24+'5000 и 5001 ПО'!E24","v":0},{"$f":"'5000 и 5001 ДВН'!F24+'5000 и 5001 ПО'!F24","v":0},{"$f":"'5000 и 5001 ДВН'!G24+'5000 и 5001 ПО'!G24","v":0},{"$f":"'5000 и 5001 ДВН'!H24+'5000 и 5001 ПО'!H24","v":0},{"$f":"'5000 и 5001 ДВН'!I24+'5000 и 5001 ПО'!I24","v":0},{"$f":"'5000 и 5001 ДВН'!J24+'5000 и 5001 ПО'!J24","v":0},{"$f":"'5000 и 5001 ДВН'!K24+'5000 и 5001 ПО'!K24","v":0},{"$f":"'5000 и 5001 ДВН'!L24+'5000 и 5001 ПО'!L24","v":0},{"$f":"'5000 и 5001 ДВН'!M24+'5000 и 5001 ПО'!M24","v":0},{"$f":"'5000 и 5001 ДВН'!N24+'5000 и 5001 ПО'!N24","v":0}]
[null,"кожи","2.16","С43-",{"$f":"'5000 и 5001 ДВН'!E25+'5000 и 5001 ПО'!E25","v":0},{"$f":"'5000 и 5001 ДВН'!F25+'5000 и 5001 ПО'!F25","v":0},{"$f":"'5000 и 5001 ДВН'!G25+'5000 и 5001 ПО'!G25","v":0},{"$f":"'5000 и 5001 ДВН'!H25+'5000 и 5001 ПО'!H25","v":0},{"$f":"'5000 и 5001 ДВН'!I25+'5000 и 5001 ПО'!I25","v":0},{"$f":"'5000 и 5001 ДВН'!J25+'5000 и 5001 ПО'!J25","v":0},{"$f":"'5000 и 5001 ДВН'!K25+'5000 и 5001 ПО'!K25","v":0},{"$f":"'5000 и 5001 ДВН'!L25+'5000 и 5001 ПО'!L25","v":0},{"$f":"'5000 и 5001 ДВН'!M25+'5000 и 5001 ПО'!M25","v":0},{"$f":"'5000 и 5001 ДВН'!N25+'5000 и 5001 ПО'!N25","v":0}]
[null,"из них в 1-2 стадии","2.17","С44",{"$f":"'5000 и 5001 ДВН'!E26+'5000 и 5001 ПО'!E26","v":0},{"$f":"'5000 и 5001 ДВН'!F26+'5000 и 5001 ПО'!F26","v":0},{"$f":"'5000 и 5001 ДВН'!G26+'5000 и 5001 ПО'!G26","v":0},{"$f":"'5000 и 5001 ДВН'!H26+'5000 и 5001 ПО'!H26","v":0},{"$f":"'5000 и 5001 ДВН'!I26+'5000 и 5001 ПО'!I26","v":0},{"$f":"'5000 и 5001 ДВН'!J26+'5000 и 5001 ПО'!J26","v":0},{"$f":"'5000 и 5001 ДВН'!K26+'5000 и 5001 ПО'!K26","v":0},{"$f":"'5000 и 5001 ДВН'!L26+'5000 и 5001 ПО'!L26","v":0},{"$f":"'5000 и 5001 ДВН'!M26+'5000 и 5001 ПО'!M26","v":0},{"$f":"'5000 и 5001 ДВН'!N26+'5000 и 5001 ПО'!N26","v":0}]
[null,"молочной железы","2.18","С50",{"$f":"'5000 и 5001 ДВН'!E27+'5000 и 5001 ПО'!E27","v":1},{"$f":"'5000 и 5001 ДВН'!F27+'5000 и 5001 ПО'!F27","v":1},{"$f":"'5000 и 5001 ДВН'!G27+'5000 и 5001 ПО'!G27","v":0},{"$f":"'5000 и 5001 ДВН'!H27+'5000 и 5001 ПО'!H27","v":1},{"$f":"'5000 и 5001 ДВН'!I27+'5000 и 5001 ПО'!I27","v":0},{"$f":"'5000 и 5001 ДВН'!J27+'5000 и 5001 ПО'!J27","v":0},{"$f":"'5000 и 5001 ДВН'!K27+'5000 и 5001 ПО'!K27","v":0},{"$f":"'5000 и 5001 ДВН'!L27+'5000 и 5001 ПО'!L27","v":0},{"$f":"'5000 и 5001 ДВН'!M27+'5000 и 5001 ПО'!M27","v":0},{"$f":"'5000 и 5001 ДВН'!N27+'5000 и 5001 ПО'!N27","v":0}]
[null,"из них в 0-1 стадии","2.19",null,{"$f":"'5000 и 5001 ДВН'!E28+'5000 и 5001 ПО'!E28","v":0},{"$f":"'5000 и 5001 ДВН'!F28+'5000 и 5001 ПО'!F28","v":0},{"$f":"'5000 и 5001 ДВН'!G28+'5000 и 5001 ПО'!G28","v":0},{"$f":"'5000 и 5001 ДВН'!H28+'5000 и 5001 ПО'!H28","v":0},{"$f":"'5000 и 5001 ДВН'!I28+'5000 и 5001 ПО'!I28","v":0},{"$f":"'5000 и 5001 ДВН'!J28+'5000 и 5001 ПО'!J28","v":0},{"$f":"'5000 и 5001 ДВН'!K28+'5000 и 5001 ПО'!K28","v":0},{"$f":"'5000 и 5001 ДВН'!L28+'5000 и 5001 ПО'!L28","v":0},{"$f":"'5000 и 5001 ДВН'!M28+'5000 и 5001 ПО'!M28","v":0},{"$f":"'5000 и 5001 ДВН'!N28+'5000 и 5001 ПО'!N28","v":0}]
[null,"2 стадии","2.20",null,{"$f":"'5000 и 5001 ДВН'!E29+'5000 и 5001 ПО'!E29","v":1},{"$f":"'5000 и 5001 ДВН'!F29+'5000 и 5001 ПО'!F29","v":1},{"$f":"'5000 и 5001 ДВН'!G29+'5000 и 5001 ПО'!G29","v":0},{"$f":"'5000 и 5001 ДВН'!H29+'5000 и 5001 ПО'!H29","v":1},{"$f":"'5000 и 5001 ДВН'!I29+'5000 и 5001 ПО'!I29","v":0},{"$f":"'5000 и 5001 ДВН'!J29+'5000 и 5001 ПО'!J29","v":0},{"$f":"'5000 и 5001 ДВН'!K29+'5000 и 5001 ПО'!K29","v":0},{"$f":"'5000 и 5001 ДВН'!L29+'5000 и 5001 ПО'!L29","v":0},{"$f":"'5000 и 5001 ДВН'!M29+'5000 и 5001 ПО'!M29","v":0},{"$f":"'5000 и 5001 ДВН'!N29+'5000 и 5001 ПО'!N29","v":0}]
[null,"шейки матки","2.21","С53",{"$f":"'5000 и 5001 ДВН'!E30+'5000 и 5001 ПО'!E30","v":0},{"$f":"'5000 и 5001 ДВН'!F30+'5000 и 5001 ПО'!F30","v":0},{"$f":"'5000 и 5001 ДВН'!G30+'5000 и 5001 ПО'!G30","v":0},{"$f":"'5000 и 5001 ДВН'!H30+'5000 и 5001 ПО'!H30","v":0},{"$f":"'5000 и 5001 ДВН'!I30+'5000 и 5001 ПО'!I30","v":0},{"$f":"'5000 и 5001 ДВН'!J30+'5000 и 5001 ПО'!J30","v":0},{"$f":"'5000 и 5001 ДВН'!K30+'5000 и 5001 ПО'!K30","v":0},{"$f":"'5000 и 5001 ДВН'!L30+'5000 и 5001 ПО'!L30","v":0},{"$f":"'5000 и 5001 ДВН'!M30+'5000 и 5001 ПО'!M30","v":0},{"$f":"'5000 и 5001 ДВН'!N30+'5000 и 5001 ПО'!N30","v":0}]
[null,"из них в 0-1 стадии","2.22",null,{"$f":"'5000 и 5001 ДВН'!E31+'5000 и 5001 ПО'!E31","v":0},{"$f":"'5000 и 5001 ДВН'!F31+'5000 и 5001 ПО'!F31","v":0},{"$f":"'5000 и 5001 ДВН'!G31+'5000 и 5001 ПО'!G31","v":0},{"$f":"'5000 и 5001 ДВН'!H31+'5000 и 5001 ПО'!H31","v":0},{"$f":"'5000 и 5001 ДВН'!I31+'5000 и 5001 ПО'!I31","v":0},{"$f":"'5000 и 5001 ДВН'!J31+'5000 и 5001 ПО'!J31","v":0},{"$f":"'5000 и 5001 ДВН'!K31+'5000 и 5001 ПО'!K31","v":0},{"$f":"'5000 и 5001 ДВН'!L31+'5000 и 5001 ПО'!L31","v":0},{"$f":"'5000 и 5001 ДВН'!M31+'5000 и 5001 ПО'!M31","v":0},{"$f":"'5000 и 5001 ДВН'!N31+'5000 и 5001 ПО'!N31","v":0}]
[null,"2 стадии","2.23",null,{"$f":"'5000 и 5001 ДВН'!E32+'5000 и 5001 ПО'!E32","v":0},{"$f":"'5000 и 5001 ДВН'!F32+'5000 и 5001 ПО'!F32","v":0},{"$f":"'5000 и 5001 ДВН'!G32+'5000 и 5001 ПО'!G32","v":0},{"$f":"'5000 и 5001 ДВН'!H32+'5000 и 5001 ПО'!H32","v":0},{"$f":"'5000 и 5001 ДВН'!I32+'5000 и 5001 ПО'!I32","v":0},{"$f":"'5000 и 5001 ДВН'!J32+'5000 и 5001 ПО'!J32","v":0},{"$f":"'5000 и 5001 ДВН'!K32+'5000 и 5001 ПО'!K32","v":0},{"$f":"'5000 и 5001 ДВН'!L32+'5000 и 5001 ПО'!L32","v":0},{"$f":"'5000 и 5001 ДВН'!M32+'5000 и 5001 ПО'!M32","v":0},{"$f":"'5000 и 5001 ДВН'!N32+'5000 и 5001 ПО'!N32","v":0}]
[null,"предстательной железы","2.24","С61",{"$f":"'5000 и 5001 ДВН'!E33+'5000 и 5001 ПО'!E33","v":1},{"$f":"'5000 и 5001 ДВН'!F33+'5000 и 5001 ПО'!F33","v":1},{"$f":"'5000 и 5001 ДВН'!G33+'5000 и 5001 ПО'!G33","v":0},{"$f":"'5000 и 5001 ДВН'!H33+'5000 и 5001 ПО'!H33","v":1},{"$f":"'5000 и 5001 ДВН'!I33+'5000 и 5001 ПО'!I33","v":0},{"$f":"'5000 и 5001 ДВН'!J33+'5000 и 5001 ПО'!J33","v":0},{"$f":"'5000 и 5001 ДВН'!K33+'5000 и 5001 ПО'!K33","v":0},{"$f":"'5000 и 5001 ДВН'!L33+'5000 и 5001 ПО'!L33","v":0},{"$f":"'5000 и 5001 ДВН'!M33+'5000 и 5001 ПО'!M33","v":0},{"$f":"'5000 и 5001 ДВН'!N33+'5000 и 5001 ПО'!N33","v":0}]
[null,"из них в 1-2 стадии","2.25",null,{"$f":"'5000 и 5001 ДВН'!E34+'5000 и 5001 ПО'!E34","v":1},{"$f":"'5000 и 5001 ДВН'!F34+'5000 и 5001 ПО'!F34","v":1},{"$f":"'5000 и 5001 ДВН'!G34+'5000 и 5001 ПО'!G34","v":0},{"$f":"'5000 и 5001 ДВН'!H34+'5000 и 5001 ПО'!H34","v":1},{"$f":"'5000 и 5001 ДВН'!I34+'5000 и 5001 ПО'!I34","v":0},{"$f":"'5000 и 5001 ДВН'!J34+'5000 и 5001 ПО'!J34","v":0},{"$f":"'5000 и 5001 ДВН'!K34+'5000 и 5001 ПО'!K34","v":0},{"$f":"'5000 и 5001 ДВН'!L34+'5000 и 5001 ПО'!L34","v":0},{"$f":"'5000 и 5001 ДВН'!M34+'5000 и 5001 ПО'!M34","v":0},{"$f":"'5000 и 5001 ДВН'!N34+'5000 и 5001 ПО'!N34","v":0}]
[null,"Болезни крови, кроветворных органов и отдельные нарушения, вовлекающие иммунный механизм","3","D50-D89 ",{"$f":"'5000 и 5001 ДВН'!E35+'5000 и 5001 ПО'!E35","v":0},{"$f":"'5000 и 5001 ДВН'!F35+'5000 и 5001 ПО'!F35","v":1},{"$f":"'5000 и 5001 ДВН'!G35+'5000 и 5001 ПО'!G35","v":0},{"$f":"'5000 и 5001 ДВН'!H35+'5000 и 5001 ПО'!H35","v":0},{"$f":"'5000 и 5001 ДВН'!I35+'5000 и 5001 ПО'!I35","v":0},{"$f":"'5000 и 5001 ДВН'!J35+'5000 и 5001 ПО'!J35","v":0},{"$f":"'5000 и 5001 ДВН'!K35+'5000 и 5001 ПО'!K35","v":0},{"$f":"'5000 и 5001 ДВН'!L35+'5000 и 5001 ПО'!L35","v":0},{"$f":"'5000 и 5001 ДВН'!M35+'5000 и 5001 ПО'!M35","v":0},{"$f":"'5000 и 5001 ДВН'!N35+'5000 и 5001 ПО'!N35","v":0},{"$f":"IF(Q35>0,\"стр.3 < стр.3.1 по графе \"&P35,\"ОК\")","v":"ОК"},{"$f":"IF(Q35>0,INDEX($F$6:$N$6,1,Q35),CHAR(151))","v":"—"},{"$f":"IF(ISERROR(MATCH(FALSE,S35:AA35,0)),0,MATCH(FALSE,S35:AA35,0))","v":0},"данные по строке 3 должны быть больше или равны по соотв.графам строки 3.1",{"$f":"F35>=F36","v":true},{"$f":"G35>=G36","v":true},true,true,true,true,true,true,true]
[null,"в том числе: анемии, связанные с питанием, гемолитические анемии, апластические и другие анемии","3.1","D50-D64 ",{"$f":"'5000 и 5001 ДВН'!E36+'5000 и 5001 ПО'!E36","v":0},{"$f":"'5000 и 5001 ДВН'!F36+'5000 и 5001 ПО'!F36","v":1},{"$f":"'5000 и 5001 ДВН'!G36+'5000 и 5001 ПО'!G36","v":0},{"$f":"'5000 и 5001 ДВН'!H36+'5000 и 5001 ПО'!H36","v":0},{"$f":"'5000 и 5001 ДВН'!I36+'5000 и 5001 ПО'!I36","v":0},{"$f":"'5000 и 5001 ДВН'!J36+'5000 и 5001 ПО'!J36","v":0},{"$f":"'5000 и 5001 ДВН'!K36+'5000 и 5001 ПО'!K36","v":0},{"$f":"'5000 и 5001 ДВН'!L36+'5000 и 5001 ПО'!L36","v":0},{"$f":"'5000 и 5001 ДВН'!M36+'5000 и 5001 ПО'!M36","v":0},{"$f":"'5000 и 5001 ДВН'!N36+'5000 и 5001 ПО'!N36","v":0}]
[null,"Болезни эндокринной системы, расстройства питания и нарушения обмена веществ ","4","Е00-Е90 ",{"$f":"'5000 и 5001 ДВН'!E37+'5000 и 5001 ПО'!E37","v":205},{"$f":"'5000 и 5001 ДВН'!F37+'5000 и 5001 ПО'!F37","v":137},{"$f":"'5000 и 5001 ДВН'!G37+'5000 и 5001 ПО'!G37","v":46},{"$f":"'5000 и 5001 ДВН'!H37+'5000 и 5001 ПО'!H37","v":159},{"$f":"'5000 и 5001 ДВН'!I37+'5000 и 5001 ПО'!I37","v":11},{"$f":"'5000 и 5001 ДВН'!J37+'5000 и 5001 ПО'!J37","v":11},{"$f":"'5000 и 5001 ДВН'!K37+'5000 и 5001 ПО'!K37","v":0},{"$f":"'5000 и 5001 ДВН'!L37+'5000 и 5001 ПО'!L37","v":0},{"$f":"'5000 и 5001 ДВН'!M37+'5000 и 5001 ПО'!M37","v":11},{"$f":"'5000 и 5001 ДВН'!N37+'5000 и 5001 ПО'!N37","v":11},{"$f":"IF(Q37>0,\"стр.4 < суммы строк(4.1+4.3+4.4) по графе \"&P37,\"ОК\")","v":"ОК"},{"$f":"IF(Q37>0,INDEX($F$6:$N$6,1,Q37),CHAR(151))","v":"—"},{"$f":"IF(ISERROR(MATCH(FALSE,S37:AA37,0)),0,MATCH(FALSE,S37:AA37,0))","v":0},"данные по строке 4 должны быть больше или равны по соотв.графам строки 4.1 и больше или равны суммы строк(4.1+4.3+4.4)",{"$f":"F37>=SUM(F38,F40:F41)","v":true},{"$f":"G37>=SUM(G38,G40:G41)","v":true},true,true,true,true,true,true,true]
[null,"Сахарный диабет","4.1","Е10 - Е14",{"$f":"'5000 и 5001 ДВН'!E38+'5000 и 5001 ПО'!E38","v":103},{"$f":"'5000 и 5001 ДВН'!F38+'5000 и 5001 ПО'!F38","v":97},{"$f":"'5000 и 5001 ДВН'!G38+'5000 и 5001 ПО'!G38","v":9},{"$f":"'5000 и 5001 ДВН'!H38+'5000 и 5001 ПО'!H38","v":94},{"$f":"'5000 и 5001 ДВН'!I38+'5000 и 5001 ПО'!I38","v":11},{"$f":"'5000 и 5001 ДВН'!J38+'5000 и 5001 ПО'!J38","v":11},{"$f":"'5000 и 5001 ДВН'!K38+'5000 и 5001 ПО'!K38","v":0},{"$f":"'5000 и 5001 ДВН'!L38+'5000 и 5001 ПО'!L38","v":0},{"$f":"'5000 и 5001 ДВН'!M38+'5000 и 5001 ПО'!M38","v":11},{"$f":"'5000 и 5001 ДВН'!N38+'5000 и 5001 ПО'!N38","v":11}]
[null,"из него: инсулиннезависимый сахарный диабет","4.2","Е11",{"$f":"'5000 и 5001 ДВН'!E39+'5000 и 5001 ПО'!E39","v":103},{"$f":"'5000 и 5001 ДВН'!F39+'5000 и 5001 ПО'!F39","v":97},{"$f":"'5000 и 5001 ДВН'!G39+'5000 и 5001 ПО'!G39","v":9},{"$f":"'5000 и 5001 ДВН'!H39+'5000 и 5001 ПО'!H39","v":94},{"$f":"'5000 и 5001 ДВН'!I39+'5000 и 5001 ПО'!I39","v":11},{"$f":"'5000 и 5001 ДВН'!J39+'5000 и 5001 ПО'!J39","v":11},{"$f":"'5000 и 5001 ДВН'!K39+'5000 и 5001 ПО'!K39","v":0},{"$f":"'5000 и 5001 ДВН'!L39+'5000 и 5001 ПО'!L39","v":0},{"$f":"'5000 и 5001 ДВН'!M39+'5000 и 5001 ПО'!M39","v":11},{"$f":"'5000 и 5001 ДВН'!N39+'5000 и 5001 ПО'!N39","v":11}]
[null,"ожирение ","4.3","Е66 ",{"$f":"'5000 и 5001 ДВН'!E40+'5000 и 5001 ПО'!E40","v":58},{"$f":"'5000 и 5001 ДВН'!F40+'5000 и 5001 ПО'!F40","v":29},{"$f":"'5000 и 5001 ДВН'!G40+'5000 и 5001 ПО'!G40","v":20},{"$f":"'5000 и 5001 ДВН'!H40+'5000 и 5001 ПО'!H40","v":38},{"$f":"'5000 и 5001 ДВН'!I40+'5000 и 5001 ПО'!I40","v":0},{"$f":"'5000 и 5001 ДВН'!J40+'5000 и 5001 ПО'!J40","v":0},{"$f":"'5000 и 5001 ДВН'!K40+'5000 и 5001 ПО'!K40","v":0},{"$f":"'5000 и 5001 ДВН'!L40+'5000 и 5001 ПО'!L40","v":0},{"$f":"'5000 и 5001 ДВН'!M40+'5000 и 5001 ПО'!M40","v":0},{"$f":"'5000 и 5001 ДВН'!N40+'5000 и 5001 ПО'!N40","v":0}]
[null,"нарушения обмена липопротеинов и другие липидемии","4.4","Е78",{"$f":"'5000 и 5001 ДВН'!E41+'5000 и 5001 ПО'!E41","v":29},{"$f":"'5000 и 5001 ДВН'!F41+'5000 и 5001 ПО'!F41","v":7},{"$f":"'5000 и 5001 ДВН'!G41+'5000 и 5001 ПО'!G41","v":11},{"$f":"'5000 и 5001 ДВН'!H41+'5000 и 5001 ПО'!H41","v":18},{"$f":"'5000 и 5001 ДВН'!I41+'5000 и 5001 ПО'!I41","v":0},{"$f":"'5000 и 5001 ДВН'!J41+'5000 и 5001 ПО'!J41","v":0},{"$f":"'5000 и 5001 ДВН'!K41+'5000 и 5001 ПО'!K41","v":0},{"$f":"'5000 и 5001 ДВН'!L41+'5000 и 5001 ПО'!L41","v":0},{"$f":"'5000 и 5001 ДВН'!M41+'5000 и 5001 ПО'!M41","v":0},{"$f":"'5000 и 5001 ДВН'!N41+'5000 и 5001 ПО'!N41","v":0}]
[null,"Болезни нервной системы ","5","G00-G99 ",{"$f":"'5000 и 5001 ДВН'!E42+'5000 и 5001 ПО'!E42","v":138},{"$f":"'5000 и 5001 ДВН'!F42+'5000 и 5001 ПО'!F42","v":11},{"$f":"'5000 и 5001 ДВН'!G42+'5000 и 5001 ПО'!G42","v":94},{"$f":"'5000 и 5001 ДВН'!H42+'5000 и 5001 ПО'!H42","v":44},{"$f":"'5000 и 5001 ДВН'!I42+'5000 и 5001 ПО'!I42","v":0},{"$f":"'5000 и 5001 ДВН'!J42+'5000 и 5001 ПО'!J42","v":0},{"$f":"'5000 и 5001 ДВН'!K42+'5000 и 5001 ПО'!K42","v":0},{"$f":"'5000 и 5001 ДВН'!L42+'5000 и 5001 ПО'!L42","v":0},{"$f":"'5000 и 5001 ДВН'!M42+'5000 и 5001 ПО'!M42","v":0},{"$f":"'5000 и 5001 ДВН'!N42+'5000 и 5001 ПО'!N42","v":0},{"$f":"IF(Q42>0,\"стр.5 < стр.5.1 по графе \"&P42,\"ОК\")","v":"ОК"},{"$f":"IF(Q42>0,INDEX($F$6:$N$6,1,Q42),CHAR(151))","v":"—"},{"$f":"IF(ISERROR(MATCH(FALSE,S42:AA42,0)),0,MATCH(FALSE,S42:AA42,0))","v":0},"данные по строке 5 должны быть больше или равны по соотв.графам строки 5.1",{"$f":"F42>=F43","v":true},{"$f":"G42>=G43","v":true},true,true,true,true,true,true,true]
[null,"Преходящие церебральные ишемические приступы (атаки) и родственные синдромы","5.1","G45",{"$f":"'5000 и 5001 ДВН'!E43+'5000 и 5001 ПО'!E43","v":0},{"$f":"'5000 и 5001 ДВН'!F43+'5000 и 5001 ПО'!F43","v":0},{"$f":"'5000 и 5001 ДВН'!G43+'5000 и 5001 ПО'!G43","v":0},{"$f":"'5000 и 5001 ДВН'!H43+'5000 и 5001 ПО'!H43","v":0},{"$f":"'5000 и 5001 ДВН'!I43+'5000 и 5001 ПО'!I43","v":0},{"$f":"'5000 и 5001 ДВН'!J43+'5000 и 5001 ПО'!J43","v":0},{"$f":"'5000 и 5001 ДВН'!K43+'5000 и 5001 ПО'!K43","v":0},{"$f":"'5000 и 5001 ДВН'!L43+'5000 и 5001 ПО'!L43","v":0},{"$f":"'5000 и 5001 ДВН'!M43+'5000 и 5001 ПО'!M43","v":0},{"$f":"'5000 и 5001 ДВН'!N43+'5000 и 5001 ПО'!N43","v":0}]
[null,"Болезни глаза и его придаточного аппарата ","6","Н00-Н59 ",{"$f":"'5000 и 5001 ДВН'!E44+'5000 и 5001 ПО'!E44","v":6},{"$f":"'5000 и 5001 ДВН'!F44+'5000 и 5001 ПО'!F44","v":3},{"$f":"'5000 и 5001 ДВН'!G44+'5000 и 5001 ПО'!G44","v":1},{"$f":"'5000 и 5001 ДВН'!H44+'5000 и 5001 ПО'!H44","v":5},{"$f":"'5000 и 5001 ДВН'!I44+'5000 и 5001 ПО'!I44","v":0},{"$f":"'5000 и 5001 ДВН'!J44+'5000 и 5001 ПО'!J44","v":0},{"$f":"'5000 и 5001 ДВН'!K44+'5000 и 5001 ПО'!K44","v":0},{"$f":"'5000 и 5001 ДВН'!L44+'5000 и 5001 ПО'!L44","v":0},{"$f":"'5000 и 5001 ДВН'!M44+'5000 и 5001 ПО'!M44","v":0},{"$f":"'5000 и 5001 ДВН'!N44+'5000 и 5001 ПО'!N44","v":0},{"$f":"IF(Q44>0,\"стр.6 < суммы строк(6.1+6.2+6.3) по графе \"&P44,\"ОК\")","v":"ОК"},{"$f":"IF(Q44>0,INDEX($F$6:$N$6,1,Q44),CHAR(151))","v":"—"},{"$f":"IF(ISERROR(MATCH(FALSE,S44:AA44,0)),0,MATCH(FALSE,S44:AA44,0))","v":0},"данные по строке 6 должны быть больше или равны по соотв.графам суммы строк(6.1+6.2+6.3)",{"$f":"F44>=SUM(F45:F47)","v":true},true,true,true,true,true,true,true,true]
[null,"Старческая катаракта и другие катаракты","6.1","Н25, Н26",{"$f":"'5000 и 5001 ДВН'!E45+'5000 и 5001 ПО'!E45","v":0},{"$f":"'5000 и 5001 ДВН'!F45+'5000 и 5001 ПО'!F45","v":0},{"$f":"'5000 и 5001 ДВН'!G45+'5000 и 5001 ПО'!G45","v":0},{"$f":"'5000 и 5001 ДВН'!H45+'5000 и 5001 ПО'!H45","v":0},{"$f":"'5000 и 5001 ДВН'!I45+'5000 и 5001 ПО'!I45","v":0},{"$f":"'5000 и 5001 ДВН'!J45+'5000 и 5001 ПО'!J45","v":0},{"$f":"'5000 и 5001 ДВН'!K45+'5000 и 5001 ПО'!K45","v":0},{"$f":"'5000 и 5001 ДВН'!L45+'5000 и 5001 ПО'!L45","v":0},{"$f":"'5000 и 5001 ДВН'!M45+'5000 и 5001 ПО'!M45","v":0},{"$f":"'5000 и 5001 ДВН'!N45+'5000 и 5001 ПО'!N45","v":0}]
[null,"Глаукома","6.2","Н40",{"$f":"'5000 и 5001 ДВН'!E46+'5000 и 5001 ПО'!E46","v":5},{"$f":"'5000 и 5001 ДВН'!F46+'5000 и 5001 ПО'!F46","v":2},{"$f":"'5000 и 5001 ДВН'!G46+'5000 и 5001 ПО'!G46","v":1},{"$f":"'5000 и 5001 ДВН'!H46+'5000 и 5001 ПО'!H46","v":4},{"$f":"'5000 и 5001 ДВН'!I46+'5000 и 5001 ПО'!I46","v":0},{"$f":"'5000 и 5001 ДВН'!J46+'5000 и 5001 ПО'!J46","v":0},{"$f":"'5000 и 5001 ДВН'!K46+'5000 и 5001 ПО'!K46","v":0},{"$f":"'5000 и 5001 ДВН'!L46+'5000 и 5001 ПО'!L46","v":0},{"$f":"'5000 и 5001 ДВН'!M46+'5000 и 5001 ПО'!M46","v":0},{"$f":"'5000 и 5001 ДВН'!N46+'5000 и 5001 ПО'!N46","v":0}]
[null,"Слепота и пониженное зрение","6.3","Н54",{"$f":"'5000 и 5001 ДВН'!E47+'5000 и 5001 ПО'!E47","v":1},{"$f":"'5000 и 5001 ДВН'!F47+'5000 и 5001 ПО'!F47","v":1},{"$f":"'5000 и 5001 ДВН'!G47+'5000 и 5001 ПО'!G47","v":0},{"$f":"'5000 и 5001 ДВН'!H47+'5000 и 5001 ПО'!H47","v":1},{"$f":"'5000 и 5001 ДВН'!I47+'5000 и 5001 ПО'!I47","v":0},{"$f":"'5000 и 5001 ДВН'!J47+'5000 и 5001 ПО'!J47","v":0},{"$f":"'5000 и 5001 ДВН'!K47+'5000 и 5001 ПО'!K47","v":0},{"$f":"'5000 и 5001 ДВН'!L47+'5000 и 5001 ПО'!L47","v":0},{"$f":"'5000 и 5001 ДВН'!M47+'5000 и 5001 ПО'!M47","v":0},{"$f":"'5000 и 5001 ДВН'!N47+'5000 и 5001 ПО'!N47","v":0}]
[null,"Болезни системы кровообращения ","7","I00-I99 ",{"$f":"'5000 и 5001 ДВН'!E48+'5000 и 5001 ПО'!E48","v":1226},{"$f":"'5000 и 5001 ДВН'!F48+'5000 и 5001 ПО'!F48","v":1261},{"$f":"'5000 и 5001 ДВН'!G48+'5000 и 5001 ПО'!G48","v":138},{"$f":"'5000 и 5001 ДВН'!H48+'5000 и 5001 ПО'!H48","v":1088},{"$f":"'5000 и 5001 ДВН'!I48+'5000 и 5001 ПО'!I48","v":57},{"$f":"'5000 и 5001 ДВН'!J48+'5000 и 5001 ПО'!J48","v":57},{"$f":"'5000 и 5001 ДВН'!K48+'5000 и 5001 ПО'!K48","v":19},{"$f":"'5000 и 5001 ДВН'!L48+'5000 и 5001 ПО'!L48","v":19},{"$f":"'5000 и 5001 ДВН'!M48+'5000 и 5001 ПО'!M48","v":38},{"$f":"'5000 и 5001 ДВН'!N48+'5000 и 5001 ПО'!N48","v":38},{"$f":"IF(Q48>0,\"стр.7 < суммы строк(7.1+7.2+7.4+7.6) по графе \"&P48,\"ОК\")","v":"ОК"},{"$f":"IF(Q48>0,INDEX($F$6:$N$6,1,Q48),CHAR(151))","v":"—"},{"$f":"IF(ISERROR(MATCH(FALSE,S48:AA48,0)),0,MATCH(FALSE,S48:AA48,0))","v":0},"данные по строке 7  должны быть больше или равны по соотв.графам суммы строк(7.1+7.2+7.4+7.6)",{"$f":"F48>=SUM(F49:F50,F55,F59)","v":true},{"$f":"G48>=SUM(G49:G50,G55,G59)","v":true},true,true,true,true,true,true,true]
[null,"из них болезни, характеризующиеся повышенным кровяным давлением","7.1","I10 - I13",{"$f":"'5000 и 5001 ДВН'!E49+'5000 и 5001 ПО'!E49","v":656},{"$f":"'5000 и 5001 ДВН'!F49+'5000 и 5001 ПО'!F49","v":702},{"$f":"'5000 и 5001 ДВН'!G49+'5000 и 5001 ПО'!G49","v":98},{"$f":"'5000 и 5001 ДВН'!H49+'5000 и 5001 ПО'!H49","v":558},{"$f":"'5000 и 5001 ДВН'!I49+'5000 и 5001 ПО'!I49","v":32},{"$f":"'5000 и 5001 ДВН'!J49+'5000 и 5001 ПО'!J49","v":32},{"$f":"'5000 и 5001 ДВН'!K49+'5000 и 5001 ПО'!K49","v":10},{"$f":"'5000 и 5001 ДВН'!L49+'5000 и 5001 ПО'!L49","v":10},{"$f":"'5000 и 5001 ДВН'!M49+'5000 и 5001 ПО'!M49","v":22},{"$f":"'5000 и 5001 ДВН'!N49+'5000 и 5001 ПО'!N49","v":22}]
[null,"ишемические болезни сердца","7.2","I20 - I25",{"$f":"'5000 и 5001 ДВН'!E50+'5000 и 5001 ПО'!E50","v":387},{"$f":"'5000 и 5001 ДВН'!F50+'5000 и 5001 ПО'!F50","v":403},{"$f":"'5000 и 5001 ДВН'!G50+'5000 и 5001 ПО'!G50","v":23},{"$f":"'5000 и 5001 ДВН'!H50+'5000 и 5001 ПО'!H50","v":364},{"$f":"'5000 и 5001 ДВН'!I50+'5000 и 5001 ПО'!I50","v":24},{"$f":"'5000 и 5001 ДВН'!J50+'5000 и 5001 ПО'!J50","v":24},{"$f":"'5000 и 5001 ДВН'!K50+'5000 и 5001 ПО'!K50","v":8},{"$f":"'5000 и 5001 ДВН'!L50+'5000 и 5001 ПО'!L50","v":8},{"$f":"'5000 и 5001 ДВН'!M50+'5000 и 5001 ПО'!M50","v":16},{"$f":"'5000 и 5001 ДВН'!N50+'5000 и 5001 ПО'!N50","v":16}]
[null,"в том числе: стенокардия (грудная жаба) ","7.2.1","I20 ",{"$f":"'5000 и 5001 ДВН'!E51+'5000 и 5001 ПО'!E51","v":56},{"$f":"'5000 и 5001 ДВН'!F51+'5000 и 5001 ПО'!F51","v":60},{"$f":"'5000 и 5001 ДВН'!G51+'5000 и 5001 ПО'!G51","v":6},{"$f":"'5000 и 5001 ДВН'!H51+'5000 и 5001 ПО'!H51","v":50},{"$f":"'5000 и 5001 ДВН'!I51+'5000 и 5001 ПО'!I51","v":0},{"$f":"'5000 и 5001 ДВН'!J51+'5000 и 5001 ПО'!J51","v":0},{"$f":"'5000 и 5001 ДВН'!K51+'5000 и 5001 ПО'!K51","v":0},{"$f":"'5000 и 5001 ДВН'!L51+'5000 и 5001 ПО'!L51","v":0},{"$f":"'5000 и 5001 ДВН'!M51+'5000 и 5001 ПО'!M51","v":0},{"$f":"'5000 и 5001 ДВН'!N51+'5000 и 5001 ПО'!N51","v":0}]
[null,"в том числе нестабильная стенокардия ","7.2.2","I20.0 ",{"$f":"'5000 и 5001 ДВН'!E52+'5000 и 5001 ПО'!E52","v":0},{"$f":"'5000 и 5001 ДВН'!F52+'5000 и 5001 ПО'!F52","v":0},{"$f":"'5000 и 5001 ДВН'!G52+'5000 и 5001 ПО'!G52","v":0},{"$f":"'5000 и 5001 ДВН'!H52+'5000 и 5001 ПО'!H52","v":0},{"$f":"'5000 и 5001 ДВН'!I52+'5000 и 5001 ПО'!I52","v":0},{"$f":"'5000 и 5001 ДВН'!J52+'5000 и 5001 ПО'!J52","v":0},{"$f":"'5000 и 5001 ДВН'!K52+'5000 и 5001 ПО'!K52","v":0},{"$f":"'5000 и 5001 ДВН'!L52+'5000 и 5001 ПО'!L52","v":0},{"$f":"'5000 и 5001 ДВН'!M52+'5000 и 5001 ПО'!M52","v":0},{"$f":"'5000 и 5001 ДВН'!N52+'5000 и 5001 ПО'!N52","v":0}]
[null,"хроническая ишемическая болезнь сердца ","7.3","I25 ",{"$f":"'5000 и 5001 ДВН'!E53+'5000 и 5001 ПО'!E53","v":331},{"$f":"'5000 и 5001 ДВН'!F53+'5000 и 5001 ПО'!F53","v":343},{"$f":"'5000 и 5001 ДВН'!G53+'5000 и 5001 ПО'!G53","v":17},{"$f":"'5000 и 5001 ДВН'!H53+'5000 и 5001 ПО'!H53","v":314},{"$f":"'5000 и 5001 ДВН'!I53+'5000 и 5001 ПО'!I53","v":24},{"$f":"'5000 и 5001 ДВН'!J53+'5000 и 5001 ПО'!J53","v":24},{"$f":"'5000 и 5001 ДВН'!K53+'5000 и 5001 ПО'!K53","v":8},{"$f":"'5000 и 5001 ДВН'!L53+'5000 и 5001 ПО'!L53","v":8},{"$f":"'5000 и 5001 ДВН'!M53+'5000 и 5001 ПО'!M53","v":16},{"$f":"'5000 и 5001 ДВН'!N53+'5000 и 5001 ПО'!N53","v":16}]
[null,"в том числе: перенесенный в прошлом инфаркт миокарда ","7.3.1","I25.2",{"$f":"'5000 и 5001 ДВН'!E54+'5000 и 5001 ПО'!E54","v":30},{"$f":"'5000 и 5001 ДВН'!F54+'5000 и 5001 ПО'!F54","v":30},{"$f":"'5000 и 5001 ДВН'!G54+'5000 и 5001 ПО'!G54","v":2},{"$f":"'5000 и 5001 ДВН'!H54+'5000 и 5001 ПО'!H54","v":28},{"$f":"'5000 и 5001 ДВН'!I54+'5000 и 5001 ПО'!I54","v":0},{"$f":"'5000 и 5001 ДВН'!J54+'5000 и 5001 ПО'!J54","v":0},{"$f":"'5000 и 5001 ДВН'!K54+'5000 и 5001 ПО'!K54","v":0},{"$f":"'5000 и 5001 ДВН'!L54+'5000 и 5001 ПО'!L54","v":0},{"$f":"'5000 и 5001 ДВН'!M54+'5000 и 5001 ПО'!M54","v":0},{"$f":"'5000 и 5001 ДВН'!N54+'5000 и 5001 ПО'!N54","v":0}]
[null,"другие болезни сердца ","7.4","I30-I52 ",{"$f":"'5000 и 5001 ДВН'!E55+'5000 и 5001 ПО'!E55","v":63},{"$f":"'5000 и 5001 ДВН'!F55+'5000 и 5001 ПО'!F55","v":63},{"$f":"'5000 и 5001 ДВН'!G55+'5000 и 5001 ПО'!G55","v":2},{"$f":"'5000 и 5001 ДВН'!H55+'5000 и 5001 ПО'!H55","v":61},{"$f":"'5000 и 5001 ДВН'!I55+'5000 и 5001 ПО'!I55","v":0},{"$f":"'5000 и 5001 ДВН'!J55+'5000 и 5001 ПО'!J55","v":0},{"$f":"'5000 и 5001 ДВН'!K55+'5000 и 5001 ПО'!K55","v":0},{"$f":"'5000 и 5001 ДВН'!L55+'5000 и 5001 ПО'!L55","v":0},{"$f":"'5000 и 5001 ДВН'!M55+'5000 и 5001 ПО'!M55","v":0},{"$f":"'5000 и 5001 ДВН'!N55+'5000 и 5001 ПО'!N55","v":0}]
[null,"цереброваскулярные болезни","7.5","I60 - I69",{"$f":"'5000 и 5001 ДВН'!E56+'5000 и 5001 ПО'!E56","v":102},{"$f":"'5000 и 5001 ДВН'!F56+'5000 и 5001 ПО'!F56","v":84},{"$f":"'5000 и 5001 ДВН'!G56+'5000 и 5001 ПО'!G56","v":10},{"$f":"'5000 и 5001 ДВН'!H56+'5000 и 5001 ПО'!H56","v":92},{"$f":"'5000 и 5001 ДВН'!I56+'5000 и 5001 ПО'!I56","v":0},{"$f":"'5000 и 5001 ДВН'!J56+'5000 и 5001 ПО'!J56","v":0},{"$f":"'5000 и 5001 ДВН'!K56+'5000 и 5001 ПО'!K56","v":0},{"$f":"'5000 и 5001 ДВН'!L56+'5000 и 5001 ПО'!L56","v":0},{"$f":"'5000 и 5001 ДВН'!M56+'5000 и 5001 ПО'!M56","v":0},{"$f":"'5000 и 5001 ДВН'!N56+'5000 и 5001 ПО'!N56","v":0}]
[null,"из них: закупорка и стеноз прецеребральных и (или) церебральных артерий, не приводящие к инфаркту мозга","7.5.1","I65, I66",{"$f":"'5000 и 5001 ДВН'!E57+'5000 и 5001 ПО'!E57","v":2},{"$f":"'5000 и 5001 ДВН'!F57+'5000 и 5001 ПО'!F57","v":2},{"$f":"'5000 и 5001 ДВН'!G57+'5000 и 5001 ПО'!G57","v":0},{"$f":"'5000 и 5001 ДВН'!H57+'5000 и 5001 ПО'!H57","v":2},{"$f":"'5000 и 5001 ДВН'!I57+'5000 и 5001 ПО'!I57","v":0},{"$f":"'5000 и 5001 ДВН'!J57+'5000 и 5001 ПО'!J57","v":0},{"$f":"'5000 и 5001 ДВН'!K57+'5000 и 5001 ПО'!K57","v":0},{"$f":"'5000 и 5001 ДВН'!L57+'5000 и 5001 ПО'!L57","v":0},{"$f":"'5000 и 5001 ДВН'!M57+'5000 и 5001 ПО'!M57","v":0},{"$f":"'5000 и 5001 ДВН'!N57+'5000 и 5001 ПО'!N57","v":0}]
[null,"другие цереброваскулярные болезни ","7.5.2","I67 ",{"$f":"'5000 и 5001 ДВН'!E58+'5000 и 5001 ПО'!E58","v":76},{"$f":"'5000 и 5001 ДВН'!F58+'5000 и 5001 ПО'!F58","v":57},{"$f":"'5000 и 5001 ДВН'!G58+'5000 и 5001 ПО'!G58","v":6},{"$f":"'5000 и 5001 ДВН'!H58+'5000 и 5001 ПО'!H58","v":70},{"$f":"'5000 и 5001 ДВН'!I58+'5000 и 5001 ПО'!I58","v":0},{"$f":"'5000 и 5001 ДВН'!J58+'5000 и 5001 ПО'!J58","v":0},{"$f":"'5000 и 5001 ДВН'!K58+'5000 и 5001 ПО'!K58","v":0},{"$f":"'5000 и 5001 ДВН'!L58+'5000 и 5001 ПО'!L58","v":0},{"$f":"'5000 и 5001 ДВН'!M58+'5000 и 5001 ПО'!M58","v":0},{"$f":"'5000 и 5001 ДВН'!N58+'5000 и 5001 ПО'!N58","v":0}]
[null,"аневризма брюшной аорты","7.6","I71.3-I71.4",{"$f":"'5000 и 5001 ДВН'!E59+'5000 и 5001 ПО'!E59","v":0},{"$f":"'5000 и 5001 ДВН'!F59+'5000 и 5001 ПО'!F59","v":0},{"$f":"'5000 и 5001 ДВН'!G59+'5000 и 5001 ПО'!G59","v":0},{"$f":"'5000 и 5001 ДВН'!H59+'5000 и 5001 ПО'!H59","v":0},{"$f":"'5000 и 5001 ДВН'!I59+'5000 и 5001 ПО'!I59","v":0},{"$f":"'5000 и 5001 ДВН'!J59+'5000 и 5001 ПО'!J59","v":0},{"$f":"'5000 и 5001 ДВН'!K59+'5000 и 5001 ПО'!K59","v":0},{"$f":"'5000 и 5001 ДВН'!L59+'5000 и 5001 ПО'!L59","v":0},{"$f":"'5000 и 5001 ДВН'!M59+'5000 и 5001 ПО'!M59","v":0},{"$f":"'5000 и 5001 ДВН'!N59+'5000 и 5001 ПО'!N59","v":0}]
[null,"Болезни органов дыхания ","8.0","J00-J98 ",{"$f":"'5000 и 5001 ДВН'!E60+'5000 и 5001 ПО'!E60","v":51},{"$f":"'5000 и 5001 ДВН'!F60+'5000 и 5001 ПО'!F60","v":53},{"$f":"'5000 и 5001 ДВН'!G60+'5000 и 5001 ПО'!G60","v":15},{"$f":"'5000 и 5001 ДВН'!H60+'5000 и 5001 ПО'!H60","v":36},{"$f":"'5000 и 5001 ДВН'!I60+'5000 и 5001 ПО'!I60","v":13},{"$f":"'5000 и 5001 ДВН'!J60+'5000 и 5001 ПО'!J60","v":2},{"$f":"'5000 и 5001 ДВН'!K60+'5000 и 5001 ПО'!K60","v":6},{"$f":"'5000 и 5001 ДВН'!L60+'5000 и 5001 ПО'!L60","v":1},{"$f":"'5000 и 5001 ДВН'!M60+'5000 и 5001 ПО'!M60","v":7},{"$f":"'5000 и 5001 ДВН'!N60+'5000 и 5001 ПО'!N60","v":1},{"$f":"IF(Q60>0,\"стр.8 < суммы строк(8.1+8.2+8.3) по графе \"&P60,\"ОК\")","v":"ОК"},{"$f":"IF(Q60>0,INDEX($F$6:$N$6,1,Q60),CHAR(151))","v":"—"},{"$f":"IF(ISERROR(MATCH(FALSE,S60:AA60,0)),0,MATCH(FALSE,S60:AA60,0))","v":0},"данные по строке 8  должны быть больше или равны по соотв.графам  суммы строк(8.1+8.2+8.3)",{"$f":"F60>=SUM(F61:F63)","v":true},{"$f":"G60>=SUM(G61:G63)","v":true},true,true,true,true,true,true,true]
[null,"в том числе: вирусная пневмония, пневмония, вызванная Streptococcus pneumonia, пневмония, вызванная Haemophilus influenza, бактериальная пневмония, пневмония, вызванная другими инфекционными возбудителями, пневмония при болезнях, классифицированных в других рубриках, пневмония без уточнения возбудителя","8.1","J12-J18 ",{"$f":"'5000 и 5001 ДВН'!E61+'5000 и 5001 ПО'!E61","v":0},{"$f":"'5000 и 5001 ДВН'!F61+'5000 и 5001 ПО'!F61","v":0},{"$f":"'5000 и 5001 ДВН'!G61+'5000 и 5001 ПО'!G61","v":0},{"$f":"'5000 и 5001 ДВН'!H61+'5000 и 5001 ПО'!H61","v":0},{"$f":"'5000 и 5001 ДВН'!I61+'5000 и 5001 ПО'!I61","v":0},{"$f":"'5000 и 5001 ДВН'!J61+'5000 и 5001 ПО'!J61","v":0},{"$f":"'5000 и 5001 ДВН'!K61+'5000 и 5001 ПО'!K61","v":0},{"$f":"'5000 и 5001 ДВН'!L61+'5000 и 5001 ПО'!L61","v":0},{"$f":"'5000 и 5001 ДВН'!M61+'5000 и 5001 ПО'!M61","v":0},{"$f":"'5000 и 5001 ДВН'!N61+'5000 и 5001 ПО'!N61","v":0}]
[null,"Бронхит, не уточненный как острый и хронический, простой и слизисто-гнойный хронический бронхит, хронический бронхит неуточненный, эмфизема","8.2","J40 - J43",{"$f":"'5000 и 5001 ДВН'!E62+'5000 и 5001 ПО'!E62","v":22},{"$f":"'5000 и 5001 ДВН'!F62+'5000 и 5001 ПО'!F62","v":22},{"$f":"'5000 и 5001 ДВН'!G62+'5000 и 5001 ПО'!G62","v":9},{"$f":"'5000 и 5001 ДВН'!H62+'5000 и 5001 ПО'!H62","v":13},{"$f":"'5000 и 5001 ДВН'!I62+'5000 и 5001 ПО'!I62","v":13},{"$f":"'5000 и 5001 ДВН'!J62+'5000 и 5001 ПО'!J62","v":2},{"$f":"'5000 и 5001 ДВН'!K62+'5000 и 5001 ПО'!K62","v":6},{"$f":"'5000 и 5001 ДВН'!L62+'5000 и 5001 ПО'!L62","v":1},{"$f":"'5000 и 5001 ДВН'!M62+'5000 и 5001 ПО'!M62","v":7},{"$f":"'5000 и 5001 ДВН'!N62+'5000 и 5001 ПО'!N62","v":1}]
[null,"Другая хроническая обструктивная легочная болезнь, астма, астматический статус, бронхоэктатическая болезнь","8.3","J44 - J47",{"$f":"'5000 и 5001 ДВН'!E63+'5000 и 5001 ПО'!E63","v":29},{"$f":"'5000 и 5001 ДВН'!F63+'5000 и 5001 ПО'!F63","v":31},{"$f":"'5000 и 5001 ДВН'!G63+'5000 и 5001 ПО'!G63","v":6},{"$f":"'5000 и 5001 ДВН'!H63+'5000 и 5001 ПО'!H63","v":23},{"$f":"'5000 и 5001 ДВН'!I63+'5000 и 5001 ПО'!I63","v":0},{"$f":"'5000 и 5001 ДВН'!J63+'5000 и 5001 ПО'!J63","v":0},{"$f":"'5000 и 5001 ДВН'!K63+'5000 и 5001 ПО'!K63","v":0},{"$f":"'5000 и 5001 ДВН'!L63+'5000 и 5001 ПО'!L63","v":0},{"$f":"'5000 и 5001 ДВН'!M63+'5000 и 5001 ПО'!M63","v":0},{"$f":"'5000 и 5001 ДВН'!N63+'5000 и 5001 ПО'!N63","v":0}]
[null,"Болезни органов пищеварения ","9.0","К00-К93 ",{"$f":"'5000 и 5001 ДВН'!E64+'5000 и 5001 ПО'!E64","v":68},{"$f":"'5000 и 5001 ДВН'!F64+'5000 и 5001 ПО'!F64","v":49},{"$f":"'5000 и 5001 ДВН'!G64+'5000 и 5001 ПО'!G64","v":32},{"$f":"'5000 и 5001 ДВН'!H64+'5000 и 5001 ПО'!H64","v":36},{"$f":"'5000 и 5001 ДВН'!I64+'5000 и 5001 ПО'!I64","v":13},{"$f":"'5000 и 5001 ДВН'!J64+'5000 и 5001 ПО'!J64","v":0},{"$f":"'5000 и 5001 ДВН'!K64+'5000 и 5001 ПО'!K64","v":5},{"$f":"'5000 и 5001 ДВН'!L64+'5000 и 5001 ПО'!L64","v":0},{"$f":"'5000 и 5001 ДВН'!M64+'5000 и 5001 ПО'!M64","v":8},{"$f":"'5000 и 5001 ДВН'!N64+'5000 и 5001 ПО'!N64","v":0},{"$f":"IF(Q64>0,\"стр.9 < суммы строк(9.1+9.2+9.3+9.4) по графе \"&P64,\"ОК\")","v":"ОК"},{"$f":"IF(Q64>0,INDEX($F$6:$N$6,1,Q64),CHAR(151))","v":"—"},{"$f":"IF(ISERROR(MATCH(FALSE,S64:AA64,0)),0,MATCH(FALSE,S64:AA64,0))","v":0},"данные по строке 9  должны быть больше или равны по соотв.графам  суммы строк(9.1+9.2+9.3+9.4)",{"$f":"F64>=SUM(F65:F68)","v":true},{"$f":"G64>=SUM(G65:G68)","v":true},true,true,true,true,true,true,true]
[null,"язва желудка, язва двенадцатиперстной кишки","9.1","K25, К26",{"$f":"'5000 и 5001 ДВН'!E65+'5000 и 5001 ПО'!E65","v":15},{"$f":"'5000 и 5001 ДВН'!F65+'5000 и 5001 ПО'!F65","v":11},{"$f":"'5000 и 5001 ДВН'!G65+'5000 и 5001 ПО'!G65","v":9},{"$f":"'5000 и 5001 ДВН'!H65+'5000 и 5001 ПО'!H65","v":6},{"$f":"'5000 и 5001 ДВН'!I65+'5000 и 5001 ПО'!I65","v":0},{"$f":"'5000 и 5001 ДВН'!J65+'5000 и 5001 ПО'!J65","v":0},{"$f":"'5000 и 5001 ДВН'!K65+'5000 и 5001 ПО'!K65","v":0},{"$f":"'5000 и 5001 ДВН'!L65+'5000 и 5001 ПО'!L65","v":0},{"$f":"'5000 и 5001 ДВН'!M65+'5000 и 5001 ПО'!M65","v":0},{"$f":"'5000 и 5001 ДВН'!N65+'5000 и 5001 ПО'!N65","v":0}]
[null,"гастрит и дуоденит","9.2","K29",{"$f":"'5000 и 5001 ДВН'!E66+'5000 и 5001 ПО'!E66","v":27},{"$f":"'5000 и 5001 ДВН'!F66+'5000 и 5001 ПО'!F66","v":20},{"$f":"'5000 и 5001 ДВН'!G66+'5000 и 5001 ПО'!G66","v":10},{"$f":"'5000 и 5001 ДВН'!H66+'5000 и 5001 ПО'!H66","v":17},{"$f":"'5000 и 5001 ДВН'!I66+'5000 и 5001 ПО'!I66","v":3},{"$f":"'5000 и 5001 ДВН'!J66+'5000 и 5001 ПО'!J66","v":0},{"$f":"'5000 и 5001 ДВН'!K66+'5000 и 5001 ПО'!K66","v":1},{"$f":"'5000 и 5001 ДВН'!L66+'5000 и 5001 ПО'!L66","v":0},{"$f":"'5000 и 5001 ДВН'!M66+'5000 и 5001 ПО'!M66","v":2},{"$f":"'5000 и 5001 ДВН'!N66+'5000 и 5001 ПО'!N66","v":0}]
[null,"неинфекционный энтерит и колит ","9.3","К50-К52 ",{"$f":"'5000 и 5001 ДВН'!E67+'5000 и 5001 ПО'!E67","v":0},{"$f":"'5000 и 5001 ДВН'!F67+'5000 и 5001 ПО'!F67","v":1},{"$f":"'5000 и 5001 ДВН'!G67+'5000 и 5001 ПО'!G67","v":0},{"$f":"'5000 и 5001 ДВН'!H67+'5000 и 5001 ПО'!H67","v":0},{"$f":"'5000 и 5001 ДВН'!I67+'5000 и 5001 ПО'!I67","v":0},{"$f":"'5000 и 5001 ДВН'!J67+'5000 и 5001 ПО'!J67","v":0},{"$f":"'5000 и 5001 ДВН'!K67+'5000 и 5001 ПО'!K67","v":0},{"$f":"'5000 и 5001 ДВН'!L67+'5000 и 5001 ПО'!L67","v":0},{"$f":"'5000 и 5001 ДВН'!M67+'5000 и 5001 ПО'!M67","v":0},{"$f":"'5000 и 5001 ДВН'!N67+'5000 и 5001 ПО'!N67","v":0}]
[null,"другие болезни кишечника ","9.4","К55-К63 ",{"$f":"'5000 и 5001 ДВН'!E68+'5000 и 5001 ПО'!E68","v":0},{"$f":"'5000 и 5001 ДВН'!F68+'5000 и 5001 ПО'!F68","v":0},{"$f":"'5000 и 5001 ДВН'!G68+'5000 и 5001 ПО'!G68","v":0},{"$f":"'5000 и 5001 ДВН'!H68+'5000 и 5001 ПО'!H68","v":0},{"$f":"'5000 и 5001 ДВН'!I68+'5000 и 5001 ПО'!I68","v":0},{"$f":"'5000 и 5001 ДВН'!J68+'5000 и 5001 ПО'!J68","v":0},{"$f":"'5000 и 5001 ДВН'!K68+'5000 и 5001 ПО'!K68","v":0},{"$f":"'5000 и 5001 ДВН'!L68+'5000 и 5001 ПО'!L68","v":0},{"$f":"'5000 и 5001 ДВН'!M68+'5000 и 5001 ПО'!M68","v":0},{"$f":"'5000 и 5001 ДВН'!N68+'5000 и 5001 ПО'!N68","v":0}]
[null,"Прочие заболевания","10.0",null,{"$f":"SUM(E70+E74+E76+E77)","v":435},{"$f":"SUM(F70+F74+F76+F77)","v":159},239,196,239,0,94,0,145,0,{"$f":"IF(Q69>0,\"стр.10.1 < суммы строк(10.1.1+10.1.2+10.1.3) по графе \"&P69,\"ОК\")","v":"ОК"},{"$f":"IF(Q69>0,INDEX($F$6:$N$6,1,Q69),CHAR(151))","v":"—"},{"$f":"IF(ISERROR(MATCH(FALSE,S69:AA69,0)),0,MATCH(FALSE,S69:AA69,0))","v":0},"данные по строке 10.1  должны быть больше или равны по соотв.графам  суммы строк(10.1.1+10.1.2+10.1.3)",{"$f":"F70>=SUM(F71:F73)","v":true},{"$f":"G70>=SUM(G71:G73)","v":true},true,true,true,true,true,true,true]
[null,"Болезни мочеполовой системы ","10.1","N00-N99 ",{"$f":"'5000 и 5001 ДВН'!E70+'5000 и 5001 ПО'!E70","v":167},{"$f":"'5000 и 5001 ДВН'!F70+'5000 и 5001 ПО'!F70","v":36},{"$f":"'5000 и 5001 ДВН'!G70+'5000 и 5001 ПО'!G70","v":145},{"$f":"'5000 и 5001 ДВН'!H70+'5000 и 5001 ПО'!H70","v":22},{"$f":"'5000 и 5001 ДВН'!I70+'5000 и 5001 ПО'!I70","v":0},{"$f":"'5000 и 5001 ДВН'!J70+'5000 и 5001 ПО'!J70","v":0},{"$f":"'5000 и 5001 ДВН'!K70+'5000 и 5001 ПО'!K70","v":0},{"$f":"'5000 и 5001 ДВН'!L70+'5000 и 5001 ПО'!L70","v":0},{"$f":"'5000 и 5001 ДВН'!M70+'5000 и 5001 ПО'!M70","v":0},{"$f":"'5000 и 5001 ДВН'!N70+'5000 и 5001 ПО'!N70","v":0}]
[null,"в том числе: гиперплазия предстательной железы, воспалительные болезни предстательной железы, другие болезни предстательной железы","10.1.1","N40-N42 ",{"$f":"'5000 и 5001 ДВН'!E71+'5000 и 5001 ПО'!E71","v":5},{"$f":"'5000 и 5001 ДВН'!F71+'5000 и 5001 ПО'!F71","v":1},{"$f":"'5000 и 5001 ДВН'!G71+'5000 и 5001 ПО'!G71","v":1},{"$f":"'5000 и 5001 ДВН'!H71+'5000 и 5001 ПО'!H71","v":4},{"$f":"'5000 и 5001 ДВН'!I71+'5000 и 5001 ПО'!I71","v":0},{"$f":"'5000 и 5001 ДВН'!J71+'5000 и 5001 ПО'!J71","v":0},{"$f":"'5000 и 5001 ДВН'!K71+'5000 и 5001 ПО'!K71","v":0},{"$f":"'5000 и 5001 ДВН'!L71+'5000 и 5001 ПО'!L71","v":0},{"$f":"'5000 и 5001 ДВН'!M71+'5000 и 5001 ПО'!M71","v":0},{"$f":"'5000 и 5001 ДВН'!N71+'5000 и 5001 ПО'!N71","v":0}]
[null,"доброкачественная дисплазия молочной железы ","10.1.2","N60 ",{"$f":"'5000 и 5001 ДВН'!E72+'5000 и 5001 ПО'!E72","v":0},{"$f":"'5000 и 5001 ДВН'!F72+'5000 и 5001 ПО'!F72","v":0},{"$f":"'5000 и 5001 ДВН'!G72+'5000 и 5001 ПО'!G72","v":0},{"$f":"'5000 и 5001 ДВН'!H72+'5000 и 5001 ПО'!H72","v":0},{"$f":"'5000 и 5001 ДВН'!I72+'5000 и 5001 ПО'!I72","v":0},{"$f":"'5000 и 5001 ДВН'!J72+'5000 и 5001 ПО'!J72","v":0},{"$f":"'5000 и 5001 ДВН'!K72+'5000 и 5001 ПО'!K72","v":0},{"$f":"'5000 и 5001 ДВН'!L72+'5000 и 5001 ПО'!L72","v":0},{"$f":"'5000 и 5001 ДВН'!M72+'5000 и 5001 ПО'!M72","v":0},{"$f":"'5000 и 5001 ДВН'!N72+'5000 и 5001 ПО'!N72","v":0}]
[null,"воспалительные болезни женских тазовых органов ","10.1.3","N70-N77 ",{"$f":"'5000 и 5001 ДВН'!E73+'5000 и 5001 ПО'!E73","v":0},{"$f":"'5000 и 5001 ДВН'!F73+'5000 и 5001 ПО'!F73","v":0},{"$f":"'5000 и 5001 ДВН'!G73+'5000 и 5001 ПО'!G73","v":0},{"$f":"'5000 и 5001 ДВН'!H73+'5000 и 5001 ПО'!H73","v":0},{"$f":"'5000 и 5001 ДВН'!I73+'5000 и 5001 ПО'!I73","v":0},{"$f":"'5000 и 5001 ДВН'!J73+'5000 и 5001 ПО'!J73","v":0},{"$f":"'5000 и 5001 ДВН'!K73+'5000 и 5001 ПО'!K73","v":0},{"$f":"'5000 и 5001 ДВН'!L73+'5000 и 5001 ПО'!L73","v":0},{"$f":"'5000 и 5001 ДВН'!M73+'5000 и 5001 ПО'!M73","v":0},{"$f":"'5000 и 5001 ДВН'!N73+'5000 и 5001 ПО'!N73","v":0}]
[null,"Болезни уха и сосцевидного отростка","11.0","Н60-Н95",{"$f":"'5000 и 5001 ДВН'!E74+'5000 и 5001 ПО'!E74","v":0},{"$f":"'5000 и 5001 ДВН'!F74+'5000 и 5001 ПО'!F74","v":0},{"$f":"'5000 и 5001 ДВН'!G74+'5000 и 5001 ПО'!G74","v":0},{"$f":"'5000 и 5001 ДВН'!H74+'5000 и 5001 ПО'!H74","v":0},{"$f":"'5000 и 5001 ДВН'!I74+'5000 и 5001 ПО'!I74","v":0},{"$f":"'5000 и 5001 ДВН'!J74+'5000 и 5001 ПО'!J74","v":0},{"$f":"'5000 и 5001 ДВН'!K74+'5000 и 5001 ПО'!K74","v":0},{"$f":"'5000 и 5001 ДВН'!L74+'5000 и 5001 ПО'!L74","v":0},{"$f":"'5000 и 5001 ДВН'!M74+'5000 и 5001 ПО'!M74","v":0},{"$f":"'5000 и 5001 ДВН'!N74+'5000 и 5001 ПО'!N74","v":0},{"$f":"IF(Q74>0,\"стр.11.0 < стр.11.1 по графе \"&P74,\"ОК\")","v":"ОК"},{"$f":"IF(Q74>0,INDEX($F$6:$N$6,1,Q74),CHAR(151))","v":"—"},{"$f":"IF(ISERROR(MATCH(FALSE,S74:AA74,0)),0,MATCH(FALSE,S74:AA74,0))","v":0},"строка 11.0 д.б больше или равна строке 11.1",{"$f":"F74>=F75","v":true},{"$f":"G74>=G75","v":true},true,true,true,true,true,true,true]
[null,"Кондуктивная и нейросенсорная потеря слуха","11.1","Н90",{"$f":"'5000 и 5001 ДВН'!E75+'5000 и 5001 ПО'!E75","v":0},{"$f":"'5000 и 5001 ДВН'!F75+'5000 и 5001 ПО'!F75","v":0},{"$f":"'5000 и 5001 ДВН'!G75+'5000 и 5001 ПО'!G75","v":0},{"$f":"'5000 и 5001 ДВН'!H75+'5000 и 5001 ПО'!H75","v":0},{"$f":"'5000 и 5001 ДВН'!I75+'5000 и 5001 ПО'!I75","v":0},{"$f":"'5000 и 5001 ДВН'!J75+'5000 и 5001 ПО'!J75","v":0},{"$f":"'5000 и 5001 ДВН'!K75+'5000 и 5001 ПО'!K75","v":0},{"$f":"'5000 и 5001 ДВН'!L75+'5000 и 5001 ПО'!L75","v":0},{"$f":"'5000 и 5001 ДВН'!M75+'5000 и 5001 ПО'!M75","v":0},{"$f":"'5000 и 5001 ДВН'!N75+'5000 и 5001 ПО'!N75","v":0}]
[null,"Болезни кожи и подкожной клетчатки","12.0","L00-L98",{"$f":"'5000 и 5001 ДВН'!E76+'5000 и 5001 ПО'!E76","v":0},{"$f":"'5000 и 5001 ДВН'!F76+'5000 и 5001 ПО'!F76","v":0},{"$f":"'5000 и 5001 ДВН'!G76+'5000 и 5001 ПО'!G76","v":0},{"$f":"'5000 и 5001 ДВН'!H76+'5000 и 5001 ПО'!H76","v":0},{"$f":"'5000 и 5001 ДВН'!I76+'5000 и 5001 ПО'!I76","v":0},{"$f":"'5000 и 5001 ДВН'!J76+'5000 и 5001 ПО'!J76","v":0},{"$f":"'5000 и 5001 ДВН'!K76+'5000 и 5001 ПО'!K76","v":0},{"$f":"'5000 и 5001 ДВН'!L76+'5000 и 5001 ПО'!L76","v":0},{"$f":"'5000 и 5001 ДВН'!M76+'5000 и 5001 ПО'!M76","v":0},{"$f":"'5000 и 5001 ДВН'!N76+'5000 и 5001 ПО'!N76","v":0}]
[null,"Болезни костно-мышечной системы","13.0","М00-М99",{"$f":"'5000 и 5001 ДВН'!E77+'5000 и 5001 ПО'!E77","v":268},{"$f":"'5000 и 5001 ДВН'!F77+'5000 и 5001 ПО'!F77","v":123},{"$f":"'5000 и 5001 ДВН'!G77+'5000 и 5001 ПО'!G77","v":94},{"$f":"'5000 и 5001 ДВН'!H77+'5000 и 5001 ПО'!H77","v":174},{"$f":"'5000 и 5001 ДВН'!I77+'5000 и 5001 ПО'!I77","v":239},{"$f":"'5000 и 5001 ДВН'!J77+'5000 и 5001 ПО'!J77","v":0},{"$f":"'5000 и 5001 ДВН'!K77+'5000 и 5001 ПО'!K77","v":94},{"$f":"'5000 и 5001 ДВН'!L77+'5000 и 5001 ПО'!L77","v":0},{"$f":"'5000 и 5001 ДВН'!M77+'5000 и 5001 ПО'!M77","v":145},{"$f":"'5000 и 5001 ДВН'!N77+'5000 и 5001 ПО'!N77","v":0}]
[null,"ИТОГО заболеваний",null,"А00-Т98",{"$f":"E7+E9+E35+E37+E42+E44+E48+E60+E64+E69","v":2133},{"$f":"F7+F9+F35+F37+F42+F44+F48+F60+F64+F69","v":1678},567,1566,333,70,124,20,209,50,{"$f":"IF(Q78>0,\"стр.14.0 ≠ стр.15.0 по графе \"&P78,\"ОК\")","v":"ОК"},{"$f":"IF(Q78>0,INDEX($F$6:$N$6,1,Q78),CHAR(151))","v":"—"},{"$f":"IF(ISERROR(MATCH(FALSE,S78:AA78,0)),0,MATCH(FALSE,S78:AA78,0))","v":0},"Данные строки 14.0 с 8 по13 графы должны быть равны строке 15.0 по тем же графам",true,true,true,{"$f":"I78=I79","v":true},true,true,true,true,true]
[null,"контрольные цифры",null,null,null,null,null,null,{"$f":"'ДВН-124н'!L8+'профосмотры 124н'!L8","v":333},{"$f":"'ДВН-124н'!U18+'профосмотры 124н'!U16","v":70},{"$f":"'5000 и 5001 ДВН'!K79+'5000 и 5001 ПО'!K79","v":124},{"$f":"'5000 и 5001 ДВН'!L79+'5000 и 5001 ПО'!L79","v":20},{"$f":"'5000 и 5001 ДВН'!M79+'5000 и 5001 ПО'!M79","v":209},{"$f":"'5000 и 5001 ДВН'!N79+'5000 и 5001 ПО'!N79","v":50}]
[null,"(5001)",null,null,null,null,null,null,null,null," Код по ОКЕИ: человек - 792"]
[null,"Число лиц с артериальным давлением ниже 140/90 мм рт.ст. на фоне приема гипотензивных лекарственных препаратов, при наличии болезней, характеризующихся повышенным кровяным давлением (I10 - I15 по МКБ-10)",null,null,null,null,null,null,null,null,null,null,{"$f":"'5000 и 5001 ДВН'!M81+'5000 и 5001 ПО'!M81","v":614},";"]
[]
[]
[null," "]

{"sheet":"6000-6010","index":9,"n_rows":31,"n_cols":7,"rows_kept":31,"cut":false,"hidden":true,"merged":[[27,4,27,6],[1,1,1,5],[3,2,5,2],[21,4,22,7],[3,1,5,1],[3,3,3,5],[4,3,5,3],[4,4,4,5],[26,4,26,6]]}
[{"$f":"AND('Титульный лист'!$D$14<>\"\",'Титульный лист'!$C$22<>\"\",'Титульный лист'!$B$29<>\"\",'Титульный лист'!$B$30<>\"\",'Титульный лист'!$B$31<>\"\",'Титульный лист'!$B$32<>\"\",'Титульный лист'!$B$33<>\"\")","v":true}]
[null,"Общие результаты профилактического медицинского осмотра, диспансеризации"]
[null,"(6000)",null," Код по ОКЕИ: человек - 792"]
[null,"Общие результаты","N строки","Число лиц взрослого населения:"]
[null,null,null,"Всего","в том числе:"]
[null,null,null,null,"В трудоспособном возрасте","В возрасте старше трудоспособного"]
[null,1,2,3,4,5]
[null,"Определена I группа здоровья",1,{"$f":"SUM(E8:F8)","v":179},{"$f":"'ДВН и профосмотр_общая '!$AW$11","v":174},{"$f":"'ДВН и профосмотр_общая '!$BC$11","v":5}]
[null,"Определена II группа здоровья",2,{"$f":"SUM(E9:F9)","v":382},{"$f":"'ДВН и профосмотр_общая '!$AX$11","v":353},{"$f":"'ДВН и профосмотр_общая '!$BD$11","v":29}]
[null,"Определена IIIA группа здоровья",3,{"$f":"SUM(E10:F10)","v":872},{"$f":"'ДВН и профосмотр_общая '!$AZ$11","v":188},{"$f":"'ДВН и профосмотр_общая '!$BF$11","v":684},{"$f":"IF(SUM(E8:E11)=SUM('1000, 1001'!G21+'1000, 1001'!G25),\"ОК\",\"гр.4 сумма строк с 1 по 4 НЕ РАВНА  табл.1001 стр.1+стр.4\")","v":"ОК"}]
[null,"Определена IIIБ группа здоровья",4,{"$f":"SUM(E11:F11)","v":33},{"$f":"'ДВН и профосмотр_общая '!$BA$11","v":18},{"$f":"'ДВН и профосмотр_общая '!$BG$11","v":15},{"$f":"IF(SUM(D8:D11)=SUM('1000, 1001'!F17:G17),\"ОК\",\"гр.3 сумма строк с 1 по 4 НЕ РАВНА  табл.1000 стр.8 гр.5 + стр.8 гр.6\")","v":"ОК"}]
[null,"Направлены при наличии медицинских показаний на дополнительное обследование, не входящее в объем диспансеризации, в том числе направлены на осмотр (консультацию) врачом-онкологом при подозрении на онкологическое заболевание",5,{"$f":"SUM(E12:F12)","v":0}]
[null,"Установлено диспансерное наблюдение, всего",6,{"$f":"'5000 и 5001 свод'!J78","v":70},{"$f":"'5000 и 5001 свод'!L78","v":20},{"$f":"'5000 и 5001 свод'!N78","v":50}]
[null,"врачом (фельдшером) отделения (кабинета) медицинской профилактики или центра здоровья","6.1",{"$f":"SUM(E14:F14)","v":0},null,null,{"$f":"IF(SUM(E14:E17)=E13,IF(SUM(F14:F17)=F13,\"ОК\",\"сумма строк 6.1+6.2+6.3+6.4 НЕ РАВНА 6 строке по графе 5\"),\"сумма строк 6.1+6.2+6.3+6.4 НЕ РАВНА 6 строке по графе 4\")","v":"ОК"}]
[null,"врачом-терапевтом","6.2",70,20,50]
[null,"врачом-специалистом","6.3",0]
[null,"фельдшером фельдшерского здравпункта или фельдшерско-акушерского пункта","6.4",0]
[null,"Направлены для получения специализированной, в том числе высокотехнологичной, медицинской помощи",7,0]
[null,"Направлены на санаторно-курортное лечение",8,0]
[]
[]
[null,"(6001)    Общее число работающих лиц, прошедших профилактический медицинский осмотр, диспансеризацию ",{"$f":"SUM(E8:E11)","v":733},"человек.",{"$f":"IF(SUM(C22:C24)=SUM('1000, 1001'!F17:G17),\"ОК\",\"Сумма строк 6001+6002+6003 НЕ РАВНА в табл.1000 сумме граф 5+6 по строке 8\")","v":"ОК"}]
[null,"(6002)    Общее число неработающих лиц, прошедших профилактический медицинский осмотр, диспансеризацию ",{"$f":"SUM(F8:F11)-C24","v":733},"человек."]
[null,"(6003)    Общее число лиц, обучающихся в образовательных организациях по очной форме, прошедших профилактический медицинский осмотр, диспансеризацию ",null,"человек."]
[null,"(6004)    Общее число лиц, имеющих право на получение государственной социальной помощи в виде набора социальных услуг, прошедших профилактический медицинский осмотр, диспансеризацию",{"$f":"'ДВН и профосмотр_общая '!O11+'ДВН и профосмотр_общая '!P11","v":31},"человек."]
[null,"(6005)    Общее число лиц, принадлежащих к коренным малочисленным народам Севера, Сибири и Дальнего Востока Российской Федерации, прошедших профилактический медицинский осмотр, диспансеризацию ",null,"человек."]
[null,"(6006)   Общее число мобильных медицинских бригад, принимавших участие в проведении профилактического медицинского осмотра, диспансеризации ",null,"единиц.",{"$f":"IF(C28=0,IF(C27=\"\",\"ОК\",\"если нет значений в таблице 6007, в таблице 6006  тоже не должно быть значений\"),\"ОК\")","v":"ОК"}]
[null,"(6007)   Общее число лиц, профилактический медицинский осмотр или первый этап диспансеризация которых были проведены мобильными медицинскими бригадами ",{"$f":"'ДВН и профосмотр_общая '!$Q$11+'ДВН и профосмотр_общая '!$AG$11","v":0},"человек.",{"$f":"IF(C28<>0,IF(C27<>\"\",\"ОК\",\"если заполнена таблица 6007, должна быть заполнена набл.6006\"),\"ОК\")","v":"ОК"}]
[null,"(6008)   Число лиц с отказами от прохождения отдельных медицинских мероприятий в рамках профилактического медицинского осмотра, диспансеризации ",null,"человек."]
[null,"(6009)   Число лиц с отказами от прохождения профилактического медицинского осмотра в целом, от диспансеризации в целом",null,"человек."]
[null,"(6010)   Число лиц, проживающих в сельской местности, прошедших профилактический медицинский осмотр, диспансеризацию",{"$f":"'ДВН и профосмотр_общая '!$H$11+'ДВН и профосмотр_общая '!$AH$11","v":1466},"человек."]

{"sheet":"5000, 5001","index":10,"n_rows":55,"n_cols":14,"rows_kept":55,"cut":false,"hidden":true,"merged":[[54,1,54,11],[25,3,27,3],[28,3,30,3],[31,3,32,3],[9,3,10,3],[11,3,12,3],[17,3,18,3],[19,3,20,3],[13,3,14,3],[15,3,16,3],[0,0,0,13],[4,4,4,5],[4,6,4,7],[4,8,4,9],[4,10,4,11],[4,12,4,13],[1,1,1,13],[3,2,5,2],[3,4,3,7],[3,8,3,13],[3,1,5,1],[3,3,5,3]]}
[]
[null,"Заболевания, выявленные при проведении профилактического медицинского осмотра (диспансеризации), установление диспансерного наблюдения"]
[null,"(5000)",null,null,null,null,null,null,null,null,"Код по ОКЕИ: единица - 642"]
[null,"Наименование классов и отдельных заболеваний","N строки","Код МКБ-10","Выявлено заболеваний",null,null,null,"из них: с впервые в жизни установленным диагнозом"]
[null,null,null,null,"всего",null,"в том числе:",null,"всего",null,"в трудоспособном возрасте",null,"в возрасте старше трудоспособного"]
[null,null,null,null,"всего","из них: установлено диспансерное наблюдение","В трудоспособном возрасте","В возрасте старше трудоспособного","всего","из них: установлено диспансерное наблюдение","всего","из них: установлено диспансерное наблюдение","всего","из них: установлено диспансерное наблюдение"]
[null,1,2,3,4,5,6,7,8,9,10,11,12,13]
[null,"Туберкулез органов дыхания",1,"А15 - А16",{"$f":"'5000 и 5001 свод'!E8","v":1},{"$f":"'5000 и 5001 свод'!F8","v":1},{"$f":"'5000 и 5001 свод'!G8","v":1},{"$f":"'5000 и 5001 свод'!H8","v":0},{"$f":"'5000 и 5001 свод'!I8","v":0},{"$f":"'5000 и 5001 свод'!J8","v":0},{"$f":"'5000 и 5001 свод'!K8","v":0},{"$f":"'5000 и 5001 свод'!L8","v":0},{"$f":"'5000 и 5001 свод'!M8","v":0},{"$f":"'5000 и 5001 свод'!N8","v":0}]
[null,"Злокачественные новообразования",2,"C00 - С97",{"$f":"'5000 и 5001 свод'!E10","v":3},{"$f":"'5000 и 5001 свод'!F10","v":3},{"$f":"'5000 и 5001 свод'!G10","v":1},{"$f":"'5000 и 5001 свод'!H10","v":2},{"$f":"'5000 и 5001 свод'!I10","v":0},{"$f":"'5000 и 5001 свод'!J10","v":0},{"$f":"'5000 и 5001 свод'!K10","v":0},{"$f":"'5000 и 5001 свод'!L10","v":0},{"$f":"'5000 и 5001 свод'!M10","v":0},{"$f":"'5000 и 5001 свод'!N10","v":0}]
[null,"Из них губы, полости рта и глотки","2.1","C00 - С14",{"$f":"'5000 и 5001 свод'!E11","v":0},{"$f":"'5000 и 5001 свод'!F11","v":0},{"$f":"'5000 и 5001 свод'!G11","v":0},{"$f":"'5000 и 5001 свод'!H11","v":0},{"$f":"'5000 и 5001 свод'!I11","v":0},{"$f":"'5000 и 5001 свод'!J11","v":0},{"$f":"'5000 и 5001 свод'!K11","v":0},{"$f":"'5000 и 5001 свод'!L11","v":0},{"$f":"'5000 и 5001 свод'!M11","v":0},{"$f":"'5000 и 5001 свод'!N11","v":0}]
[null,"из них в 1-2 стадии","2.2",null,{"$f":"'5000 и 5001 свод'!E12","v":0},{"$f":"'5000 и 5001 свод'!F12","v":0},{"$f":"'5000 и 5001 свод'!G12","v":0},{"$f":"'5000 и 5001 свод'!H12","v":0},{"$f":"'5000 и 5001 свод'!I12","v":0},{"$f":"'5000 и 5001 свод'!J12","v":0},{"$f":"'5000 и 5001 свод'!K12","v":0},{"$f":"'5000 и 5001 свод'!L12","v":0},{"$f":"'5000 и 5001 свод'!M12","v":0},{"$f":"'5000 и 5001 свод'!N12","v":0}]
[null,"пищевода","2.3","С15",{"$f":"'5000 и 5001 свод'!E13","v":0},{"$f":"'5000 и 5001 свод'!F13","v":0},{"$f":"'5000 и 5001 свод'!G13","v":0},{"$f":"'5000 и 5001 свод'!H13","v":0},{"$f":"'5000 и 5001 свод'!I13","v":0},{"$f":"'5000 и 5001 свод'!J13","v":0},{"$f":"'5000 и 5001 свод'!K13","v":0},{"$f":"'5000 и 5001 свод'!L13","v":0},{"$f":"'5000 и 5001 свод'!M13","v":0},{"$f":"'5000 и 5001 свод'!N13","v":0}]
[null,"из них в 1-2 стадии","2.4",null,{"$f":"'5000 и 5001 свод'!E14","v":0},{"$f":"'5000 и 5001 свод'!F14","v":0},{"$f":"'5000 и 5001 свод'!G14","v":0},{"$f":"'5000 и 5001 свод'!H14","v":0},{"$f":"'5000 и 5001 свод'!I14","v":0},{"$f":"'5000 и 5001 свод'!J14","v":0},{"$f":"'5000 и 5001 свод'!K14","v":0},{"$f":"'5000 и 5001 свод'!L14","v":0},{"$f":"'5000 и 5001 свод'!M14","v":0},{"$f":"'5000 и 5001 свод'!N14","v":0}]
[null,"желудка","2.5","С16",{"$f":"'5000 и 5001 свод'!E15","v":0},{"$f":"'5000 и 5001 свод'!F15","v":0},{"$f":"'5000 и 5001 свод'!G15","v":0},{"$f":"'5000 и 5001 свод'!H15","v":0},{"$f":"'5000 и 5001 свод'!I15","v":0},{"$f":"'5000 и 5001 свод'!J15","v":0},{"$f":"'5000 и 5001 свод'!K15","v":0},{"$f":"'5000 и 5001 свод'!L15","v":0},{"$f":"'5000 и 5001 свод'!M15","v":0},{"$f":"'5000 и 5001 свод'!N15","v":0}]
[null,"из них в 1-2 стадии","2.6",null,{"$f":"'5000 и 5001 свод'!E16","v":0},{"$f":"'5000 и 5001 свод'!F16","v":0},{"$f":"'5000 и 5001 свод'!G16","v":0},{"$f":"'5000 и 5001 свод'!H16","v":0},{"$f":"'5000 и 5001 свод'!I16","v":0},{"$f":"'5000 и 5001 свод'!J16","v":0},{"$f":"'5000 и 5001 свод'!K16","v":0},{"$f":"'5000 и 5001 свод'!L16","v":0},{"$f":"'5000 и 5001 свод'!M16","v":0},{"$f":"'5000 и 5001 свод'!N16","v":0}]
[null,"тонкого кишечника","2.7","С17",{"$f":"'5000 и 5001 свод'!E17","v":0},{"$f":"'5000 и 5001 свод'!F17","v":0},{"$f":"'5000 и 5001 свод'!G17","v":0},{"$f":"'5000 и 5001 свод'!H17","v":0},{"$f":"'5000 и 5001 свод'!I17","v":0},{"$f":"'5000 и 5001 свод'!J17","v":0},{"$f":"'5000 и 5001 свод'!K17","v":0},{"$f":"'5000 и 5001 свод'!L17","v":0},{"$f":"'5000 и 5001 свод'!M17","v":0},{"$f":"'5000 и 5001 свод'!N17","v":0}]
[null,"из них в 1-2 стадии","2.8",null,{"$f":"'5000 и 5001 свод'!E18","v":0},{"$f":"'5000 и 5001 свод'!F18","v":0},{"$f":"'5000 и 5001 свод'!G18","v":0},{"$f":"'5000 и 5001 свод'!H18","v":0},{"$f":"'5000 и 5001 свод'!I18","v":0},{"$f":"'5000 и 5001 свод'!J18","v":0},{"$f":"'5000 и 5001 свод'!K18","v":0},{"$f":"'5000 и 5001 свод'!L18","v":0},{"$f":"'5000 и 5001 свод'!M18","v":0},{"$f":"'5000 и 5001 свод'!N18","v":0}]
[null,"ободочной кишки","2.9","С18",{"$f":"'5000 и 5001 свод'!E19","v":0},{"$f":"'5000 и 5001 свод'!F19","v":0},{"$f":"'5000 и 5001 свод'!G19","v":0},{"$f":"'5000 и 5001 свод'!H19","v":0},{"$f":"'5000 и 5001 свод'!I19","v":0},{"$f":"'5000 и 5001 свод'!J19","v":0},{"$f":"'5000 и 5001 свод'!K19","v":0},{"$f":"'5000 и 5001 свод'!L19","v":0},{"$f":"'5000 и 5001 свод'!M19","v":0},{"$f":"'5000 и 5001 свод'!N19","v":0}]
[null,"из них в 1-2 стадии","2.10",null,{"$f":"'5000 и 5001 свод'!E20","v":0},{"$f":"'5000 и 5001 свод'!F20","v":0},{"$f":"'5000 и 5001 свод'!G20","v":0},{"$f":"'5000 и 5001 свод'!H20","v":0},{"$f":"'5000 и 5001 свод'!I20","v":0},{"$f":"'5000 и 5001 свод'!J20","v":0},{"$f":"'5000 и 5001 свод'!K20","v":0},{"$f":"'5000 и 5001 свод'!L20","v":0},{"$f":"'5000 и 5001 свод'!M20","v":0},{"$f":"'5000 и 5001 свод'!N20","v":0}]
[null,"ректосигмоидного соединения, прямой кишки, заднего прохода (ануса) и анального канала","2.11","С19 - С21",{"$f":"'5000 и 5001 свод'!E21","v":1},{"$f":"'5000 и 5001 свод'!F21","v":1},{"$f":"'5000 и 5001 свод'!G21","v":1},{"$f":"'5000 и 5001 свод'!H21","v":0},{"$f":"'5000 и 5001 свод'!I21","v":0},{"$f":"'5000 и 5001 свод'!J21","v":0},{"$f":"'5000 и 5001 свод'!K21","v":0},{"$f":"'5000 и 5001 свод'!L21","v":0},{"$f":"'5000 и 5001 свод'!M21","v":0},{"$f":"'5000 и 5001 свод'!N21","v":0}]
[null,"из них в 1-2 стадии","2.12",null,{"$f":"'5000 и 5001 свод'!E22","v":1},{"$f":"'5000 и 5001 свод'!F22","v":1},{"$f":"'5000 и 5001 свод'!G22","v":1},{"$f":"'5000 и 5001 свод'!H22","v":0},{"$f":"'5000 и 5001 свод'!I22","v":0},{"$f":"'5000 и 5001 свод'!J22","v":0},{"$f":"'5000 и 5001 свод'!K22","v":0},{"$f":"'5000 и 5001 свод'!L22","v":0},{"$f":"'5000 и 5001 свод'!M22","v":0},{"$f":"'5000 и 5001 свод'!N22","v":0}]
[null,"трахеи, бронхов, легкого","2.13","C33,",{"$f":"'5000 и 5001 свод'!E23","v":0},{"$f":"'5000 и 5001 свод'!F23","v":0},{"$f":"'5000 и 5001 свод'!G23","v":0},{"$f":"'5000 и 5001 свод'!H23","v":0},{"$f":"'5000 и 5001 свод'!I23","v":0},{"$f":"'5000 и 5001 свод'!J23","v":0},{"$f":"'5000 и 5001 свод'!K23","v":0},{"$f":"'5000 и 5001 свод'!L23","v":0},{"$f":"'5000 и 5001 свод'!M23","v":0},{"$f":"'5000 и 5001 свод'!N23","v":0}]
[null,"из них в 1-2 стадии","2.14","С34",{"$f":"'5000 и 5001 свод'!E24","v":0},{"$f":"'5000 и 5001 свод'!F24","v":0},{"$f":"'5000 и 5001 свод'!G24","v":0},{"$f":"'5000 и 5001 свод'!H24","v":0},{"$f":"'5000 и 5001 свод'!I24","v":0},{"$f":"'5000 и 5001 свод'!J24","v":0},{"$f":"'5000 и 5001 свод'!K24","v":0},{"$f":"'5000 и 5001 свод'!L24","v":0},{"$f":"'5000 и 5001 свод'!M24","v":0},{"$f":"'5000 и 5001 свод'!N24","v":0}]
[null,"кожи","2.15","С43-",{"$f":"'5000 и 5001 свод'!E25","v":0},{"$f":"'5000 и 5001 свод'!F25","v":0},{"$f":"'5000 и 5001 свод'!G25","v":0},{"$f":"'5000 и 5001 свод'!H25","v":0},{"$f":"'5000 и 5001 свод'!I25","v":0},{"$f":"'5000 и 5001 свод'!J25","v":0},{"$f":"'5000 и 5001 свод'!K25","v":0},{"$f":"'5000 и 5001 свод'!L25","v":0},{"$f":"'5000 и 5001 свод'!M25","v":0},{"$f":"'5000 и 5001 свод'!N25","v":0}]
[null,"из них в 1-2 стадии","2.16","С44",{"$f":"'5000 и 5001 свод'!E26","v":0},{"$f":"'5000 и 5001 свод'!F26","v":0},{"$f":"'5000 и 5001 свод'!G26","v":0},{"$f":"'5000 и 5001 свод'!H26","v":0},{"$f":"'5000 и 5001 свод'!I26","v":0},{"$f":"'5000 и 5001 свод'!J26","v":0},{"$f":"'5000 и 5001 свод'!K26","v":0},{"$f":"'5000 и 5001 свод'!L26","v":0},{"$f":"'5000 и 5001 свод'!M26","v":0},{"$f":"'5000 и 5001 свод'!N26","v":0}]
[null,"молочной железы","2.17","С50",{"$f":"'5000 и 5001 свод'!E27","v":1},{"$f":"'5000 и 5001 свод'!F27","v":1},{"$f":"'5000 и 5001 свод'!G27","v":0},{"$f":"'5000 и 5001 свод'!H27","v":1},{"$f":"'5000 и 5001 свод'!I27","v":0},{"$f":"'5000 и 5001 свод'!J27","v":0},{"$f":"'5000 и 5001 свод'!K27","v":0},{"$f":"'5000 и 5001 свод'!L27","v":0},{"$f":"'5000 и 5001 свод'!M27","v":0},{"$f":"'5000 и 5001 свод'!N27","v":0}]
[null,"из них в 0-1 стадии","2.18",null,{"$f":"'5000 и 5001 свод'!E28","v":0},{"$f":"'5000 и 5001 свод'!F28","v":0},{"$f":"'5000 и 5001 свод'!G28","v":0},{"$f":"'5000 и 5001 свод'!H28","v":0},{"$f":"'5000 и 5001 свод'!I28","v":0},{"$f":"'5000 и 5001 свод'!J28","v":0},{"$f":"'5000 и 5001 свод'!K28","v":0},{"$f":"'5000 и 5001 свод'!L28","v":0},{"$f":"'5000 и 5001 свод'!M28","v":0},{"$f":"'5000 и 5001 свод'!N28","v":0}]
[null,"2 стадии","2.19",null,{"$f":"'5000 и 5001 свод'!E29","v":1},{"$f":"'5000 и 5001 свод'!F29","v":1},{"$f":"'5000 и 5001 свод'!G29","v":0},{"$f":"'5000 и 5001 свод'!H29","v":1},{"$f":"'5000 и 5001 свод'!I29","v":0},{"$f":"'5000 и 5001 свод'!J29","v":0},{"$f":"'5000 и 5001 свод'!K29","v":0},{"$f":"'5000 и 5001 свод'!L29","v":0},{"$f":"'5000 и 5001 свод'!M29","v":0},{"$f":"'5000 и 5001 свод'!N29","v":0}]
[null,"шейки матки","2.20","С53",{"$f":"'5000 и 5001 свод'!E30","v":0},{"$f":"'5000 и 5001 свод'!F30","v":0},{"$f":"'5000 и 5001 свод'!G30","v":0},{"$f":"'5000 и 5001 свод'!H30","v":0},{"$f":"'5000 и 5001 свод'!I30","v":0},{"$f":"'5000 и 5001 свод'!J30","v":0},{"$f":"'5000 и 5001 свод'!K30","v":0},{"$f":"'5000 и 5001 свод'!L30","v":0},{"$f":"'5000 и 5001 свод'!M30","v":0},{"$f":"'5000 и 5001 свод'!N30","v":0}]
[null,"из них в 0-1 стадии","2.21",null,{"$f":"'5000 и 5001 свод'!E31","v":0},{"$f":"'5000 и 5001 свод'!F31","v":0},{"$f":"'5000 и 5001 свод'!G31","v":0},{"$f":"'5000 и 5001 свод'!H31","v":0},{"$f":"'5000 и 5001 свод'!I31","v":0},{"$f":"'5000 и 5001 свод'!J31","v":0},{"$f":"'5000 и 5001 свод'!K31","v":0},{"$f":"'5000 и 5001 свод'!L31","v":0},{"$f":"'5000 и 5001 свод'!M31","v":0},{"$f":"'5000 и 5001 свод'!N31","v":0}]
[null,"2 стадии","2.22",null,{"$f":"'5000 и 5001 свод'!E32","v":0},{"$f":"'5000 и 5001 свод'!F32","v":0},{"$f":"'5000 и 5001 свод'!G32","v":0},{"$f":"'5000 и 5001 свод'!H32","v":0},{"$f":"'5000 и 5001 свод'!I32","v":0},{"$f":"'5000 и 5001 свод'!J32","v":0},{"$f":"'5000 и 5001 свод'!K32","v":0},{"$f":"'5000 и 5001 свод'!L32","v":0},{"$f":"'5000 и 5001 свод'!M32","v":0},{"$f":"'5000 и 5001 свод'!N32","v":0}]
[null,"предстательной железы","2.23","С61",{"$f":"'5000 и 5001 свод'!E33","v":1},{"$f":"'5000 и 5001 свод'!F33","v":1},{"$f":"'5000 и 5001 свод'!G33","v":0},{"$f":"'5000 и 5001 свод'!H33","v":1},{"$f":"'5000 и 5001 свод'!I33","v":0},{"$f":"'5000 и 5001 свод'!J33","v":0},{"$f":"'5000 и 5001 свод'!K33","v":0},{"$f":"'5000 и 5001 свод'!L33","v":0},{"$f":"'5000 и 5001 свод'!M33","v":0},{"$f":"'5000 и 5001 свод'!N33","v":0}]
[null,"из них в 1-2 стадии","2.24",null,{"$f":"'5000 и 5001 свод'!E34","v":1},{"$f":"'5000 и 5001 свод'!F34","v":1},{"$f":"'5000 и 5001 свод'!G34","v":0},{"$f":"'5000 и 5001 свод'!H34","v":1},{"$f":"'5000 и 5001 свод'!I34","v":0},{"$f":"'5000 и 5001 свод'!J34","v":0},{"$f":"'5000 и 5001 свод'!K34","v":0},{"$f":"'5000 и 5001 свод'!L34","v":0},{"$f":"'5000 и 5001 свод'!M34","v":0},{"$f":"'5000 и 5001 свод'!N34","v":0}]
[null,"Сахарный диабет",3,"Е10 - Е14",{"$f":"'5000 и 5001 свод'!E38","v":103},{"$f":"'5000 и 5001 свод'!F38","v":97},{"$f":"'5000 и 5001 свод'!G38","v":9},{"$f":"'5000 и 5001 свод'!H38","v":94},{"$f":"'5000 и 5001 свод'!I38","v":11},{"$f":"'5000 и 5001 свод'!J38","v":11},{"$f":"'5000 и 5001 свод'!K38","v":0},{"$f":"'5000 и 5001 свод'!L38","v":0},{"$f":"'5000 и 5001 свод'!M38","v":11},{"$f":"'5000 и 5001 свод'!N38","v":11}]
[null,"из него: инсулиннезависимый сахарный диабет","3.1","Е11",{"$f":"'5000 и 5001 свод'!E39","v":103},{"$f":"'5000 и 5001 свод'!F39","v":97},{"$f":"'5000 и 5001 свод'!G39","v":9},{"$f":"'5000 и 5001 свод'!H39","v":94},{"$f":"'5000 и 5001 свод'!I39","v":11},{"$f":"'5000 и 5001 свод'!J39","v":11},{"$f":"'5000 и 5001 свод'!K39","v":0},{"$f":"'5000 и 5001 свод'!L39","v":0},{"$f":"'5000 и 5001 свод'!M39","v":11},{"$f":"'5000 и 5001 свод'!N39","v":11}]
[null,"Преходящие церебральные ишемические приступы (атаки) и родственные синдромы",4,"G45",{"$f":"'5000 и 5001 свод'!E43","v":0},{"$f":"'5000 и 5001 свод'!F43","v":0},{"$f":"'5000 и 5001 свод'!G43","v":0},{"$f":"'5000 и 5001 свод'!H43","v":0},{"$f":"'5000 и 5001 свод'!I43","v":0},{"$f":"'5000 и 5001 свод'!J43","v":0},{"$f":"'5000 и 5001 свод'!K43","v":0},{"$f":"'5000 и 5001 свод'!L43","v":0},{"$f":"'5000 и 5001 свод'!M43","v":0},{"$f":"'5000 и 5001 свод'!N43","v":0}]
[null,"Старческая катаракта и другие катаракты",5,"Н25, Н26",{"$f":"'5000 и 5001 свод'!E45","v":0},{"$f":"'5000 и 5001 свод'!F45","v":0},{"$f":"'5000 и 5001 свод'!G45","v":0},{"$f":"'5000 и 5001 свод'!H45","v":0},{"$f":"'5000 и 5001 свод'!I45","v":0},{"$f":"'5000 и 5001 свод'!J45","v":0},{"$f":"'5000 и 5001 свод'!K45","v":0},{"$f":"'5000 и 5001 свод'!L45","v":0},{"$f":"'5000 и 5001 свод'!M45","v":0},{"$f":"'5000 и 5001 свод'!N45","v":0}]
[null,"Глаукома",6,"Н40",{"$f":"'5000 и 5001 свод'!E46","v":5},{"$f":"'5000 и 5001 свод'!F46","v":2},{"$f":"'5000 и 5001 свод'!G46","v":1},{"$f":"'5000 и 5001 свод'!H46","v":4},{"$f":"'5000 и 5001 свод'!I46","v":0},{"$f":"'5000 и 5001 свод'!J46","v":0},{"$f":"'5000 и 5001 свод'!K46","v":0},{"$f":"'5000 и 5001 свод'!L46","v":0},{"$f":"'5000 и 5001 свод'!M46","v":0},{"$f":"'5000 и 5001 свод'!N46","v":0}]
[null,"Слепота и пониженное зрение",7,"Н54",{"$f":"'5000 и 5001 свод'!E47","v":1},{"$f":"'5000 и 5001 свод'!F47","v":1},{"$f":"'5000 и 5001 свод'!G47","v":0},{"$f":"'5000 и 5001 свод'!H47","v":1},{"$f":"'5000 и 5001 свод'!I47","v":0},{"$f":"'5000 и 5001 свод'!J47","v":0},{"$f":"'5000 и 5001 свод'!K47","v":0},{"$f":"'5000 и 5001 свод'!L47","v":0},{"$f":"'5000 и 5001 свод'!M47","v":0},{"$f":"'5000 и 5001 свод'!N47","v":0}]
[null,"Кондуктивная и нейросенсорная потеря слуха",8,"Н90",{"$f":"'5000 и 5001 свод'!E75","v":0},{"$f":"'5000 и 5001 свод'!F75","v":0},{"$f":"'5000 и 5001 свод'!G75","v":0},{"$f":"'5000 и 5001 свод'!H75","v":0},{"$f":"'5000 и 5001 свод'!I75","v":0},{"$f":"'5000 и 5001 свод'!J75","v":0},{"$f":"'5000 и 5001 свод'!K75","v":0},{"$f":"'5000 и 5001 свод'!L75","v":0},{"$f":"'5000 и 5001 свод'!M75","v":0},{"$f":"'5000 и 5001 свод'!N75","v":0}]
[null,"Болезни системы кровообращения",9,"I00 - I99",{"$f":"'5000 и 5001 свод'!E48","v":1226},{"$f":"'5000 и 5001 свод'!F48","v":1261},{"$f":"'5000 и 5001 свод'!G48","v":138},{"$f":"'5000 и 5001 свод'!H48","v":1088},{"$f":"'5000 и 5001 свод'!I48","v":57},{"$f":"'5000 и 5001 свод'!J48","v":57},{"$f":"'5000 и 5001 свод'!K48","v":19},{"$f":"'5000 и 5001 свод'!L48","v":19},{"$f":"'5000 и 5001 свод'!M48","v":38},{"$f":"'5000 и 5001 свод'!N48","v":38}]
[null,"из них болезни, характеризующиеся повышенным кровяным давлением","9.1","I10 - I13",{"$f":"'5000 и 5001 свод'!E49","v":656},{"$f":"'5000 и 5001 свод'!F49","v":702},{"$f":"'5000 и 5001 свод'!G49","v":98},{"$f":"'5000 и 5001 свод'!H49","v":558},{"$f":"'5000 и 5001 свод'!I49","v":32},{"$f":"'5000 и 5001 свод'!J49","v":32},{"$f":"'5000 и 5001 свод'!K49","v":10},{"$f":"'5000 и 5001 свод'!L49","v":10},{"$f":"'5000 и 5001 свод'!M49","v":22},{"$f":"'5000 и 5001 свод'!N49","v":22}]
[null,"ишемические болезни сердца","9.2","I20 - I25",{"$f":"'5000 и 5001 свод'!E50","v":387},{"$f":"'5000 и 5001 свод'!F50","v":403},{"$f":"'5000 и 5001 свод'!G50","v":23},{"$f":"'5000 и 5001 свод'!H50","v":364},{"$f":"'5000 и 5001 свод'!I50","v":24},{"$f":"'5000 и 5001 свод'!J50","v":24},{"$f":"'5000 и 5001 свод'!K50","v":8},{"$f":"'5000 и 5001 свод'!L50","v":8},{"$f":"'5000 и 5001 свод'!M50","v":16},{"$f":"'5000 и 5001 свод'!N50","v":16}]
[null,"цереброваскулярные болезни","9.3","I60 - I69",{"$f":"'5000 и 5001 свод'!E56","v":102},{"$f":"'5000 и 5001 свод'!F56","v":84},{"$f":"'5000 и 5001 свод'!G56","v":10},{"$f":"'5000 и 5001 свод'!H56","v":92},{"$f":"'5000 и 5001 свод'!I56","v":0},{"$f":"'5000 и 5001 свод'!J56","v":0},{"$f":"'5000 и 5001 свод'!K56","v":0},{"$f":"'5000 и 5001 свод'!L56","v":0},{"$f":"'5000 и 5001 свод'!M56","v":0},{"$f":"'5000 и 5001 свод'!N56","v":0}]
[null,"из них: закупорка и стеноз прецеребральных и (или) церебральных артерий, не приводящие к инфаркту мозга","9.4","I65, I66",{"$f":"'5000 и 5001 свод'!E57","v":2},{"$f":"'5000 и 5001 свод'!F57","v":2},{"$f":"'5000 и 5001 свод'!G57","v":0},{"$f":"'5000 и 5001 свод'!H57","v":2},{"$f":"'5000 и 5001 свод'!I57","v":0},{"$f":"'5000 и 5001 свод'!J57","v":0},{"$f":"'5000 и 5001 свод'!K57","v":0},{"$f":"'5000 и 5001 свод'!L57","v":0},{"$f":"'5000 и 5001 свод'!M57","v":0},{"$f":"'5000 и 5001 свод'!N57","v":0}]
[null,"Болезни органов дыхания",10,"J00 - J99",{"$f":"'5000 и 5001 свод'!E60","v":51},{"$f":"'5000 и 5001 свод'!F60","v":53},{"$f":"'5000 и 5001 свод'!G60","v":15},{"$f":"'5000 и 5001 свод'!H60","v":36},{"$f":"'5000 и 5001 свод'!I60","v":13},{"$f":"'5000 и 5001 свод'!J60","v":2},{"$f":"'5000 и 5001 свод'!K60","v":6},{"$f":"'5000 и 5001 свод'!L60","v":1},{"$f":"'5000 и 5001 свод'!M60","v":7},{"$f":"'5000 и 5001 свод'!N60","v":1}]
[null,"Бронхит, не уточненный как острый и хронический, простой и слизисто-гнойный хронический бронхит, хронический бронхит неуточненный, эмфизема","10.1","J40 - J43",{"$f":"'5000 и 5001 свод'!E62","v":22},{"$f":"'5000 и 5001 свод'!F62","v":22},{"$f":"'5000 и 5001 свод'!G62","v":9},{"$f":"'5000 и 5001 свод'!H62","v":13},{"$f":"'5000 и 5001 свод'!I62","v":13},{"$f":"'5000 и 5001 свод'!J62","v":2},{"$f":"'5000 и 5001 свод'!K62","v":6},{"$f":"'5000 и 5001 свод'!L62","v":1},{"$f":"'5000 и 5001 свод'!M62","v":7},{"$f":"'5000 и 5001 свод'!N62","v":1}]
[null,"Другая хроническая обструктивная легочная болезнь, астма, астматический статус, бронхоэктатическая болезнь","10.2","J44 - J47",{"$f":"'5000 и 5001 свод'!E63","v":29},{"$f":"'5000 и 5001 свод'!F63","v":31},{"$f":"'5000 и 5001 свод'!G63","v":6},{"$f":"'5000 и 5001 свод'!H63","v":23},{"$f":"'5000 и 5001 свод'!I63","v":0},{"$f":"'5000 и 5001 свод'!J63","v":0},{"$f":"'5000 и 5001 свод'!K63","v":0},{"$f":"'5000 и 5001 свод'!L63","v":0},{"$f":"'5000 и 5001 свод'!M63","v":0},{"$f":"'5000 и 5001 свод'!N63","v":0}]
[null,"Болезни органов пищеварения",11,"K00 - К93",{"$f":"'5000 и 5001 свод'!E64","v":68},{"$f":"'5000 и 5001 свод'!F64","v":49},{"$f":"'5000 и 5001 свод'!G64","v":32},{"$f":"'5000 и 5001 свод'!H64","v":36},{"$f":"'5000 и 5001 свод'!I64","v":13},{"$f":"'5000 и 5001 свод'!J64","v":0},{"$f":"'5000 и 5001 свод'!K64","v":5},{"$f":"'5000 и 5001 свод'!L64","v":0},{"$f":"'5000 и 5001 свод'!M64","v":8},{"$f":"'5000 и 5001 свод'!N64","v":0}]
[null,"язва желудка, язва двенадцатиперстной кишки","11.1","K25, К26",{"$f":"'5000 и 5001 свод'!E65","v":15},{"$f":"'5000 и 5001 свод'!F65","v":11},{"$f":"'5000 и 5001 свод'!G65","v":9},{"$f":"'5000 и 5001 свод'!H65","v":6},{"$f":"'5000 и 5001 свод'!I65","v":0},{"$f":"'5000 и 5001 свод'!J65","v":0},{"$f":"'5000 и 5001 свод'!K65","v":0},{"$f":"'5000 и 5001 свод'!L65","v":0},{"$f":"'5000 и 5001 свод'!M65","v":0},{"$f":"'5000 и 5001 свод'!N65","v":0}]
[null,"гастрит и дуоденит",12,"K29",{"$f":"'5000 и 5001 свод'!E66","v":27},{"$f":"'5000 и 5001 свод'!F66","v":20},{"$f":"'5000 и 5001 свод'!G66","v":10},{"$f":"'5000 и 5001 свод'!H66","v":17},{"$f":"'5000 и 5001 свод'!I66","v":3},{"$f":"'5000 и 5001 свод'!J66","v":0},{"$f":"'5000 и 5001 свод'!K66","v":1},{"$f":"'5000 и 5001 свод'!L66","v":0},{"$f":"'5000 и 5001 свод'!M66","v":2},{"$f":"'5000 и 5001 свод'!N66","v":0}]
[null,"Прочие",13,null,{"$f":"'5000 и 5001 свод'!E69","v":435},{"$f":"'5000 и 5001 свод'!F69","v":159},{"$f":"'5000 и 5001 свод'!G69","v":239},{"$f":"'5000 и 5001 свод'!H69","v":196},{"$f":"'5000 и 5001 свод'!I69","v":239},{"$f":"'5000 и 5001 свод'!J69","v":0},{"$f":"'5000 и 5001 свод'!K69","v":94},{"$f":"'5000 и 5001 свод'!L69","v":0},{"$f":"'5000 и 5001 свод'!M69","v":145},{"$f":"'5000 и 5001 свод'!N69","v":0}]
[]
[null,"(5001)",null,null,null,null,null,null,null,null," Код по ОКЕИ: человек - 792"]
[null,"Число лиц с артериальным давлением ниже 140/90 мм рт.ст. на фоне приема гипотензивных лекарственных препаратов, при наличии болезней, характеризующихся повышенным кровяным давлением (I10 - I15 по МКБ-10)",null,null,null,null,null,null,null,null,null,null,{"$f":"'5000 и 5001 свод'!M81","v":614},";"]

{"sheet":"Список МО","index":11,"n_rows":54,"n_cols":1,"rows_kept":54,"cut":false,"hidden":true,"merged":[]}
["ГУЗ \"Поликлиника № 4\""]
["ГУЗ \"Клиническая поликлиника № 28\""]
["ГУЗ \"Поликлиника № 30\""]
["ГУЗ \"Поликлиника № 5\""]
["ГУЗ \"Больница № 16\""]
["ГУЗ \"Больница №22\""]
["ГУЗ \"КБСМП № 15\""]
["ГУЗ \"Больница № 24\""]
["ГУЗ \"Поликлиника № 2\"  "]
["ГУЗ \"КБ СМП № 7\""]
["ГУЗ \"Клиническая больница № 11\""]
["ГУЗ \"Клиническая поликлиника № 1\""]
["ГУЗ \"Клиническая поликлиника №12\""]
["ГАУЗ \"Клиническая поликлиника №3\""]
["ГБУЗ \"ГКБ № 1 им. С.З.Фишера\""]
["ГБУЗ \"Городская клиническая больница №3\" "]
["ГБУЗ \"Городская больница № 2\""]
["ГБУЗ \"Городская поликлиника №5\""]
["ГБУЗ \"Алексеевская ЦРБ\""]
["ГБУЗ \"Быковская ЦРБ\""]
["ГБУЗ \"Городищенская ЦРБ\""]
["ГБУЗ \"Даниловская ЦРБ\""]
["ГБУЗ \"ЦРБ Дубовского муниципального района\""]
["ГБУЗ Еланская ЦРБ"]
["ГУЗ \"Жирновская ЦРБ\""]
["ГБУЗ \"Иловлинская ЦРБ\""]
["ГБУЗ \"Калачевская ЦРБ\""]
["ГБУЗ г.Камышина \"Городская больница № 1\""]
["ГБУЗ ЦГБ г.Камышина"]
["ГБУЗ \"Киквидзенская ЦРБ\""]
["ГБУЗ \"ЦРБ Клетского муниципального района\""]
["ГБУЗ \"Котельниковская ЦРБ\""]
["ГБУЗ ЦРБ Котовского муниципального района"]
["ГБУЗ \"Ленинская ЦРБ\""]
["ГБУЗ \"Михайловская ЦРБ\""]
["ГБУЗ \"Нехаевская ЦРБ\""]
["ГБУЗ \"Николаевская ЦРБ\""]
["ГБУЗ \"Новоаннинская ЦРБ\""]
["ГБУЗ \"Новониколаевская ЦРБ\""]
["ГБУЗ \"Октябрьская ЦРБ\""]
["ГБУЗ \"ЦРБ Ольховского муниципального района\""]
["ГБУЗ \"Палласовская ЦРБ\"  "]
["ГБУЗ \"Кумылженская ЦРБ\""]
["ГБУ \"ЦРБ Руднянского муниципального района\""]
["ГБУЗ \"Светлоярская ЦРБ\""]
["ГБУЗ \"Серафимовичская ЦРБ\""]
["ГБУЗ \"Среднеахтубинская ЦРБ\""]
["ГБУЗ \"Старополтавская ЦРБ\""]
["ГБУЗ \"ЦРБ Суровикинского муниципального района\""]
["ГБУЗ Урюпинская ЦРБ"]
["ГБУЗ \"Фроловская ЦРБ\""]
["ГБУЗ \"Чернышковская ЦРБ\""]
["Клиника семейной медицины ФГБОУ ВО ВолгГМУ Минздрава России"]
["ЧУЗ КБ РЖД-Медицина"]

{"sheet":"Проверочный лист","index":12,"n_rows":60,"n_cols":39,"rows_kept":60,"cut":false,"hidden":true,"merged":[[0,9,1,9]]}
["№ п/п","Наименование медицинской организации ","Плановые показатели                       гр.1","в том числе граждан старше трудоспособного возраста*                                гр.2","Граждане 65 лет                              гр.3","Граждане 66 лет и старше                              гр.4","Плановые показатели взрослого населения                            гр.19",null,null,"Наименование медицинской организации ","18-34","35-39","40-54","55-59","60-64","65-74","75 и старше","18-34","35-39","40-54","55-59","60-64","65-74","75 и старше","18-34","35-39","40-54","55-59","60-64","65-74","75 и старше","18-34","35-39","40-54","55-59","60-64","65-74","75 и старше"]
[1,"ГУЗ \"Поликлиника № 4\"",15841,9520,460,6463,7435,null,null,null,7,7,7,7,7,7,7,8,8,8,8,8,8,8,11,11,11,11,11,11,11,12,12,12,12,12,12,12]
[2,"ГУЗ \"Клиническая поликлиника № 28\"",22419,15515,784,10642,10395,null,null,"ГУЗ \"Поликлиника № 4\"",8525,3352,7324,2301,2201,3089,2884,2309,1343,1909,968,1070,1043,580,9605,3693,10363,3502,3670,6218,2158,3463,1866,2918,1104,1325,1971,1407,{"$f":"SUM(R3:X3)+SUM(AF3:AL3)=C2+G2","v":true}]
[3,"ГУЗ \"Поликлиника № 30\"",11223,6326,344,4028,5300,null,null,"ГУЗ \"Клиническая поликлиника № 28\"",11318,9195,7072,4127,3932,3743,3528,2865,2307,2279,1684,1382,1026,639,16656,13792,10928,6032,5847,5651,5461,4073,3682,3873,3168,2253,2005,1578,{"$f":"SUM(R4:X4)+SUM(AF4:AL4)=C3+G3","v":true}]
[4,"ГУЗ \"Поликлиника № 5\"",19152,12033,586,8066,8538,null,null,"ГУЗ \"Поликлиника № 30\"",5235,1757,4620,1682,1190,2065,1060,1846,685,1892,711,576,982,527,6362,1850,5181,1950,2008,3475,1574,2240,700,1958,950,931,1687,838,true]
[5,"ГУЗ \"Больница № 16\"",16187,10201,412,6942,6820,null,null,"ГУЗ \"Поликлиника № 5\"",7902,4768,7790,3728,2424,3481,1978,2082,2197,2067,1612,1502,1949,1180,11481,5650,9324,4341,4256,6271,5346,2241,2238,2232,1969,2075,2150,2196,true]
[6,"ГУЗ \"Больница №22\"",10689,6058,283,4061,4344,null,null,"ГУЗ \"Больница № 16\"",7548,3026,8927,2973,2246,2001,2042,1609,1589,1923,971,702,1834,1361,8259,3273,10184,3684,3207,4008,4049,2072,2014,2265,1330,1178,2358,1801,true]
[7,"ГУЗ \"КБСМП № 15\"",10231,6939,323,4782,3895,null,null,"ГУЗ \"Больница №22\"",1983,2776,3795,2774,1444,2344,348,694,968,1321,968,755,1678,235,2575,3582,4878,3581,1890,2709,443,883,1231,1680,1230,959,2132,299,true]
[8,"ГУЗ \"Больница № 24\"",null,null,null,null,null,null,null,"ГУЗ \"КБСМП № 15\"",4235,2760,3598,1520,2318,2235,1250,1200,600,700,440,1000,1300,600,5465,3060,4752,2930,2585,2750,1542,2100,695,892,560,1400,1600,1039,true]
[9,"ГУЗ \"Поликлиника № 2\"  ",29340,19422,763,14061,11447,null,null,"ГУЗ \"Больница № 24\"",null,null,null,null,null,null,null,null,null,null,null,null,null,null,null,null,null,null,null,null,null,null,null,null,null,null,null,null,true]
[10,"ГУЗ \"КБ СМП № 7\"",9978,5829,252,3848,5030,null,null,"ГУЗ \"Поликлиника № 2\"  ",5831,5289,17560,6590,7803,7787,9123,3693,2268,2261,584,984,2463,1149,5901,5280,17800,7120,8757,7988,9199,3875,3563,9981,1062,1399,4319,3186,true]
[11,"ГУЗ \"Клиническая больница № 11\"",12165,6771,359,4348,5032,null,null,"ГУЗ \"КБ СМП № 7\"",3042,3009,3684,2390,1454,1192,1073,1657,896,2154,410,536,883,589,3242,3609,4179,1975,3862,2160,2213,1957,1504,2256,228,336,982,620,true]
[12,"ГУЗ \"Клиническая поликлиника № 1\"",26199,16232,792,10879,10109,null,null,"ГУЗ \"Клиническая больница № 11\"",4050,3146,2324,1030,2700,2040,1318,1748,1038,1184,336,484,855,378,4510,3450,5426,2052,1524,2510,1504,1860,1529,4422,464,600,1334,965,true]
[13,"ГАУЗ \"Клиническая поликлиника №3\"",17369,11444,481,8098,7985,null,null,"ГУЗ \"Клиническая поликлиника № 1\"",12743,3659,10932,2829,6494,7349,3297,2699,2215,3093,660,1969,4820,513,17100,4909,14669,3796,8715,9861,4944,3621,2974,4152,662,2642,5660,628,true]
[14,"ГБУЗ \"ГКБ № 1 им. С.З.Фишера\"",19977,11699,511,7931,7755,null,null,"ГАУЗ \"Клиническая поликлиника №3\"",10395,3069,6977,3423,1694,2896,2144,4268,958,3701,507,791,878,1200,6880,3014,7894,4183,1970,4663,5940,2342,1348,5551,900,1090,820,1000,true]
[15,"ГБУЗ \"Городская клиническая больница №3\" ",14372,8810,367,5871,4977,null,null,"ГБУЗ \"ГКБ № 1 им. С.З.Фишера\"",8857,4523,4867,3008,2799,2504,1402,3661,1756,1937,910,885,1742,678,7245,4013,6152,3021,5275,7904,3001,4262,1356,2023,1310,1190,4345,1677,true]
[16,"ГБУЗ \"Городская больница № 2\"",19945,12691,592,9003,6919,null,null,"ГБУЗ \"Городская клиническая больница №3\" ",4995,1638,5090,1582,1464,2434,3021,1123,823,1384,1266,1316,1265,1348,5012,2064,5849,2303,2194,3213,3238,1378,1180,1881,1436,1324,1829,1796,true]
[17,"ГБУЗ \"Городская поликлиника №5\"",14398,9135,618,4856,6664,null,null,"ГБУЗ \"Городская больница № 2\"",6491,2758,8025,3035,2561,3413,852,2769,1956,3001,1623,1437,856,202,8166,4158,9617,3542,2884,4626,1742,3109,2876,2862,2163,1852,1516,642,true]
[18,"ГБУЗ \"Алексеевская ЦРБ\"",3817,2484,122,1610,1234,null,null,"ГБУЗ \"Городская поликлиника №5\"",5216,5113,4699,1272,2927,2119,1502,2154,1653,1387,553,896,1105,221,5436,5392,5798,1995,4176,4077,2059,2361,1936,2076,922,1650,3461,687,true]
[19,"ГБУЗ \"Быковская ЦРБ\"",6076,3464,195,2165,2213,null,null,"ГБУЗ \"Алексеевская ЦРБ\"",1409,675,1621,573,571,803,295,474,242,500,298,245,324,279,1201,509,1501,302,710,1153,545,326,158,450,286,335,592,542,true]
[20,"ГБУЗ \"Городищенская ЦРБ\"",13154,7347,411,4268,5595,null,null,"ГБУЗ \"Быковская ЦРБ\"",2622,878,2312,738,760,884,486,1175,394,1036,331,341,396,218,2676,859,2459,896,864,1220,834,1200,385,1102,403,387,547,374,true]
[21,"ГБУЗ \"Даниловская ЦРБ\"",3701,2567,131,1728,1280,null,null,"ГБУЗ \"Городищенская ЦРБ\"",10995,2942,6350,1910,2164,5090,921,3784,982,1410,271,877,1202,210,9898,2696,6537,2294,2733,5859,2559,4122,1006,1827,432,726,1423,477,true]
[22,"ГБУЗ \"ЦРБ Дубовского муниципального района\"",6227,3893,211,2549,2285,null,null,"ГБУЗ \"Даниловская ЦРБ\"",1232,415,1365,588,610,822,561,282,206,334,300,305,415,326,1093,420,1546,728,767,1113,788,202,256,499,335,403,615,503,true]
[23,"ГБУЗ Еланская ЦРБ",7827,4792,249,3137,2306,null,null,"ГБУЗ \"ЦРБ Дубовского муниципального района\"",2763,1043,2017,1020,1198,1243,621,1201,521,981,311,399,521,142,2254,911,2058,1042,1235,2031,1619,1032,451,1054,459,531,681,228,true]
[24,"ГУЗ \"Жирновская ЦРБ\"",9377,6020,303,3978,3372,null,null,"ГБУЗ Еланская ЦРБ",2883,1060,2720,1071,1072,1392,790,1317,780,420,450,624,570,250,3199,926,2990,1162,1258,2525,753,1410,800,711,400,931,740,730,true]
[25,"ГБУЗ \"Иловлинская ЦРБ\"",7177,4410,225,2831,2807,null,null,"ГУЗ \"Жирновская ЦРБ\"",3239,2284,2111,2495,851,1581,1561,1484,1009,945,1135,360,680,670,3468,2507,2534,2722,1084,1894,1794,1527,1006,1042,1136,361,722,672,true]
[26,"ГБУЗ \"Калачевская ЦРБ\"",13810,8257,456,5304,5052,null,null,"ГБУЗ \"Иловлинская ЦРБ\"",2593,920,2493,1199,1100,805,1166,671,692,631,627,757,460,621,3200,1201,3711,1331,1299,1205,1314,941,856,790,881,785,502,770,true]
[27,"ГБУЗ г.Камышина \"Городская больница № 1\"",20540,12926,662,8506,7465,null,null,"ГБУЗ \"Калачевская ЦРБ\"",7041,1743,2898,1751,1879,1625,2514,2043,1124,1164,901,969,1511,1271,5712,1679,3537,2159,2244,2128,4043,2011,1291,2091,807,701,1503,1475,true]
[28,"ГБУЗ ЦГБ г.Камышина",14614,9164,385,6300,4691,null,null,"ГБУЗ г.Камышина \"Городская больница № 1\"",7088,2492,7551,2972,1616,2973,2585,3164,1200,3278,1397,486,895,779,10634,3737,11327,4458,2426,4460,3879,4747,1802,4918,2096,731,1344,1168,true]
[29,"ГБУЗ \"Киквидзенская ЦРБ\"",3919,2522,135,1619,1215,null,null,"ГБУЗ ЦГБ г.Камышина",5673,2184,5518,2105,2180,2342,2049,1643,974,1192,447,559,1005,580,5530,2593,6604,2133,2112,4380,5084,1575,1485,5117,627,672,1756,1673,true]
[30,"ГБУЗ \"ЦРБ Клетского муниципального района\"",3150,2186,123,1453,1344,null,null,"ГБУЗ \"Киквидзенская ЦРБ\"",1669,534,1565,614,542,581,390,462,316,700,214,296,370,100,1383,505,1682,667,662,989,768,516,315,670,263,325,486,101,true]
[31,"ГБУЗ \"Котельниковская ЦРБ\"",8223,4730,217,3036,3305,null,null,"ГБУЗ \"ЦРБ Клетского муниципального района\"",1620,713,1629,572,652,936,485,488,451,148,115,278,410,248,1401,631,1607,576,674,1131,1085,400,408,159,139,332,572,346,true]
[32,"ГБУЗ ЦРБ Котовского муниципального района",7325,4873,236,3249,2855,null,null,"ГБУЗ \"Котельниковская ЦРБ\"",3203,1208,3259,1108,989,1147,937,1000,751,927,710,618,577,653,2687,1055,2737,1004,1376,3587,1076,1088,903,1083,861,887,859,611,true]
[33,"ГБУЗ \"Ленинская ЦРБ\"",6751,3940,227,2497,2524,null,null,"ГБУЗ ЦРБ Котовского муниципального района",2191,2064,2172,1984,1213,1134,710,1075,1054,896,685,521,626,257,2411,2326,2415,1785,1312,1325,1146,1105,1146,947,567,478,436,387,true]
[34,"ГБУЗ \"Михайловская ЦРБ\"",17805,10911,541,6919,6773,null,null,"ГБУЗ \"Ленинская ЦРБ\"",2722,1017,2605,864,874,1274,698,761,700,690,702,628,634,596,2736,919,2785,985,1026,1587,1113,680,623,614,750,630,641,626,true]
[35,"ГБУЗ \"Нехаевская ЦРБ\"",3489,2345,103,1571,1116,null,null,"ГБУЗ \"Михайловская ЦРБ\"",12183,4096,4589,3775,2618,2021,1435,1905,1468,1740,1235,1116,1359,863,9629,3671,6729,3255,3797,6900,3232,1919,1539,2476,1793,1927,3303,1935,true]
[36,"ГБУЗ \"Николаевская ЦРБ\"",7092,4070,215,2623,2727,null,null,"ГБУЗ \"Нехаевская ЦРБ\"",1125,270,1522,497,303,595,394,243,96,613,209,164,492,215,1076,377,1308,519,467,904,607,239,98,648,267,252,732,337,true]
[37,"ГБУЗ \"Новоаннинская ЦРБ\"",8498,5207,283,3241,2908,null,null,"ГБУЗ \"Николаевская ЦРБ\"",1887,691,2603,1008,1096,1251,728,1051,574,962,443,735,710,420,1847,760,2848,1157,1163,1646,1157,1068,574,962,448,742,710,420,true]
[38,"ГБУЗ \"Новониколаевская ЦРБ\"",5531,3305,166,2104,2009,null,null,"ГБУЗ \"Новоаннинская ЦРБ\"",2869,1019,2603,1056,1000,1589,878,927,703,790,404,872,472,448,2691,1184,3380,1268,1447,1799,1495,1058,814,1457,937,1020,997,507,true]
[39,"ГБУЗ \"Октябрьская ЦРБ\"",5423,3199,165,2048,1898,null,null,"ГБУЗ \"Новониколаевская ЦРБ\"",2222,725,2375,882,674,654,265,532,217,1489,432,294,497,215,2198,653,2203,811,762,1310,512,512,208,1334,388,313,736,373,true]
[40,"ГБУЗ \"ЦРБ Ольховского муниципального района\"",3709,2170,116,1347,1383,null,null,"ГБУЗ \"Октябрьская ЦРБ\"",1881,498,1540,567,590,1186,623,956,234,850,259,261,571,318,2197,604,1763,713,732,1397,884,1057,278,912,322,307,614,382,true]
[41,"ГБУЗ \"Палласовская ЦРБ\"  ",9465,4904,264,2961,3787,null,null,"ГБУЗ \"ЦРБ Ольховского муниципального района\"",1483,564,1152,564,449,810,658,480,201,355,177,135,655,256,1567,728,1306,688,599,1020,702,565,245,422,219,180,812,390,true]
[42,"ГБУЗ \"Кумылженская ЦРБ\"",4294,2736,146,1680,1564,null,null,"ГБУЗ \"Палласовская ЦРБ\"  ",3756,1378,3376,1195,1190,1312,396,1050,822,1846,565,676,970,310,3655,1359,3887,1481,1504,2129,1161,1053,862,1758,558,878,1320,584,true]
[43,"ГБУ \"ЦРБ Руднянского муниципального района\"",4167,2764,149,1814,1287,null,null,"ГБУЗ \"Кумылженская ЦРБ\"",2067,1293,1117,669,439,434,489,479,549,417,294,273,237,445,2300,1630,2037,849,457,456,648,517,669,518,357,317,256,530,true]
[44,"ГБУЗ \"Светлоярская ЦРБ\"",7907,4655,243,2988,3518,null,null,"ГБУ \"ЦРБ Руднянского муниципального района\"",1102,416,1395,550,505,475,562,650,200,700,200,180,225,170,1392,436,1596,603,705,675,1337,850,200,800,250,270,425,334,true]
[45,"ГБУЗ \"Серафимовичская ЦРБ\"",5323,3257,164,2057,1633,null,null,"ГБУЗ \"Светлоярская ЦРБ\"",2602,2058,1844,1803,1731,1147,441,970,937,667,645,703,631,330,3037,3046,2997,2956,2345,1957,811,1023,1077,987,905,1021,976,553,true]
[46,"ГБУЗ \"Среднеахтубинская ЦРБ\"",11536,7010,361,4449,4818,null,null,"ГБУЗ \"Серафимовичская ЦРБ\"",1735,1740,1759,1369,669,673,671,865,600,598,314,320,368,418,1769,1726,1759,1049,1044,1045,1061,857,598,589,314,371,378,366,true]
[47,"ГБУЗ \"Старополтавская ЦРБ\"",4640,2680,140,1684,1667,null,null,"ГБУЗ \"Среднеахтубинская ЦРБ\"",6451,2808,2664,2507,1407,1599,1951,2527,1095,1043,987,565,623,765,6135,2969,2866,2469,1511,1696,4714,2392,1162,1118,976,599,664,1838,true]
[48,"ГБУЗ \"ЦРБ Суровикинского муниципального района\"",7516,4548,235,2893,2827,null,null,"ГБУЗ \"Старополтавская ЦРБ\"",1221,1361,1189,400,1048,672,519,446,500,500,260,400,300,300,1419,1367,1354,600,1196,635,800,623,517,518,480,759,366,338,true]
[49,"ГБУЗ Урюпинская ЦРБ",16000,9811,520,6277,4974,null,null,"ГБУЗ \"ЦРБ Суровикинского муниципального района\"",3565,1216,3343,1298,1092,1001,1011,1312,953,514,620,482,447,385,3003,1272,3095,1342,1223,1803,1304,1521,1048,781,755,616,338,571,true]
[50,"ГБУЗ \"Фроловская ЦРБ\"",10779,6130,338,3950,4027,null,null,"ГБУЗ Урюпинская ЦРБ",5570,2355,5671,2304,1985,1578,2961,1944,1092,1418,476,788,1157,434,5765,3367,6783,2905,2484,2000,3518,1746,1533,5967,630,879,1722,1188,true]
[51,"ГБУЗ \"Чернышковская ЦРБ\"",3160,1971,121,1244,1348,null,null,"ГБУЗ \"Фроловская ЦРБ\"",4612,1783,4312,1312,964,2018,728,2274,812,1692,592,422,922,341,4263,1356,4775,1128,1232,3428,1168,2178,804,2048,582,512,1104,523,true]
[52,"ЧУЗ КБ РЖД-Медицина",8334,4579,261,2728,3230,null,null,"ГБУЗ \"Чернышковская ЦРБ\"",1708,517,1713,553,447,475,294,404,211,299,292,305,392,64,1506,444,1378,461,1647,804,197,417,293,322,329,392,691,97,true]
[null,"ИТОГО",{"$f":"SUM(C2:C53)","v":549841},{"$f":"SUM(D2:D53)","v":338452},{"$f":"SUM(E2:E53)","v":16746},{"$f":"SUM(F2:F53)","v":222687},{"$f":"SUM(G2:G53)","v":215682},null,null,"ЧУЗ КБ РЖД-Медицина",4092,2100,4450,1395,1235,1490,370,950,880,1250,720,700,1030,312,3055,1427,3290,1830,2010,1330,865,870,750,1145,650,660,1005,642,true]
[null,null,620247,301515,13957,181048,241047,null,null,"ИТОГО",{"$f":"SUM(K3:K54)","v":229440},{"$f":"SUM(L3:L54)","v":108898},204687,89532,83364,96304,68965,77366,46792,65188,32221,33939,47333,25609,241882,122639,244378,106335,110927,147605,108986,85184,56852,98858,41060,43434,68737,42950,true]
[]
[]
[]
[null,null,null,null,null,null,{"$f":"C54+G54","v":765523}]
[null,null,null,null,null,null,{"$f":"C55+G55","v":861294}]

{"sheet":"ДВН и профосмотр_общая ","index":13,"n_rows":24,"n_cols":59,"rows_kept":24,"cut":false,"hidden":true,"merged":[[14,0,14,2],[14,3,14,5],[7,33,8,33],[7,34,7,38],[11,0,11,6],[12,0,12,2],[12,3,12,5],[13,0,13,2],[13,3,13,5],[7,23,8,23],[7,24,8,24],[7,25,7,26],[7,29,8,29],[7,30,8,30],[7,31,8,31],[7,9,8,9],[6,39,9,39],[7,0,8,0],[7,1,8,1],[7,2,8,2],[7,3,8,3],[7,4,8,4],[7,5,8,5],[7,6,8,6],[7,7,8,7],[7,8,8,8],[6,17,6,21],[6,22,6,26],[6,27,8,27],[6,28,8,28],[6,29,6,30],[6,31,6,38],[7,18,8,18],[7,19,8,19],[7,20,7,21],[7,22,8,22],[7,32,8,32],[0,0,0,13],[1,5,1,6],[3,5,3,13],[4,5,4,13],[6,0,6,5],[6,6,6,16],[7,10,8,10],[7,12,8,12],[7,13,8,13],[7,14,7,16],[7,17,8,17],[7,11,8,11]]}
["Сведения о диспансеризации и профосмотрах  взрослого населения "]
[null,null,null,"по состоянию на",null,{"$f":"IF('Титульный лист'!H11<>\"\",'Титульный лист'!H11,\"\")","v":"2023-03-30"}]
[]
[null,null,null,null,null,{"$f":"IF('Титульный лист'!C22<>\"\",'Титульный лист'!C22,\"\")","v":"ГБУЗ \"Кумылженская ЦРБ\""}]
[null,null,null,null,null,"Название учреждения"]
[]
["Число граждан, подлежащих  диспансеризации  (ПЛАН)",null,null,null,null,null,"Число граждан, прошедших 1 этап диспансеризации  (ФАКТ)",null,null,null,null,null,null,null,null,null,null,"Распределение граждан, прошедших 1 этап диспансеризации, по группам состояния здоровья             ВСЕГО",null,null,null,null,"Распределение граждан, прошедших 1 этап диспансеризации, по группам состояния здоровья лиц старше трудоспособного возраста",null,null,null,null,"Число граждан, направлен. на 2 этап ","из них завершили 2 этап","Чилсо граждан подлежащих профосмотрам (ПЛАН)",null,"Число граждан, осмотренных на профилактическом медицинском осмотре                                                                              (ФАКТ)",null,null,null,null,null,null,null,"Проверка"]
["ВСЕГО                                          (план) ","из них  сельские жители          (из гр.1)","в т.ч. лица старше трудоспособ. возраста              (56 лет и старше у  женщин и старше 61 года у мужчин)    (из гр.1)","из них  сельские жители          (из гр.2)","Граждане 65 лет  ","Граждане 66 лет  и старше ","ВСЕГО","из них сельские жители                (из гр.5)","в т.ч. лица старше трудоспособ. возраста              (56 лет и старше у  женщин и старше 61 года у мужчин)         (из гр.5)","из них сельские жители     (из гр.6)"," лица старше 65 лет, доставл. транспортом учреждения соцзащиты (из гр.6) ","доставлено маломобильных граждан старше 60 лет из удаленных пунктов, перенесших тяжелое и ср.тяжелое течение Covid, для проведения диспансеризации","Граждане 65 лет  ","Граждане 66 лет  и старше ","из графы 5",null,null,"I группа","II группа ","III группа ","из графы 14:",null,"I группа","II группа ","III группа ","из графы 17:",null,null,null,"ВСЕГО","из них сельские жители               (из гр.19)","ВСЕГО","с применением мобильных бригад","из них сельские жители               (из гр.20)","распределение по группам здоровья   (из гр.20)        "]
[null,null,null,null,null,null,null,null,null,null,null,null,null,null,"инвалиды, участники ВОВ и лица приравн. к ним*               ","  инвалиды по общему заболеванию*          ","с применением мобильных медиц. комплексов и мобильных бригад для диспансер.           ",null,null,null,"III a группа ","III б группа",null,null,null,"III a группа ","III б группа",null,null,null,null,null,null,null,"I группа","II группа ","III группа ","III а группа ","III б группа ",null,null,null,"I группа","II группа ","III группа ","III а группа ","III б группа ",null,"I группа","II группа ","III группа ","III а группа ","III б группа ",null,"I группа","II группа ","III группа ","III а группа ","III б группа "]
[1,"1.1",2,"2.1",3,4,5,"5.1",6,"6.1","6.2","6.2.1","7","8",9,"10","11",12,"13","14","14.1","14.2","15",16,17,"17.1","17.2","18","18.1","19","19.1",20,"20.0","20.1",21,22,"23","23.1","23.2",null,null,null,"по группам здоровья всего",null,null,null,null,null,"по группам здоровья трудоспособного возраста",null,null,null,null,null,"старше трудоспособного"]
[{"$f":"IF($F$4<>\"\",VLOOKUP($F$4,'Проверочный лист'!$B$2:$G$53,2,FALSE),\"\")","v":4294},4294,{"$f":"IF($F$4<>\"\",VLOOKUP($F$4,'Проверочный лист'!$B$2:$G$53,3,FALSE),\"\")","v":2736},2736,{"$f":"IF($F$4<>\"\",VLOOKUP($F$4,'Проверочный лист'!$B$2:$G$53,4,FALSE),\"\")","v":146},{"$f":"IF($F$4<>\"\",VLOOKUP($F$4,'Проверочный лист'!$B$2:$G$53,5,FALSE),\"\")","v":1680},{"$f":"R11+S11+T11","v":1075},1075,{"$f":"W11+X11+Y11","v":733},733,null,null,44,534,8,23,null,35,195,{"$f":"U11+V11","v":845},814,31,5,29,{"$f":"Z11+AA11","v":699},684,15,452,322,{"$f":"IF($F$4<>\"\",VLOOKUP($F$4,'Проверочный лист'!$B$2:$G$53,6,FALSE),\"\")","v":1564},1564,{"$f":"AI11+AJ11+AK11","v":391},null,391,144,187,{"$f":"AL11+AM11","v":60},58,2,{"$f":"IF(OR(B11<>0,A11<>0),IF(B11<=A11,\"ОК\",\"гр.1.1 > гр.1\"),\"ОК\")","v":"ОК"},"гр. 1.1. меньше либо равна гр.1",null,{"$f":"R11+AI11","v":179},{"$f":"S11+AJ11","v":382},{"$f":"T11+AK11","v":905},{"$f":"U11+AL11","v":872},{"$f":"V11+AM11","v":33},null,{"$f":"AQ11-BC11","v":174},353,206,188,18,null,{"$f":"W11","v":5},{"$f":"X11","v":29},{"$f":"Y11","v":699},{"$f":"Z11","v":684},{"$f":"AA11","v":15}]
[null,null,null,null,null,null,null,null,null,null,null,null,null,null,null,null,null,null,null,null,null,null,null,null,null,null,null,null,null,null,null,null,null,null,null,null,null,null,null,{"$f":"IF(OR(D11<>0,C11<>0),IF(D11<=C11,\"ОК\",\"гр.2.1 > гр.2\"),\"ОК\")","v":"ОК"},"гр. 2.1. меньше либо равна гр.2",null,{"$f":"R11","v":35},{"$f":"S11","v":195},{"$f":"T11","v":845},{"$f":"U11","v":814},{"$f":"V11","v":31},null,30,166,146,130,16,null,{"$f":"W11","v":5},{"$f":"X11","v":29},{"$f":"Y11","v":699},{"$f":"Z11","v":684},{"$f":"AA11","v":15}]
["Ф.И.О. главного врача",null,null,{"$f":"IF('Титульный лист'!B30<>\"\",'Титульный лист'!B30,\"\")","v":"Шиповская Юлия Дмитриевна"},null,null,null,null,null,null,null,null,null,null,null,null,null,null,null,null,null,null,null,null,null,null,null,null,null,null,null,null,null,null,null,null,null,null,null,{"$f":"IF(OR(J11<>0,I11<>0),IF(J11<=I11,\"ОК\",\"гр.6.1 > гр.6\"),\"ОК\")","v":"ОК"},"гр. 6.1. меньше либо равна гр.6",null,{"$f":"AI11","v":144},{"$f":"AJ11","v":187},{"$f":"AK11","v":60},{"$f":"AL11","v":58},{"$f":"AM11","v":2},null,{"$f":"AI11","v":144},187,60,58,2]
["Ф.И.О. исполнителя",null,null,{"$f":"IF('Титульный лист'!B31<>\"\",'Титульный лист'!B31,\"\")","v":"Ростовцева Ирина Федоровна"},null,null,null,null,null,null,null,null,null,null,null,null,null,null,null,null,null,null,null,null,null,null,null,null,null,null,null,null,null,null,null,null,null,null,null,{"$f":"IF(OR(K11<>0,I11<>0),IF(K11<=I11,\"ОК\",\"гр.6.2 > гр.6\"),\"ОК\")","v":"ОК"},"гр. 6.2. меньше либо равна гр.6"]
["телефон исполнителя",null,null,{"$f":"IF('Титульный лист'!B32<>\"\",'Титульный лист'!B32,\"\")","v":"89044132260"},null,null,null,null,null,null,null,null,null,null,null,null,null,null,null,null,null,null,null,null,null,null,null,null,null,null,null,null,null,null,null,null,null,null,null,{"$f":"IF(OR(U11<>0,T11<>0),IF(U11<=T11,\"ОК\",\"гр.14.1 > гр.14\"),\"ОК\")","v":"ОК"},"гр. 14.1. меньше либо равна гр.14"]
[null,null,null,null,null,null,null,null,null,null,null,null,null,null,null,null,null,null,null,null,null,null,null,null,null,null,null,null,null,null,null,null,null,null,null,null,null,null,null,{"$f":"IF(OR(V11<>0,T11<>0),IF(V11<=T11,\"ОК\",\"гр.14.2 > гр.14\"),\"ОК\")","v":"ОК"},"гр. 14.2. меньше либо равна гр.14"]
[null,null,null,null,null,null,null,null,null,null,null,null,null,null,null,null,null,null,null,null,null,null,null,null,null,null,null,null,null,null,null,null,null,null,null,null,null,null,null,{"$f":"IF(OR(Z11<>0,Y11<>0),IF(Z11<=Y11,\"ОК\",\"гр.17.1 > гр.17\"),\"ОК\")","v":"ОК"},"гр. 17.1. меньше либо равна гр.17"]
[null,null,null,null,null,null,null,null,null,null,null,null,null,null,null,null,null,null,null,null,null,null,null,null,null,null,null,null,null,null,null,null,null,null,null,null,null,null,null,{"$f":"IF(OR(AA11<>0,Y11<>0),IF(AA11<=Y11,\"ОК\",\"гр.17.2 > гр.17\"),\"ОК\")","v":"ОК"},"гр. 17.2. меньше либо равна гр.17"]
[null,null,null,null,null,null,null,null,null,null,null,null,null,null,null,null,null,null,null,null,null,null,null,null,null,null,null,null,null,null,null,null,null,null,null,null,null,null,null,{"$f":"IF(OR(AC11<>0,AB11<>0),IF(AC11<=AB11,\"ОК\",\"гр.18.1 > гр.18\"),\"ОК\")","v":"ОК"},"гр. 18.1. меньше либо равна гр.18"]
[null,null,null,null,null,null,null,null,null,null,null,null,null,null,null,null,null,null,null,null,null,null,null,null,null,null,null,null,null,null,null,null,null,null,null,null,null,null,null,{"$f":"IF(OR(AE11<>0,AD11<>0),IF(AE11<=AD11,\"ОК\",\"гр.19.1 > гр.19\"),\"ОК\")","v":"ОК"},"гр. 19.1. меньше либо равна гр.19"]
[null,null,null,null,null,null,null,null,null,null,null,null,null,null,null,null,null,null,null,null,null,null,null,null,null,null,null,null,null,null,null,null,null,null,null,null,null,null,null,{"$f":"IF(OR(AH11<>0,AF11<>0),IF(AH11<=AF11,\"ОК\",\"гр.20.1 > гр.20\"),\"ОК\")","v":"ОК"},"гр. 20.1. меньше либо равна гр.20"]
[null,null,null,null,null,null,null,null,null,null,null,null,null,null,null,null,null,null,null,null,null,null,null,null,null,null,null,null,null,null,null,null,null,null,null,null,null,null,null,{"$f":"IF(OR(I11<>0,G11<>0),IF(I11<=G11,\"ОК\",\"гр.6 > гр.5\"),\"ОК\")","v":"ОК"},"гр. 6. меньше либо равна гр.5"]
[null,null,null,null,null,null,null,null,null,null,null,null,null,null,null,null,null,null,null,null,null,null,null,null,null,null,null,null,null,null,null,null,null,null,null,null,null,null,null,{"$f":"IF(OR(M11<>0,I11<>0),IF(M11<=I11,\"ОК\",\"гр.7 > гр.6\"),\"ОК\")","v":"ОК"},"гр. 7. меньше либо равна гр.6"]
[null,null,null,null,null,null,null,null,null,null,null,null,null,null,null,null,null,null,null,null,null,null,null,null,null,null,null,null,null,null,null,null,null,null,null,null,null,null,null,{"$f":"IF(OR(N11<>0,I11<>0),IF(N11<=I11,\"ОК\",\"гр.8 > гр.6\"),\"ОК\")","v":"ОК"},"гр. 8. меньше либо равна гр.6"]

{"sheet":"ДВН-124н","index":14,"n_rows":29,"n_cols":48,"rows_kept":29,"cut":false,"hidden":true,"merged":[[0,3,0,11],[2,0,2,10],[3,0,3,22],[23,0,23,2],[23,4,23,10],[22,0,22,4],[3,23,6,23],[4,0,5,0],[4,1,5,1],[4,3,4,6],[4,7,4,9],[4,10,5,10],[4,11,5,11],[4,12,4,19],[4,21,5,21],[4,22,5,22],[4,2,5,2],[4,20,5,20]]}
[{"$f":"AND('ДВН и профосмотр_общая '!F2<>0,'ДВН и профосмотр_общая '!F4<>0,'ДВН и профосмотр_общая '!D13<>0,'ДВН и профосмотр_общая '!D14<>0,'ДВН и профосмотр_общая '!D15<>0)","v":true},null,null,"Сведения о диспансеризации  взрослого населения "]
[]
["Национальный проект \"Здравоохранение\"      Развитие системы первичной медико -санитарной помощи"]
["заполняется  ЕЖЕНЕДЕЛЬНО ",null,null,null,null,null,null,null,null,null,null,null,null,null,null,null,null,null,null,null,null,null,null,"Проверка"]
["Контингенты","№","ВСЕГО                                          (план) ","Осмотрено (завершили 1 этап)",null,null,null,"из них сельских жителей",null,null,"Число ГРАЖДАН,      у которых в ходе  диспансериз. ВПЕРВЫЕ выявлены неинфекцион. заболевания ВСЕГО","Число впервые выявлен. заболеваний в ходе диспансериз. ВСЕГО","число ГРАЖДАН, у которых ВПЕРВЫЕ выявлены (из гр. 9):*",null,null,null,null,null,null,null,"Из числа ГРАЖДАН, у которых выявлены неинфекц. заболевания           (из гр. 9), взяты на диспансерное наблюдение","Из числа ГРАЖДАН, у которых впервые выявлены неинфекц. заболевания \n(из гр.9), было начато лечение","из них сельских жителей \n(из гр. 19)"]
[null,null,null,"ВСЕГО","в вечернее время           (после 18:00) (из гр.2)"," в субботу (из гр.2)","Количество граждан, прошедших 1 этап диспансеризации в день обращения (прошедших ВСЕ ИССЛЕДОВАНИЯ за  один день) (из гр.2)","всего             (из гр.2)","в вечернее время           (после 18:00) (из гр. 6)"," в субботу (из гр. 6)",null,null,"БОЛЕЗНИ СИСТЕМЫ КРОВОБРАЩЕНИЯ","ЗЛОКАЧЕСТВЕН. НОВООБРАЗОВАНИЯ","в том числе в I и П стадиях               (из гр. 11)","САХАРНЫЙ ДИАБЕТ","в т.ч. сахарный диабет 1 типа","ГЛАУКОМА","ХРОНИЧЕСКИЕ БОЛЕЗНИ ОРГАНОВ ДЫХАНИЯ","БОЛЕЗНИ ОРГАНОВ ПИЩЕВАРЕНИЯ"]
[null,null,1,2,3,4,5,6,7,8,9,10,11,12,13,14,15,16,17,18,19,20,21]
["Число лиц, прошедших диспансеризацию в т.ч.:","1.",{"$f":"'ДВН и профосмотр_общая '!$A$11","v":4294},{"$f":"'ДВН и профосмотр_общая '!$G$11","v":1075},{"$f":"SUM(E9:E15)","v":41},{"$f":"SUM(F9:F15)","v":51},{"$f":"SUM(G9:G15)","v":311},{"$f":"'ДВН и профосмотр_общая '!$H$11","v":1075},{"$f":"SUM(I9:I15)","v":41},51,332,332,56,0,0,11,0,0,13,13,69,{"$f":"SUM(V9:V15)","v":69},{"$f":"SUM(W9:W15)","v":69},{"$f":"IF(Z8>0,\"гр.2 < гр.3+гр.4 по строке «\"&Y8&\"»\",\"ОК\")","v":"ОК"},{"$f":"IF(Z8>0,INDEX($B$9:$B$20,Z8,1),CHAR(151))","v":"—"},{"$f":"IF(ISERROR(MATCH(FALSE,AB8:AM8,0)),0,MATCH(FALSE,AB8:AM8,0))","v":0},"гр.2  больше либо равна гр 3+ гр.4",{"$f":"IF(OR($D9<>0,SUM($E9:$F9)<>0),IF($D9>=SUM($E9:$F9),TRUE,FALSE),TRUE)","v":true},{"$f":"IF(OR($D10<>0,SUM($E10:$F10)<>0),IF($D10>=SUM($E10:$F10),TRUE,FALSE),TRUE)","v":true},{"$f":"IF(OR($D11<>0,SUM($E11:$F11)<>0),IF($D11>=SUM($E11:$F11),TRUE,FALSE),TRUE)","v":true},{"$f":"IF(OR($D12<>0,SUM($E12:$F12)<>0),IF($D12>=SUM($E12:$F12),TRUE,FALSE),TRUE)","v":true},{"$f":"IF(OR($D13<>0,SUM($E13:$F13)<>0),IF($D13>=SUM($E13:$F13),TRUE,FALSE),TRUE)","v":true},{"$f":"IF(OR($D14<>0,SUM($E14:$F14)<>0),IF($D14>=SUM($E14:$F14),TRUE,FALSE),TRUE)","v":true},{"$f":"IF(OR($D15<>0,SUM($E15:$F15)<>0),IF($D15>=SUM($E15:$F15),TRUE,FALSE),TRUE)","v":true},{"$f":"IF(OR($D16<>0,SUM($E16:$F16)<>0),IF($D16>=SUM($E16:$F16),TRUE,FALSE),TRUE)","v":true},{"$f":"IF(OR($D17<>0,SUM($E17:$F17)<>0),IF($D17>=SUM($E17:$F17),TRUE,FALSE),TRUE)","v":true},{"$f":"IF(OR($D18<>0,SUM($E18:$F18)<>0),IF($D18>=SUM($E18:$F18),TRUE,FALSE),TRUE)","v":true},{"$f":"IF(OR($D19<>0,SUM($E19:$F19)<>0),IF($D19>=SUM($E19:$F19),TRUE,FALSE),TRUE)","v":true},{"$f":"IF(OR($D20<>0,SUM($E20:$F20)<>0),IF($D20>=SUM($E20:$F20),TRUE,FALSE),TRUE)","v":true}]
[" в возрасте 18-34"," 1.1",996,78,6,4,7,78,6,4,3,3,null,null,null,null,null,null,null,null,null,null,null,{"$f":"IF(Z9>0,\"гр.21 > гр.19 по строке «\"&Y9&\"»\",\"ОК\")","v":"ОК"},{"$f":"IF(Z9>0,INDEX($B$9:$B$20,Z9,1),CHAR(151))","v":"—"},0,"гр.21 меньше либо равна гр.19 по всем строкам",{"$f":"IF(OR($W9<>0,$U9<>0),IF($W9<=$U9,TRUE,FALSE),TRUE)","v":true},{"$f":"IF(OR($W10<>0,$U10<>0),IF($W10<=$U10,TRUE,FALSE),TRUE)","v":true},{"$f":"IF(OR($W11<>0,$U11<>0),IF($W11<=$U11,TRUE,FALSE),TRUE)","v":true},{"$f":"IF(OR($W12<>0,$U12<>0),IF($W12<=$U12,TRUE,FALSE),TRUE)","v":true},{"$f":"IF(OR($W13<>0,$U13<>0),IF($W13<=$U13,TRUE,FALSE),TRUE)","v":true},{"$f":"IF(OR($W14<>0,$U14<>0),IF($W14<=$U14,TRUE,FALSE),TRUE)","v":true},{"$f":"IF(OR($W15<>0,$U15<>0),IF($W15<=$U15,TRUE,FALSE),TRUE)","v":true},{"$f":"IF(OR($W16<>0,$U16<>0),IF($W16<=$U16,TRUE,FALSE),TRUE)","v":true},{"$f":"IF(OR($W17<>0,$U17<>0),IF($W17<=$U17,TRUE,FALSE),TRUE)","v":true},true,true,true]
["в возрасте 35-39"," 1.2",1218,87,5,6,8,87,5,6,13,13,3,null,null,null,null,null,1,1,4,4,4,{"$f":"IF(Z10>0,\"гр.2 > гр.6 по строке «\"&Y10&\"»\",\"ОК\")","v":"ОК"},"—",0,"гр.2  больше либо равна гр.6",{"$f":"IF(OR($D9<>0,$H9<>0),IF($D9>=$H9,TRUE,FALSE),TRUE)","v":true},{"$f":"IF(OR($D10<>0,$H10<>0),IF($D10>=$H10,TRUE,FALSE),TRUE)","v":true},{"$f":"IF(OR($D11<>0,$H11<>0),IF($D11>=$H11,TRUE,FALSE),TRUE)","v":true},{"$f":"IF(OR($D12<>0,$H12<>0),IF($D12>=$H12,TRUE,FALSE),TRUE)","v":true},{"$f":"IF(OR($D13<>0,$H13<>0),IF($D13>=$H13,TRUE,FALSE),TRUE)","v":true},{"$f":"IF(OR($D14<>0,$H14<>0),IF($D14>=$H14,TRUE,FALSE),TRUE)","v":true},{"$f":"IF(OR($D15<>0,$H15<>0),IF($D15>=$H15,TRUE,FALSE),TRUE)","v":true},{"$f":"IF(OR($D16<>0,$H16<>0),IF($D16>=$H16,TRUE,FALSE),TRUE)","v":true},{"$f":"IF(OR($D17<>0,$H17<>0),IF($D17>=$H17,TRUE,FALSE),TRUE)","v":true},{"$f":"IF(OR($D18<>0,$H18<>0),IF($D18>=$H18,TRUE,FALSE),TRUE)","v":true},{"$f":"IF(OR($D19<>0,$H19<>0),IF($D19>=$H19,TRUE,FALSE),TRUE)","v":true},{"$f":"IF(OR($D20<>0,$H20<>0),IF($D20>=$H20,TRUE,FALSE),TRUE)","v":true}]
["в возрасте 40-54"," 1.3",935,96,7,11,52,96,7,11,71,71,9,null,null,null,null,null,3,3,11,11,11,{"$f":"IF(Z11>0,\"гр.6 < гр.7+гр.8 по строке «\"&Y11&\"»\",\"ОК\")","v":"ОК"},"—",0,"гр.6  больше либо равна гр. 7+ гр.8\n",{"$f":"IF(OR($H9<>0,SUM($I9:$J9)<>0),IF($H9>=SUM($I9:$J9),TRUE,FALSE),TRUE)","v":true},{"$f":"IF(OR($H10<>0,SUM($I10:$J10)<>0),IF($H10>=SUM($I10:$J10),TRUE,FALSE),TRUE)","v":true},{"$f":"IF(OR($H11<>0,SUM($I11:$J11)<>0),IF($H11>=SUM($I11:$J11),TRUE,FALSE),TRUE)","v":true},{"$f":"IF(OR($H12<>0,SUM($I12:$J12)<>0),IF($H12>=SUM($I12:$J12),TRUE,FALSE),TRUE)","v":true},{"$f":"IF(OR($H13<>0,SUM($I13:$J13)<>0),IF($H13>=SUM($I13:$J13),TRUE,FALSE),TRUE)","v":true},{"$f":"IF(OR($H14<>0,SUM($I14:$J14)<>0),IF($H14>=SUM($I14:$J14),TRUE,FALSE),TRUE)","v":true},{"$f":"IF(OR($H15<>0,SUM($I15:$J15)<>0),IF($H15>=SUM($I15:$J15),TRUE,FALSE),TRUE)","v":true},{"$f":"IF(OR($H16<>0,SUM($I16:$J16)<>0),IF($H16>=SUM($I16:$J16),TRUE,FALSE),TRUE)","v":true},{"$f":"IF(OR($H17<>0,SUM($I17:$J17)<>0),IF($H17>=SUM($I17:$J17),TRUE,FALSE),TRUE)","v":true},{"$f":"IF(OR($H18<>0,SUM($I18:$J18)<>0),IF($H18>=SUM($I18:$J18),TRUE,FALSE),TRUE)","v":true},{"$f":"IF(OR($H19<>0,SUM($I19:$J19)<>0),IF($H19>=SUM($I19:$J19),TRUE,FALSE),TRUE)","v":true},{"$f":"IF(OR($H20<>0,SUM($I20:$J20)<>0),IF($H20>=SUM($I20:$J20),TRUE,FALSE),TRUE)","v":true}]
["в возрасте 55-59"," 1.4",651,81,5,4,20,81,5,4,36,36,6,null,null,null,null,null,2,1,7,7,7,{"$f":"IF(Z12>0,\"гр.10 < гр.11+12+14+16+17+18 по строке «\"&Y12&\"»\",\"ОК\")","v":"ОК"},"—",0,"\nгр. 10 больше либо равна сумме граф 11+12+14+16+17+18 по всем строкам",{"$f":"IF(OR($L9<>0,SUM($M9:$N9,$P9,$R9:$T9)<>0),IF($L9>=SUM($M9:$N9,$P9,$R9:$T9),TRUE,FALSE),TRUE)","v":true},{"$f":"IF(OR($L10<>0,SUM($M10:$N10,$P10,$R10:$T10)<>0),IF($L10>=SUM($M10:$N10,$P10,$R10:$T10),TRUE,FALSE),TRUE)","v":true},{"$f":"IF(OR($L11<>0,SUM($M11:$N11,$P11,$R11:$T11)<>0),IF($L11>=SUM($M11:$N11,$P11,$R11:$T11),TRUE,FALSE),TRUE)","v":true},{"$f":"IF(OR($L12<>0,SUM($M12:$N12,$P12,$R12:$T12)<>0),IF($L12>=SUM($M12:$N12,$P12,$R12:$T12),TRUE,FALSE),TRUE)","v":true},{"$f":"IF(OR($L13<>0,SUM($M13:$N13,$P13,$R13:$T13)<>0),IF($L13>=SUM($M13:$N13,$P13,$R13:$T13),TRUE,FALSE),TRUE)","v":true},{"$f":"IF(OR($L14<>0,SUM($M14:$N14,$P14,$R14:$T14)<>0),IF($L14>=SUM($M14:$N14,$P14,$R14:$T14),TRUE,FALSE),TRUE)","v":true},{"$f":"IF(OR($L15<>0,SUM($M15:$N15,$P15,$R15:$T15)<>0),IF($L15>=SUM($M15:$N15,$P15,$R15:$T15),TRUE,FALSE),TRUE)","v":true},{"$f":"IF(OR($L16<>0,SUM($M16:$N16,$P16,$R16:$T16)<>0),IF($L16>=SUM($M16:$N16,$P16,$R16:$T16),TRUE,FALSE),TRUE)","v":true},{"$f":"IF(OR($L17<>0,SUM($M17:$N17,$P17,$R17:$T17)<>0),IF($L17>=SUM($M17:$N17,$P17,$R17:$T17),TRUE,FALSE),TRUE)","v":true},{"$f":"IF(OR($L18<>0,SUM($M18:$N18,$P18,$R18:$T18)<>0),IF($L18>=SUM($M18:$N18,$P18,$R18:$T18),TRUE,FALSE),TRUE)","v":true},{"$f":"IF(OR($L19<>0,SUM($M19:$N19,$P19,$R19:$T19)<>0),IF($L19>=SUM($M19:$N19,$P19,$R19:$T19),TRUE,FALSE),TRUE)","v":true},{"$f":"IF(OR($L20<>0,SUM($M20:$N20,$P20,$R20:$T20)<>0),IF($L20>=SUM($M20:$N20,$P20,$R20:$T20),TRUE,FALSE),TRUE)","v":true}]
["в возрасте 60-64"," 1.5",590,199,9,9,35,199,9,9,52,52,6,null,null,4,null,null,3,3,8,8,8,{"$f":"IF(Z13>0,\"гр.19 > гр.9 по строке «\"&Y13&\"»\",\"ОК\")","v":"ОК"},"—",0,"гр.19 меньше либо равна гр.9 по всем строкам\n",{"$f":"IF(OR($U9<>0,$K9<>0),IF($U9<=$K9,TRUE,FALSE),TRUE)","v":true},{"$f":"IF(OR($U10<>0,$K10<>0),IF($U10<=$K10,TRUE,FALSE),TRUE)","v":true},{"$f":"IF(OR($U11<>0,$K11<>0),IF($U11<=$K11,TRUE,FALSE),TRUE)","v":true},{"$f":"IF(OR($U12<>0,$K12<>0),IF($U12<=$K12,TRUE,FALSE),TRUE)","v":true},{"$f":"IF(OR($U13<>0,$K13<>0),IF($U13<=$K13,TRUE,FALSE),TRUE)","v":true},{"$f":"IF(OR($U14<>0,$K14<>0),IF($U14<=$K14,TRUE,FALSE),TRUE)","v":true},{"$f":"IF(OR($U15<>0,$K15<>0),IF($U15<=$K15,TRUE,FALSE),TRUE)","v":true},{"$f":"IF(OR($U16<>0,$K16<>0),IF($U16<=$K16,TRUE,FALSE),TRUE)","v":true},{"$f":"IF(OR($U17<>0,$K17<>0),IF($U17<=$K17,TRUE,FALSE),TRUE)","v":true},{"$f":"IF(OR($U18<>0,$K18<>0),IF($U18<=$K18,TRUE,FALSE),TRUE)","v":true},{"$f":"IF(OR($U19<>0,$K19<>0),IF($U19<=$K19,TRUE,FALSE),TRUE)","v":true},{"$f":"IF(OR($U20<>0,$K20<>0),IF($U20<=$K20,TRUE,FALSE),TRUE)","v":true}]
["в возрасте 65-74"," 1.6",493,225,4,10,87,225,4,10,109,109,19,null,null,4,null,null,4,5,24,24,24,{"$f":"IF(Z14>0,\"гр.20 > гр.9 по строке «\"&Y14&\"»\",\"ОК\")","v":"ОК"},"—",0,"гр.20 меньше либо равна гр.9 по всем строкам\n",{"$f":"IF(OR($V9<>0,$K9<>0),IF($V9<=$K9,TRUE,FALSE),TRUE)","v":true},{"$f":"IF(OR($V10<>0,$K10<>0),IF($V10<=$K10,TRUE,FALSE),TRUE)","v":true},{"$f":"IF(OR($V11<>0,$K11<>0),IF($V11<=$K11,TRUE,FALSE),TRUE)","v":true},{"$f":"IF(OR($V12<>0,$K12<>0),IF($V12<=$K12,TRUE,FALSE),TRUE)","v":true},{"$f":"IF(OR($V13<>0,$K13<>0),IF($V13<=$K13,TRUE,FALSE),TRUE)","v":true},{"$f":"IF(OR($V14<>0,$K14<>0),IF($V14<=$K14,TRUE,FALSE),TRUE)","v":true},{"$f":"IF(OR($V15<>0,$K15<>0),IF($V15<=$K15,TRUE,FALSE),TRUE)","v":true},{"$f":"IF(OR($V16<>0,$K16<>0),IF($V16<=$K16,TRUE,FALSE),TRUE)","v":true},{"$f":"IF(OR($V17<>0,$K17<>0),IF($V17<=$K17,TRUE,FALSE),TRUE)","v":true},true,true,true]
["в возрасте 75 и старше"," 1.7",975,309,5,7,102,309,5,7,48,48,13,null,null,3,null,null,null,null,15,15,15,{"$f":"IF(Z15>0,\"гр.9 > гр.10 по строке «\"&Y15&\"»\",\"ОК\")","v":"ОК"},"—",0,"гр.9 меньше либо равна гр.10\n",{"$f":"IF(OR($K9<>0,$L9<>0),IF($K9<=$L9,TRUE,FALSE),TRUE)","v":true},{"$f":"IF(OR($K10<>0,$L10<>0),IF($K10<=$L10,TRUE,FALSE),TRUE)","v":true},{"$f":"IF(OR($K11<>0,$L11<>0),IF($K11<=$L11,TRUE,FALSE),TRUE)","v":true},{"$f":"IF(OR($K12<>0,$L12<>0),IF($K12<=$L12,TRUE,FALSE),TRUE)","v":true},{"$f":"IF(OR($K13<>0,$L13<>0),IF($K13<=$L13,TRUE,FALSE),TRUE)","v":true},{"$f":"IF(OR($K14<>0,$L14<>0),IF($K14<=$L14,TRUE,FALSE),TRUE)","v":true},{"$f":"IF(OR($K15<>0,$L15<>0),IF($K15<=$L15,TRUE,FALSE),TRUE)","v":true},{"$f":"IF(OR($K16<>0,$L16<>0),IF($K16<=$L16,TRUE,FALSE),TRUE)","v":true},{"$f":"IF(OR($K17<>0,$L17<>0),IF($K17<=$L17,TRUE,FALSE),TRUE)","v":true},{"$f":"IF(OR($K18<>0,$L18<>0),IF($K18<=$L18,TRUE,FALSE),TRUE)","v":true},{"$f":"IF(OR($K19<>0,$L19<>0),IF($K19<=$L19,TRUE,FALSE),TRUE)","v":true},{"$f":"IF(OR($K20<>0,$L20<>0),IF($K20<=$L20,TRUE,FALSE),TRUE)","v":true}]
["Граждане 65 лет  и старше "," 1.8",{"$f":"SUM('ДВН и профосмотр_общая '!E11:F11)","v":1826},534,{"$f":"SUM(E14:E15)","v":9},{"$f":"SUM(F14:F15)","v":17},189,534,9,17,145,145,39,{"$f":"SUM(N14:N15)","v":0},0,7,0,0,4,5,44,44,44,{"$f":"IF(Z16>0,\"гр.3 < гр.7 по строке «\"&Y16&\"»\",\"ОК\")","v":"ОК"},"—",0,"гр.3 больше либо равна гр.7\n",{"$f":"IF(OR($E9<>0,$I9<>0),IF($E9>=$I9,TRUE,FALSE),TRUE)","v":true},{"$f":"IF(OR($E10<>0,$I10<>0),IF($E10>=$I10,TRUE,FALSE),TRUE)","v":true},{"$f":"IF(OR($E11<>0,$I11<>0),IF($E11>=$I11,TRUE,FALSE),TRUE)","v":true},{"$f":"IF(OR($E12<>0,$I12<>0),IF($E12>=$I12,TRUE,FALSE),TRUE)","v":true},{"$f":"IF(OR($E13<>0,$I13<>0),IF($E13>=$I13,TRUE,FALSE),TRUE)","v":true},{"$f":"IF(OR($E14<>0,$I14<>0),IF($E14>=$I14,TRUE,FALSE),TRUE)","v":true},{"$f":"IF(OR($E15<>0,$I15<>0),IF($E15>=$I15,TRUE,FALSE),TRUE)","v":true},{"$f":"IF(OR($E16<>0,$I16<>0),IF($E16>=$I16,TRUE,FALSE),TRUE)","v":true},{"$f":"IF(OR($E17<>0,$I17<>0),IF($E17>=$I17,TRUE,FALSE),TRUE)","v":true},{"$f":"IF(OR($E18<>0,$I18<>0),IF($E18>=$I18,TRUE,FALSE),TRUE)","v":true},{"$f":"IF(OR($E19<>0,$I19<>0),IF($E19>=$I19,TRUE,FALSE),TRUE)","v":true},{"$f":"IF(OR($E20<>0,$I20<>0),IF($E20>=$I20,TRUE,FALSE),TRUE)","v":true}]
[" в т.ч. лица старше трудоспособ. возраста              (56 лет и старше у  женщин и старше 61 года у мужчин) (из стр.1 )"," 1.9",{"$f":"'ДВН и профосмотр_общая '!$C$11","v":2736},{"$f":"'ДВН и профосмотр_общая '!$I$11","v":733},{"$f":"SUM(E13:E15)","v":18},{"$f":"SUM(F13:F15)","v":26},224,{"$f":"'ДВН и профосмотр_общая '!$J$11","v":733},{"$f":"SUM(I13:I15)","v":18},{"$f":"SUM(J13:J15)","v":26},209,209,38,{"$f":"SUM(N13:N15)","v":0},0,11,0,0,7,8,50,50,50,{"$f":"IF(Z17>0,\"гр.4 < гр.8 по строке «\"&Y17&\"»\",\"ОК\")","v":"ОК"},"—",0,"гр. 4 больше либо равна гр.8 по всем строкам\n",{"$f":"IF(OR($F9<>0,$J9<>0),IF($F9>=$J9,TRUE,FALSE),TRUE)","v":true},{"$f":"IF(OR($F10<>0,$J10<>0),IF($F10>=$J10,TRUE,FALSE),TRUE)","v":true},{"$f":"IF(OR($F11<>0,$J11<>0),IF($F11>=$J11,TRUE,FALSE),TRUE)","v":true},{"$f":"IF(OR($F12<>0,$J12<>0),IF($F12>=$J12,TRUE,FALSE),TRUE)","v":true},{"$f":"IF(OR($F13<>0,$J13<>0),IF($F13>=$J13,TRUE,FALSE),TRUE)","v":true},{"$f":"IF(OR($F14<>0,$J14<>0),IF($F14>=$J14,TRUE,FALSE),TRUE)","v":true},{"$f":"IF(OR($F15<>0,$J15<>0),IF($F15>=$J15,TRUE,FALSE),TRUE)","v":true},{"$f":"IF(OR($F16<>0,$J16<>0),IF($F16>=$J16,TRUE,FALSE),TRUE)","v":true},{"$f":"IF(OR($F17<>0,$J17<>0),IF($F17>=$J17,TRUE,FALSE),TRUE)","v":true},{"$f":"IF(OR($F18<>0,$J18<>0),IF($F18>=$J18,TRUE,FALSE),TRUE)","v":true},{"$f":"IF(OR($F19<>0,$J19<>0),IF($F19>=$J19,TRUE,FALSE),TRUE)","v":true},{"$f":"IF(OR($F20<>0,$J20<>0),IF($F20>=$J20,TRUE,FALSE),TRUE)","v":true}]
["Из числа  (из гр.19), взятых на диспансерное наблюдение","2.0","х","х","х","х","х","х","х","х","х","х",{"$f":"SUM(M19:M20)","v":56},0,0,11,0,0,2,0,69,"х","х",{"$f":"IF(Z18>0,\"гр.12 < гр.13 по строке «\"&Y18&\"»\",\"ОК\")","v":"ОК"},"—",0,"гр.12 больше либо равна гр.13 по всем строкам\n",{"$f":"IF(OR($N9<>0,$O9<>0),IF($N9>=$O9,TRUE,FALSE),TRUE)","v":true},{"$f":"IF(OR($N10<>0,$O10<>0),IF($N10>=$O10,TRUE,FALSE),TRUE)","v":true},{"$f":"IF(OR($N11<>0,$O11<>0),IF($N11>=$O11,TRUE,FALSE),TRUE)","v":true},{"$f":"IF(OR($N12<>0,$O12<>0),IF($N12>=$O12,TRUE,FALSE),TRUE)","v":true},{"$f":"IF(OR($N13<>0,$O13<>0),IF($N13>=$O13,TRUE,FALSE),TRUE)","v":true},{"$f":"IF(OR($N14<>0,$O14<>0),IF($N14>=$O14,TRUE,FALSE),TRUE)","v":true},{"$f":"IF(OR($N15<>0,$O15<>0),IF($N15>=$O15,TRUE,FALSE),TRUE)","v":true},{"$f":"IF(OR($N16<>0,$O16<>0),IF($N16>=$O16,TRUE,FALSE),TRUE)","v":true},{"$f":"IF(OR($N17<>0,$O17<>0),IF($N17>=$O17,TRUE,FALSE),TRUE)","v":true},{"$f":"IF(OR($N18<>0,$O18<>0),IF($N18>=$O18,TRUE,FALSE),TRUE)","v":true},{"$f":"IF(OR($N19<>0,$O19<>0),IF($N19>=$O19,TRUE,FALSE),TRUE)","v":true},{"$f":"IF(OR($N20<>0,$O20<>0),IF($N20>=$O20,TRUE,FALSE),TRUE)","v":true}]
["в  трудоспособном возрасте","2.1","х","х","х","х","х","х","х","х","х","х",18,{"$f":"SUM(N9:N12)","v":0},{"$f":"SUM(O9:O12)","v":0},0,0,0,1,null,19,"х","х",{"$f":"IF(Z19>0,\"гр.14 < гр.15 по строке «\"&Y19&\"»\",\"ОК\")","v":"ОК"},"—",0,"гр. 14 больше либо равна гр.15 по всем строкам\n",{"$f":"IF(OR($P9<>0,$Q9<>0),IF($P9>=$Q9,TRUE,FALSE),TRUE)","v":true},{"$f":"IF(OR($P10<>0,$Q10<>0),IF($P10>=$Q10,TRUE,FALSE),TRUE)","v":true},{"$f":"IF(OR($P11<>0,$Q11<>0),IF($P11>=$Q11,TRUE,FALSE),TRUE)","v":true},{"$f":"IF(OR($P12<>0,$Q12<>0),IF($P12>=$Q12,TRUE,FALSE),TRUE)","v":true},{"$f":"IF(OR($P13<>0,$Q13<>0),IF($P13>=$Q13,TRUE,FALSE),TRUE)","v":true},{"$f":"IF(OR($P14<>0,$Q14<>0),IF($P14>=$Q14,TRUE,FALSE),TRUE)","v":true},{"$f":"IF(OR($P15<>0,$Q15<>0),IF($P15>=$Q15,TRUE,FALSE),TRUE)","v":true},{"$f":"IF(OR($P16<>0,$Q16<>0),IF($P16>=$Q16,TRUE,FALSE),TRUE)","v":true},{"$f":"IF(OR($P17<>0,$Q17<>0),IF($P17>=$Q17,TRUE,FALSE),TRUE)","v":true},{"$f":"IF(OR($P18<>0,$Q18<>0),IF($P18>=$Q18,TRUE,FALSE),TRUE)","v":true},{"$f":"IF(OR($P19<>0,$Q19<>0),IF($P19>=$Q19,TRUE,FALSE),TRUE)","v":true},{"$f":"IF(OR($P20<>0,$Q20<>0),IF($P20>=$Q20,TRUE,FALSE),TRUE)","v":true}]
["старше трудоспособного возраста (из стр.1.9 )","2.2","х","х","х","х","х","х","х","х","х","х",38,{"$f":"N17","v":0},{"$f":"O17","v":0},11,0,0,1,null,50,"х","х",{"$f":"IF(Z20>0,\"гр.5 > гр.2 по строке «\"&Y20&\"»\",\"ОК\")","v":"ОК"},"—",{"$f":"IF(ISERROR(MATCH(FALSE,AB20:AM20,0)),0,MATCH(FALSE,AB20:AM20,0))","v":0},"гр5 меньше или равнв гр2 по всем строкам",{"$f":"IF(OR($G9<>0,$D9<>0),IF($G9<=$D9,TRUE,FALSE),TRUE)","v":true},{"$f":"IF(OR($G10<>0,$D10<>0),IF($G10<=$D10,TRUE,FALSE),TRUE)","v":true},{"$f":"IF(OR($G11<>0,$D11<>0),IF($G11<=$D11,TRUE,FALSE),TRUE)","v":true},{"$f":"IF(OR($G12<>0,$D12<>0),IF($G12<=$D12,TRUE,FALSE),TRUE)","v":true},{"$f":"IF(OR($G13<>0,$D13<>0),IF($G13<=$D13,TRUE,FALSE),TRUE)","v":true},{"$f":"IF(OR($G14<>0,$D14<>0),IF($G14<=$D14,TRUE,FALSE),TRUE)","v":true},{"$f":"IF(OR($G15<>0,$D15<>0),IF($G15<=$D15,TRUE,FALSE),TRUE)","v":true},{"$f":"IF(OR($G16<>0,$D16<>0),IF($G16<=$D16,TRUE,FALSE),TRUE)","v":true},{"$f":"IF(OR($G17<>0,$D17<>0),IF($G17<=$D17,TRUE,FALSE),TRUE)","v":true},{"$f":"IF(OR($G18<>0,$D18<>0),IF($G18<=$D18,TRUE,FALSE),TRUE)","v":true},{"$f":"IF(OR($G19<>0,$D19<>0),IF($G19<=$D19,TRUE,FALSE),TRUE)","v":true},{"$f":"IF(OR($G20<>0,$D20<>0),IF($G20<=$D20,TRUE,FALSE),TRUE)","v":true}]
[null,null,null,null,null,null,null,null,null,null,null,null,null,null,null,null,null,null,null,null,null,null,null,{"$f":"IF(AB21=FALSE,\"гр.5(со стр.1 по стр.1.8) > гр.2(со стр.1 по стр.1.8)\",\"ОК\")","v":"ОК"},null,null,"гр.5    по строкам 1-1.8  должна быть меньше либо равна гр 2 по строкам 1-1.8",{"$f":"IF(OR(SUM($G8:$G16)<>0,SUM($D8:$D16)<>0),IF(SUM($G8:$G16)<=SUM($D8:$D16),TRUE,FALSE),TRUE)","v":true}]
[null,null,null,null,null,null,null,null,null,null,null,null,null,null,null,null,null,null,null,null,null,null,null,{"$f":"IF(AB22=FALSE,\"гр.6(со стр.1 по стр.1.8) > гр.2(со стр.1 по стр.1.8)\",\"ОК\")","v":"ОК"},null,null,"гр.6 должны быть меньше или равны графам 2 по строкам 1-1.8 ",{"$f":"IF(OR(SUM($H$8:$H$16)<>0,SUM($D$8:$D$16)<>0),IF(SUM($H$8:$H$16)<=SUM($D$8:$D$16),TRUE,FALSE),TRUE)","v":true}]
[" просьба не ставить ноли при отсутствии значения",null,null,null,null,null,null,null,null,null,null,null,null,null,null,null,null,null,null,null,null,null,null,{"$f":"IF(AB23=FALSE,\"гр.7(со стр.1 по стр.1.8) > гр.3(со стр.1 по стр.1.8)\",\"ОК\")","v":"ОК"},null,null,"гр.7 должны быть меньше или равны графам 3 по строкам 1-1.8 ",{"$f":"IF(OR(SUM(I8:I16)<>0,SUM(E8:E16)<>0),IF(SUM(I8:I16)<=SUM(E8:E16),TRUE,FALSE),TRUE)","v":true}]
["Сумма строк с 1.1. по 1.4. по графе 2 ",null,null,{"$f":"SUM(D9:D12)","v":342},"должна быть меньше или равна  гр.1 таблицы (1001)",null,null,null,null,null,null,{"$f":"'1000, 1001'!G21","v":342},null,null,null,null,null,null,null,null,null,null,null,{"$f":"IF(AB24=FALSE,\"гр.8(со стр.1 по стр.1.8) > гр.4(со стр.1 по стр.1.8)\",\"ОК\")","v":"ОК"},null,null,"гр.8 должны быть меньше или равны графам 4 по строкам 1-1.8 ",{"$f":"IF(OR(SUM(J8:J16)<>0,SUM(F8:F16)<>0),IF(SUM(J8:J16)<=SUM(F8:F16),TRUE,FALSE),TRUE)","v":true}]
[null,null,null,null,null,null,null,null,null,null,null,null,null,null,null,null,null,null,null,null,null,null,null,{"$f":"IF(AB25=FALSE,\"гр.1(со стр.1 по стр.1.9) < гр.2(со стр.1 по стр.1.9)\",\"ОК\")","v":"ОК"},null,null,"гр.1  больше либо равна гр.2 по строкам 1-1.9",{"$f":"IF(OR(SUM(C8:C17)<>0,SUM(D8:D17)<>0),IF(SUM(C8:C17)>=SUM(D8:D17),TRUE,FALSE),TRUE)","v":true}]
[null,null,null,null,null,null,null,null,null,null,null,null,null,null,null,null,null,null,null,null,null,null,null,{"$f":"IF(AB26=FALSE,\"гр.21(со стр.1 по стр.1.9) > гр.6(со стр.1 по стр.1.9)\",\"ОК\")","v":"ОК"},null,null,"данные по гр.21  меньше либо равны гр.6 по строкам 1-1.1.9",{"$f":"IF(OR(SUM(W8:W17)<>0,SUM(H8:H17)<>0),IF(SUM(W8:W17)<=SUM(H8:H17),TRUE,FALSE),TRUE)","v":true}]
[null,null,null,null,null,null,null,null,null,null,null,null,null,null,null,null,null,null,null,null,null,null,null,{"$f":"IF(Z27>0,\"стр.2.2 > стр.1.9 по графе \"&Y27,\"ОК\")","v":"ОК"},{"$f":"IF(Z27>0,INDEX($C$7:$W$7,1,Z27),CHAR(151))","v":"—"},{"$f":"IF(ISERROR(MATCH(FALSE,AB27:AV27,0)),0,MATCH(FALSE,AB27:AV27,0))","v":0},"данные по строке 2.2 должны быть  меньше либо равны данным по строке 1.9 по всем графам, кроме тех, что содержат кресты",true,true,true,true,true,true,true,true,true,true,{"$f":"IF(OR(M20<>0,M17<>0),IF(M20<=M17,TRUE,FALSE),TRUE)","v":true},{"$f":"IF(OR(N20<>0,N17<>0),IF(N20<=N17,TRUE,FALSE),TRUE)","v":true},{"$f":"IF(OR(O20<>0,O17<>0),IF(O20<=O17,TRUE,FALSE),TRUE)","v":true},{"$f":"IF(OR(P20<>0,P17<>0),IF(P20<=P17,TRUE,FALSE),TRUE)","v":true},true,true,true,true,true,true,true]
[null,null,null,null,null,null,null,null,null,null,null,null,null,null,null,null,null,null,null,null,null,null,null,{"$f":"IF(AB28=FALSE,\"гр.2 стр.1 ≠ гр.2(со стр.1.1 по стр.1.7)\",\"ОК\")","v":"ОК"},{"$f":"IF(Z28>0,INDEX($C$7:$W$7,1,Z28),CHAR(151))","v":"—"},{"$f":"IF(ISERROR(MATCH(FALSE,AB28:AV28,0)),0,MATCH(FALSE,AB28:AV28,0))","v":0},"данные стр.1 по графе 2 должны быть равны сумме строк с 1.1 по 1.7 по данной графе",{"$f":"IF(OR(D8<>0,SUM(D9:D15)<>0),IF(D8=SUM(D9:D15),TRUE,FALSE),TRUE)","v":true}]
[null,null,null,null,null,null,null,null,null,null,null,null,null,null,null,null,null,null,null,null,null,null,null,{"$f":"IF(AB29=FALSE,\"гр.6 стр.1 ≠ гр.6(со стр.1.1 по стр.1.7)\",\"ОК\")","v":"ОК"},{"$f":"IF(Z29>0,INDEX($C$7:$W$7,1,Z29),CHAR(151))","v":"—"},{"$f":"IF(ISERROR(MATCH(FALSE,AB29:AV29,0)),0,MATCH(FALSE,AB29:AV29,0))","v":0},"данные стр.1 по графе 6 должны быть равны сумме строк  с 1.1 по 1.7 по данной графе",{"$f":"IF(OR(H8<>0,SUM(H9:H15)<>0),IF(H8=SUM(H9:H15),TRUE,FALSE),TRUE)","v":true}]

{"sheet":"профосмотры 124н","index":15,"n_rows":23,"n_cols":35,"rows_kept":23,"cut":false,"hidden":true,"merged":[[17,0,17,6],[0,3,0,11],[2,0,2,11],[3,23,6,23],[4,0,5,0],[4,3,4,6],[4,7,4,9],[4,10,5,10],[4,11,5,11],[4,12,4,16],[4,20,5,20],[4,21,5,21],[4,22,5,22],[4,1,5,1],[4,2,5,2]]}
[{"$f":"AND('ДВН и профосмотр_общая '!F2<>0,'ДВН и профосмотр_общая '!F4<>0,'ДВН и профосмотр_общая '!D13<>0,'ДВН и профосмотр_общая '!D14<>0,'ДВН и профосмотр_общая '!D15<>0)","v":true},null,null,"Сведения о профилактических осмотрах взрослого населения"]
[]
["Национальный проект \"Здравоохранение\"      Развитие системы первичной медико -санитарной помощи"]
["заполняется  ЕЖЕНЕДЕЛЬНО ",null,null,null,null,null,null,null,null,null,null,null,null,null,null,null,null,null,null,null,null,null,null,"Проверка"]
["Контингенты","№","ВСЕГО                                          (план) ","Осмотрено (завершили)",null,null,null,"из них сельских жителей",null,null,"Число ГРАЖДАН,      у которых при профосмотрах впервые выявлены неинфекцион. заболевания ВСЕГО","Число впервые выявлен. заболеваний в ходе диспансериз. ВСЕГО","число ГРАЖДАН, у которых впервые выявлены (из гр. 9):*",null,null,null,null,null,null,null,"Из числа ГРАЖДАН,   у которых выявлены неинфекц. заболевания           (из гр.9), взяты на диспансерное наблюдение","Из числа ГРАЖДАН,    у которых впервые выявлены неинфекц. заболевания \n(из гр. 9), было начато лечение","из них сельских жителей \n(из гр. 19)"]
[null,null,null,"ВСЕГО","в вечернее время           (после 18:00) (из гр.2)"," в субботу (из гр.2)","Количество граждан, прошедших профосмотр в день обращения (прошедших ВСЕ ИССЛЕДОВАНИЯ за  один день) (из гр.2)","всего                  (из гр.2)","в вечернее время           (после 18:00) (из гр. 6)"," в субботу (из гр. 6)",null,null,"БОЛЕЗНИ СИСТЕМЫ КРОВОБРАЩЕНИЯ","ЗЛОКАЧЕСТВЕН. НОВООБРАЗОВАНИЯ","в том числе в I и П стадиях               (из гр. 11)","САХАРНЫЙ ДИАБЕТ","в т.ч. сахарный диабет 1 типа","ГЛАУКОМА","ХРОНИЧЕСКИЕ БОЛЕЗНИ ОРГАНОВ ДЫХАНИЯ","БОЛЕЗНИ ОРГАНОВ ПИЩЕВАРЕНИЯ"]
[1,null,1,2,3,4,5,6,7,8,9,10,11,12,13,14,15,16,17,18,19,20,21]
["Число лиц, прошедших профосмотр ","1.",{"$f":"'ДВН и профосмотр_общая '!$AD$11","v":1564},{"$f":"'ДВН и профосмотр_общая '!$AF$11","v":391},{"$f":"SUM(E9:E13)","v":0},{"$f":"SUM(F9:F13)","v":0},{"$f":"SUM(G9:G13)","v":3},{"$f":"'ДВН и профосмотр_общая '!$AH$11","v":391},0,0,{"$f":"SUM(K9:K13)","v":1},{"$f":"SUM(L9:L13)","v":1},1,0,0,0,0,0,0,0,1,1,1,{"$f":"IF(OR(D8<>0,SUM(E8:F8)<>0),IF(D8>=SUM(E8:F8),\"ОК\",\"гр.2 < гр.3+гр.4\"),\"ОК\")","v":"ОК"},"гр.2  больше либо равна гр 3+ гр.4"]
[" в возрасте 18-34"," 1.1",980,263,null,null,3,263,null,null,1,1,1,null,null,null,null,null,null,null,1,1,1,{"$f":"IF(OR(D8<>0,H8<>0),IF(D8<H8,\"гр.2 < гр.6\",\"ОК\"),\"ОК\")","v":"ОК"},"гр.2  больше либо равна гр.6\n"]
["в возрасте 35-39"," 1.2",584,128,null,null,null,128,null,null,null,null,null,null,null,null,null,null,null,null,null,null,null,{"$f":"IF(OR(H8<>0,SUM(I8:J8)<>0),IF(H8>=SUM(I8:J8),\"ОК\",\"гр.6 < гр.7+гр.8\"),\"ОК\")","v":"ОК"},"гр.6  больше либо равна гр 7+ гр8\n"]
["в возрасте 40-54"," 1.3",null,null,null,null,null,null,null,null,null,null,null,null,null,null,null,null,null,null,null,null,null,{"$f":"IF(OR(L8<>0,SUM(M8:N8,P8,R8:T8)<>0),IF(L8<SUM(M8:N8,P8,R8:T8),\"гр.10 < гр.11+12+14+16+17+18\",\"ОК\"),\"ОК\")","v":"ОК"},"гр. 10 больше либо равна сумме граф 11+12+14+16+17+18\n"]
["в возрасте 55-59"," 1.4",null,null,null,null,null,null,null,null,null,null,null,null,null,null,null,null,null,null,null,null,null,{"$f":"IF(OR(U8<>0,K8<>0),IF(U8<=K8,\"ОК\",\"гр.19 > гр.9\"),\"ОК\")","v":"ОК"},"гр.19 меньше либо равна гр.9\n"]
["в возрасте 60-64"," 1.5",null,null,null,null,null,null,null,null,null,null,null,null,null,null,null,null,null,null,null,null,null,{"$f":"IF(OR(K8<>0,L8<>0),IF(K8>L8,\"гр.9 > гр.10\",\"ОК\"),\"ОК\")","v":"ОК"},"гр.9 меньше либо равна гр.10"]
["в возрасте 65-74"," 1.6","х","х","х","х","х","х","х","х","х","х","х","х","х","х","х","х","х","х","х","х","х",{"$f":"IF(OR(E8<>0,I8<>0),IF(E8<I8,\"гр.3 < гр.7\",\"ОК\"),\"ОК\")","v":"ОК"},"гр.3  больше либо равна гр.7\n"]
["в возрасте 75 и старше"," 1.7","х","х","х","х","х","х","х","х","х","х","х","х","х","х","х","х","х","х","х","х","х",{"$f":"IF(OR(F8<>0,J8<>0),IF(F8<J8,\"гр.4 < гр.8\",\"ОК\"),\"ОК\")","v":"ОК"},"гр.4  больше либо равна гр8\n"]
["Из числа  (из гр. 9), взятых на диспансерное наблюдение","2.0","х","х","х","х","х","х","х","х","х","х",1,{"$f":"N8","v":0},{"$f":"O8","v":0},0,0,0,null,null,{"$f":"$U$8","v":1},"х","х",{"$f":"IF(OR(V8<>0,K8<>0),IF(V8>K8,\"гр.20 > гр.9\",\"ОК\"),\"ОК\")","v":"ОК"},"гр.20 меньше либо равна гр.9\n"]
[null,null,null,null,null,null,null,null,null,null,null,null,null,null,null,null,null,null,null,null,null,null,null,{"$f":"IF(OR(W8<>0,K8<>0),IF(W8>K8,\"гр.21 > гр.9\",\"ОК\"),\"ОК\")","v":"ОК"},"гр.21 меньше либо равна гр.9"]
[" просьба не ставить ноли при отсутствии значения",null,null,null,null,null,null,null,null,null,null,null,null,null,null,null,null,null,null,null,null,null,null,{"$f":"IF(OR(N8<>0,O8<>0),IF(N8<O8,\"гр.12 < гр.13\",\"ОК\"),\"ОК\")","v":"ОК"},"гр.12 больше либо равна гр.13\n"]
[null,null,null,null,null,null,null,null,null,null,null,null,null,null,null,null,null,null,null,null,null,null,null,{"$f":"IF(OR(P8<>0,Q8<>0),IF(P8<Q8,\"гр.13 < гр.14\",\"ОК\"),\"ОК\")","v":"ОК"},"гр. 14 больше либо равна гр.15\n"]
[null,null,null,null,null,null,null,null,null,null,null,null,null,null,null,null,null,null,null,null,null,null,null,{"$f":"IF(OR(W8<>0,H8<>0),IF(W8>H8,\"гр.21 > гр.6\",\"ОК\"),\"ОК\")","v":"ОК"},"гр21 меньше или равнв гр6"]
[null,null,null,null,null,null,null,null,null,null,null,null,null,null,null,null,null,null,null,null,null,null,null,{"$f":"IF(AA21>0,\"стр.2 > стр.1 по графе \"&Z21,\"ОК\")","v":"ОК"},"данные по строке 2.0 должны быть меньше или равны данных по строке 1.0 по графам с 11 по 18",{"$f":"IF(AA21>0,INDEX($M$7:$T$7,1,AA21),CHAR(151))","v":"—"},{"$f":"IF(ISERROR(MATCH(FALSE,AC21:AI21,0)),0,MATCH(FALSE,AC21:AI21,0))","v":0},{"$f":"IF(OR(M16<>0,M8<>0),IF(M16<=M8,TRUE,FALSE),TRUE)","v":true},{"$f":"IF(OR(N16<>0,N8<>0),IF(N16<=N8,TRUE,FALSE),TRUE)","v":true},true,true,true,true,true,true]
[null,null,null,null,null,null,null,null,null,null,null,null,null,null,null,null,null,null,null,null,null,null,null,{"$f":"IF(Z22=FALSE,\"гр.2 стр.1 ≠ гр.2(со стр.1.1 по стр.1.5)\",\"ОК\")","v":"ОК"},"данные по графе 2 стр.1 должны быть равны сумме строк с 1.1 по 1.5 по данной графе",{"$f":"IF(OR(D8<>0,SUM(D9:D13)<>0),IF(D8=SUM(D9:D13),TRUE,FALSE),TRUE)","v":true}]
[null,null,null,null,null,null,null,null,null,null,null,null,null,null,null,null,null,null,null,null,null,null,null,{"$f":"IF(Z23=FALSE,\"гр.6 стр.1 ≠ гр.6(со стр.1.1 по стр.1.5)\",\"ОК\")","v":"ОК"},"данные по графе 6 стр.1 должны быть равны сумме строк с 1.1 по 1.5 по данной графе",{"$f":"IF(OR(H8<>0,SUM(H9:H13)<>0),IF(H8=SUM(H9:H13),TRUE,FALSE),TRUE)","v":true}]

{"sheet":"Нацпроект_ДВН_ПО _Ф.12","index":16,"n_rows":16,"n_cols":15,"rows_kept":16,"cut":false,"hidden":true,"merged":[[15,0,15,6],[12,1,12,2],[0,1,0,8],[1,1,1,8],[3,1,3,5],[4,6,5,6],[6,6,10,6]]}
[{"$f":"AND('ДВН и профосмотр_общая '!F2<>0,'ДВН и профосмотр_общая '!F4<>0,'ДВН и профосмотр_общая '!D13<>0,'ДВН и профосмотр_общая '!D14<>0,'ДВН и профосмотр_общая '!D15<>0)","v":true}]
["Показатель  нацпроекта","Доля впервые в жизни установленных неинфекционных  заболеваний (ХНИЗ), выявленных при проведении диспансеризации и профилактическом медицинском осмотре у взрослого населения, от общего числа ХНИЗ с впервые установленным диагнозом, %"]
[]
[null,"заполняется ЕЖЕНЕДЕЛЬНО"]
["Нозологии","впервые выявлено при ДВН","впервые выявлено при профосмотре","всего выявлено при ДВН и профосмотрах","число зарегистр. заболеваний  с впервые в жизни установл. диагнозом            гр. 9 форма№12 (т.3000)","Доля впервые в жизни установл. (ХНИЗ) от общего числа ХНИЗ с впервые установл.диагнозом, %","Проверка"]
[1,2,3,4,5,6]
["Болезни системы кровообращения",{"$f":"'ДВН-124н'!M8","v":56},{"$f":"'профосмотры 124н'!M8","v":1},{"$f":"B7+C7","v":57},144,{"$f":"IF(ISERROR(D7/E7*100),0,D7/E7*100)","v":39.583333333333329},{"$f":"IF(I7>0,\"гр.5 < гр.4 по строке «\"&H7&\"»\",\"ОК\")","v":"ОК"},{"$f":"IF(I7>0,INDEX($A$7:$A$11,I7,1),CHAR(151))","v":"—"},{"$f":"IF(ISERROR(MATCH(FALSE,K7:O7,0)),0,MATCH(FALSE,K7:O7,0))","v":0},"графа 5 по всем строкам должна быть больше либо равна графе 4 всем строкам",{"$f":"IF(OR($E7<>0,$D7<>0),IF($E7>=$D7,TRUE,FALSE),TRUE)","v":true},{"$f":"IF(OR($E8<>0,$D8<>0),IF($E8>=$D8,TRUE,FALSE),TRUE)","v":true},{"$f":"IF(OR($E9<>0,$D9<>0),IF($E9>=$D9,TRUE,FALSE),TRUE)","v":true},{"$f":"IF(OR($E10<>0,$D10<>0),IF($E10>=$D10,TRUE,FALSE),TRUE)","v":true},{"$f":"IF(OR($E11<>0,$D11<>0),IF($E11>=$D11,TRUE,FALSE),TRUE)","v":true}]
["Злокачественные новообразования",{"$f":"'ДВН-124н'!N8","v":0},{"$f":"'профосмотры 124н'!N8","v":0},{"$f":"B8+C8","v":0},26,0]
["Сахарный диабет (всего)",{"$f":"'ДВН-124н'!P8","v":11},{"$f":"'профосмотры 124н'!P8","v":0},{"$f":"B9+C9","v":11},{"$f":"E10+E11","v":14},78.571428571428569]
["в т.ч. сахарный диабет 1 типа",{"$f":"'ДВН-124н'!Q8","v":0},{"$f":"'профосмотры 124н'!Q8","v":0},{"$f":"B10+C10","v":0},null,0]
["в т.ч. сахарный диабет 2 типа",{"$f":"B9-B10","v":11},{"$f":"C9-C10","v":0},{"$f":"B11+C11","v":11},14,78.571428571428569]
["ИТОГО",{"$f":"B7+B8+B9","v":67},{"$f":"C7+C8+C9","v":1},{"$f":"D7+D8+D9","v":68},{"$f":"E7+E8+E9","v":184},36.95652173913043]
[]
[]
[]
[" просьба не ставить ноли при отсутствии значения"]

{"sheet":"период. и предвар. осмотры","index":17,"n_rows":28,"n_cols":43,"rows_kept":28,"cut":false,"hidden":true,"merged":[[27,0,27,6],[4,11,4,15],[4,16,4,20],[4,21,6,21],[7,0,10,0],[11,0,14,0],[15,0,18,0],[0,1,0,9],[1,2,1,5],[4,0,5,0],[4,1,5,1],[4,2,5,2],[4,3,4,6],[4,7,4,10]]}
[{"$f":"AND('ДВН и профосмотр_общая '!F2<>0,'ДВН и профосмотр_общая '!F4<>0,'ДВН и профосмотр_общая '!D13<>0,'ДВН и профосмотр_общая '!D14<>0,'ДВН и профосмотр_общая '!D15<>0)","v":true},"Сведения о числе граждан, прошедших периодические и предварительные осмотры в 2022 году"]
[{"$f":"AND('ДВН и профосмотр_общая '!$F$2<>0,'ДВН и профосмотр_общая '!$F$4<>0,'ДВН и профосмотр_общая '!$D$13<>0,'ДВН и профосмотр_общая '!$D$14<>0,'ДВН и профосмотр_общая '!$D$15<>0)","v":true},null,"(нарастающим итогом)"]
[null,null,null,null,null,null,null,null,null,null,null,null,{"$f":"L8+M8+N8","v":50},{"$f":"L9+M9+N9","v":70}]
[null,null,null,null,null,"Подлежало осмотрам(в т.ч муж.)","Подлежало осмотрам(жен.)",4,null,"Осмотрено(в т.ч муж.)","Осмотрено(жен.)",null,null,null,null,null,5,6,7,8,9]
["Вид осмотров","№ стр.","Наименование контингентов","Подлежало осмотрам",null,null,null,"Осмотрено",null,null,null,"из числа осмотренных (из гр.4) определены группы здоровья",null,null,null,null,"из числа осмотренных всего  (из гр.4):",null,null,null,null,{"$f":"IF(W6>0,INDEX(V12:V23,W6,1),\"Проверка\")","v":"Проверка"}]
[null,null,null,"всего","в т.ч. сельские жители            (из гр.3)","в т.ч муж. (из гр.3)","жен.           (из гр.3)","всего","в т.ч. сельские жители        (из гр.4)","в т.ч муж.              (из гр.4)","жен.                 (из гр.4)","I группа","II группа","III группа ","III a группа ","III б группа","выявлено подозрений на профессион. заболевание","не имели медицинских противопоказ. к работе","имели временные /постоянные противопоказ.   к работе","нуждаются в дополнит.обслед. в центре профпатологии","нуждаются в амбулаторном /стационарном обследовании и лечении"]
[1,null,2,3,"3.1.","3.2.","3.3.",4,"4.1.","4.2","4.3","4.4","4.5","4.6","4.6.1","4.6.2",5,6,7,8,9]
["Периодические осмотры",1,"всего",{"$f":"SUM(D10:D11)","v":50},{"$f":"SUM(E10:E11)","v":50},20,30,50,0,20,30,0,0,50,50,0,0,50,0,0,0,{"$f":"IF(X8>0,\"гр.4 ≠ гр.6+гр.7 по строке \"&W8,\"ОК\")","v":"ОК"},{"$f":"IF(X8>0,INDEX($B$8:$B$19,X8,1),CHAR(151))","v":"—"},{"$f":"IF(ISERROR(MATCH(FALSE,Z8:AK8,0)),0,MATCH(FALSE,Z8:AK8,0))","v":0},"графа 4 равна сумме граф 6 и 7",{"$f":"$H8=SUM($R8:$S8)","v":true},{"$f":"$H9=SUM($R9:$S9)","v":true},{"$f":"$H10=SUM($R10:$S10)","v":true},{"$f":"$H11=SUM($R11:$S11)","v":true},{"$f":"$H12=SUM($R12:$S12)","v":true},{"$f":"$H13=SUM($R13:$S13)","v":true},{"$f":"$H14=SUM($R14:$S14)","v":true},{"$f":"$H15=SUM($R15:$S15)","v":true},{"$f":"$H16=SUM($R16:$S16)","v":true},{"$f":"$H17=SUM($R17:$S17)","v":true},{"$f":"$H18=SUM($R18:$S18)","v":true},{"$f":"$H19=SUM($R19:$S19)","v":true}]
[null,2,"из них старше трудоспособного возраста",{"$f":"F9+G9","v":70},70,25,45,{"$f":"J9+K9","v":70},70,25,45,null,null,{"$f":"O9+P9","v":70},70,null,null,70,null,null,null,{"$f":"IF(X9>0,\"гр.5 >= гр.4 по строке \"&W9,\"ОК\")","v":"ОК"},"—",0,"гр. 5 меньше гр.4",{"$f":"IF(OR($Q8<>0,$H8<>0),$Q8<$H8,TRUE)","v":true},{"$f":"IF(OR($Q9<>0,$H9<>0),$Q9<$H9,TRUE)","v":true},{"$f":"IF(OR($Q10<>0,$H10<>0),$Q10<$H10,TRUE)","v":true},{"$f":"IF(OR($Q11<>0,$H11<>0),$Q11<$H11,TRUE)","v":true},{"$f":"IF(OR($Q12<>0,$H12<>0),$Q12<$H12,TRUE)","v":true},{"$f":"IF(OR($Q13<>0,$H13<>0),$Q13<$H13,TRUE)","v":true},{"$f":"IF(OR($Q14<>0,$H14<>0),$Q14<$H14,TRUE)","v":true},{"$f":"IF(OR($Q15<>0,$H15<>0),$Q15<$H15,TRUE)","v":true},{"$f":"IF(OR($Q16<>0,$H16<>0),$Q16<$H16,TRUE)","v":true},{"$f":"IF(OR($Q17<>0,$H17<>0),$Q17<$H17,TRUE)","v":true},{"$f":"IF(OR($Q18<>0,$H18<>0),$Q18<$H18,TRUE)","v":true},{"$f":"IF(OR($Q19<>0,$H19<>0),$Q19<$H19,TRUE)","v":true}]
[null,3,"из них раб.занят.на тяж.раб.и на раб.с вредн.и опасн.услов.труд.",{"$f":"F10+G10","v":0},null,null,null,0,null,null,null,null,null,0,null,null,null,null,null,null,null,{"$f":"IF(X10>0,\"гр.8 >= гр.4 по строке \"&W10,\"ОК\")","v":"ОК"},"—",0,"гр. 8 меньше гр.4",{"$f":"IF(OR($T8<>0,$H8<>0),$T8<$H8,TRUE)","v":true},{"$f":"IF(OR($T9<>0,$H9<>0),$T9<$H9,TRUE)","v":true},{"$f":"IF(OR($T10<>0,$H10<>0),$T10<$H10,TRUE)","v":true},{"$f":"IF(OR($T11<>0,$H11<>0),$T11<$H11,TRUE)","v":true},{"$f":"IF(OR($T12<>0,$H12<>0),$T12<$H12,TRUE)","v":true},{"$f":"IF(OR($T13<>0,$H13<>0),$T13<$H13,TRUE)","v":true},{"$f":"IF(OR($T14<>0,$H14<>0),$T14<$H14,TRUE)","v":true},{"$f":"IF(OR($T15<>0,$H15<>0),$T15<$H15,TRUE)","v":true},{"$f":"IF(OR($T16<>0,$H16<>0),$T16<$H16,TRUE)","v":true},{"$f":"IF(OR($T17<>0,$H17<>0),$T17<$H17,TRUE)","v":true},{"$f":"IF(OR($T18<>0,$H18<>0),$T18<$H18,TRUE)","v":true},{"$f":"IF(OR($T19<>0,$H19<>0),$T19<$H19,TRUE)","v":true}]
[null,4,"декретированные контингенты",50,50,20,30,50,null,20,30,null,null,50,50,null,null,50,null,null,null,{"$f":"IF(X11>0,\"гр.8 > гр.5 по строке \"&W11,\"ОК\")","v":"ОК"},"—",0,"гр. 8 меньше либо равна гр.5",{"$f":"$T8<=$Q8","v":true},{"$f":"$T9<=$Q9","v":true},{"$f":"$T10<=$Q10","v":true},{"$f":"$T11<=$Q11","v":true},{"$f":"$T12<=$Q12","v":true},{"$f":"$T13<=$Q13","v":true},{"$f":"$T14<=$Q14","v":true},{"$f":"$T15<=$Q15","v":true},{"$f":"$T16<=$Q16","v":true},{"$f":"$T17<=$Q17","v":true},{"$f":"$T18<=$Q18","v":true},{"$f":"$T19<=$Q19","v":true}]
["Предварительные осмотры",5,"всего",{"$f":"SUM(D14:D15)","v":65},{"$f":"SUM(E14:E15)","v":65},25,40,65,0,25,40,0,0,65,65,0,0,65,0,0,0,{"$f":"IF(X12>0,\"гр.9 >= гр.4 по строке \"&W12,\"ОК\")","v":"ОК"},"—",0,"гр. 9 меньше гр.4",{"$f":"IF(OR($U8<>0,$H8<>0),$U8<$H8,TRUE)","v":true},{"$f":"IF(OR($U9<>0,$H9<>0),$U9<$H9,TRUE)","v":true},{"$f":"IF(OR($U10<>0,$H10<>0),$U10<$H10,TRUE)","v":true},{"$f":"IF(OR($U11<>0,$H11<>0),$U11<$H11,TRUE)","v":true},{"$f":"IF(OR($U12<>0,$H12<>0),$U12<$H12,TRUE)","v":true},{"$f":"IF(OR($U13<>0,$H13<>0),$U13<$H13,TRUE)","v":true},{"$f":"IF(OR($U14<>0,$H14<>0),$U14<$H14,TRUE)","v":true},{"$f":"IF(OR($U15<>0,$H15<>0),$U15<$H15,TRUE)","v":true},{"$f":"IF(OR($U16<>0,$H16<>0),$U16<$H16,TRUE)","v":true},{"$f":"IF(OR($U17<>0,$H17<>0),$U17<$H17,TRUE)","v":true},{"$f":"IF(OR($U18<>0,$H18<>0),$U18<$H18,TRUE)","v":true},{"$f":"IF(OR($U19<>0,$H19<>0),$U19<$H19,TRUE)","v":true}]
[null,6,"из них старше трудоспособного возраста",80,80,30,50,80,80,30,50,null,null,{"$f":"O13+P13","v":80},80,null,null,80,null,null,null,{"$f":"IF(X13>0,\"гр.3.1 > гр.3 по строке \"&W13,\"ОК\")","v":"ОК"},"—",0,"гр. 3.1. меньше либо равна гр.3",{"$f":"$E8<=$D8","v":true},{"$f":"$E9<=$D9","v":true},{"$f":"$E10<=$D10","v":true},{"$f":"$E11<=$D11","v":true},{"$f":"$E12<=$D12","v":true},{"$f":"$E13<=$D13","v":true},{"$f":"$E14<=$D14","v":true},{"$f":"$E15<=$D15","v":true},{"$f":"$E16<=$D16","v":true},{"$f":"$E17<=$D17","v":true},{"$f":"$E18<=$D18","v":true},{"$f":"$E19<=$D19","v":true}]
[null,7,"из них раб.занят.на тяж.раб.и на раб.с вредн.и опасн.услов.труд.",0,null,null,null,0,null,null,null,null,null,0,null,null,null,null,null,null,null,{"$f":"IF(X14>0,\"гр.4 ≠ гр.4.2+гр.4.3 по строке \"&W14,\"ОК\")","v":"ОК"},"—",0,"гр.4 = сумме граф 4.2+4.3",{"$f":"$H8=SUM($J8:$K8)","v":true},{"$f":"$H9=SUM($J9:$K9)","v":true},{"$f":"$H10=SUM($J10:$K10)","v":true},{"$f":"$H11=SUM($J11:$K11)","v":true},{"$f":"$H12=SUM($J12:$K12)","v":true},{"$f":"$H13=SUM($J13:$K13)","v":true},{"$f":"$H14=SUM($J14:$K14)","v":true},{"$f":"$H15=SUM($J15:$K15)","v":true},{"$f":"$H16=SUM($J16:$K16)","v":true},{"$f":"$H17=SUM($J17:$K17)","v":true},{"$f":"$H18=SUM($J18:$K18)","v":true},{"$f":"$H19=SUM($J19:$K19)","v":true}]
[null,8,"декретированные контингенты",65,65,25,40,65,null,25,40,null,null,65,65,null,null,65,null,null,null,{"$f":"IF(X15>0,\"гр.4 ≠ гр.4.4+гр.4.5+гр.4.6 по строке \"&W15,\"ОК\")","v":"ОК"},"—",0,"гр.4 = сумме граф  4.4+4.5+4.6",{"$f":"$H8=SUM($L8:$N8)","v":true},{"$f":"$H9=SUM($L9:$N9)","v":true},{"$f":"$H10=SUM($L10:$N10)","v":true},{"$f":"$H11=SUM($L11:$N11)","v":true},{"$f":"$H12=SUM($L12:$N12)","v":true},{"$f":"$H13=SUM($L13:$N13)","v":true},{"$f":"$H14=SUM($L14:$N14)","v":true},{"$f":"$H15=SUM($L15:$N15)","v":true},{"$f":"$H16=SUM($L16:$N16)","v":true},{"$f":"$H17=SUM($L17:$N17)","v":true},{"$f":"$H18=SUM($L18:$N18)","v":true},{"$f":"$H19=SUM($L19:$N19)","v":true}]
["Всего: периодические и предварительные",9,"всего",{"$f":"SUM(D18:D19)","v":115},{"$f":"SUM(E18:E19)","v":115},45,70,115,0,45,70,0,0,115,115,0,0,115,0,0,0,{"$f":"IF(X16>0,\"стр.1 < стр.3+стр.4 по графе \"&W16,\"ОК\")","v":"ОК"},{"$f":"IF(X16>0,INDEX($D$7:$U$7,1,X16),CHAR(151))","v":"—"},{"$f":"IF(ISERROR(MATCH(FALSE,Z16:AQ16,0)),0,MATCH(FALSE,Z16:AQ16,0))","v":0},"стр.1 равна или больше стр.3 +стр. 4 по всем графам",true,{"$f":"E8>=SUM(E10:E11)","v":true},true,true,true,true,true,true,true,true,true,true,true,true,true,true,true,true]
[null,10,"из них старше трудоспособного возраста",{"$f":"D9+D13","v":150},150,55,{"$f":"G9+G13","v":95},150,{"$f":"I9+I13","v":150},55,95,0,0,150,{"$f":"O9+O13","v":150},0,0,150,0,0,0,{"$f":"IF(X17>0,\"стр.5 < стр.7+стр.8 по графе \"&W17,\"ОК\")","v":"ОК"},{"$f":"IF(X17>0,INDEX($D$7:$U$7,1,X17),CHAR(151))","v":"—"},{"$f":"IF(ISERROR(MATCH(FALSE,Z17:AQ17,0)),0,MATCH(FALSE,Z17:AQ17,0))","v":0},"стр.5 равна или больше стр.7 +стр. 8 по всем графам",true,{"$f":"E12>=SUM(E14:E15)","v":true},{"$f":"F12>=SUM(F14:F15)","v":true},true,true,true,true,true,true,true,true,true,true,true,true,true,true,true]
[null,11,"из них раб.занят.на тяж.раб.и на раб.с вредн.и опасн.услов.труд.",0,0,0,{"$f":"G10+G14","v":0},0,{"$f":"I10+I14","v":0},0,0,0,0,0,{"$f":"O10+O14","v":0},0,0,0,0,0,0]
[null,12,"декретированные контингенты",115,115,45,{"$f":"G11+G15","v":70},115,{"$f":"I11+I15","v":0},45,70,0,0,115,{"$f":"O11+O15","v":115},0,0,115,0,0,0]
[]
[]
[]
[null,null,"таб.2516","подлежало осмотрам","осмотрено","выявлено подозрений на прфессиональное заболевание","не имели медицинских противопоказаний к работе","имели временные /постоянные противопоказания к работе","нуждаются в дополнит.обследовании в центре профпатологии","нуждаются в амбулаторном /стационарном обследовании и лечении"]
[null,null,"","3","4","5","6","7","8","9"]
[null,null,"всего                                                              ",{"$f":"D16","v":115},{"$f":"H16","v":115},{"$f":"Q16","v":0},{"$f":"R16","v":115},{"$f":"S16","v":0},{"$f":"T16","v":0},{"$f":"U16","v":0}]
[null,null,"из них раб.занят.на тяж.раб.и на раб.с вредн.и опасн.услов.труд.",{"$f":"D18","v":0},{"$f":"H18","v":0},{"$f":"Q18","v":0},0,0,0,0]
[null,null,"декретированные контингенты",{"$f":"D19","v":115},{"$f":"H19","v":115},0,115,0,0,0]
[" просьба не ставить ноли при отсутствии значения"]

{"sheet":"Таб 2510 ф.№30","index":18,"n_rows":17,"n_cols":13,"rows_kept":17,"cut":false,"hidden":true,"merged":[[0,5,0,12]]}
[null,null,null,null,null,{"$f":"IF('ДВН и профосмотр_общая '!F4<>\"\",'ДВН и профосмотр_общая '!F4,\"\")","v":"ГБУЗ \"Кумылженская ЦРБ\""}]
[]
[null,"таб.2510","подлежало осмотрам","из них:              сельских жителей","осмотрено","из них:             сельских жителей","из числа осмотренных    (гр 5):         определены группы здоровья - I","из числа осмотренных    (гр 5):   определены группы здоровья - II","из числа осмотренных (гр 5):   определены группы здоровья - III","из них: III А","из них: III Б","из числа осмотренных (гр 5): определены группы здоровья - IV","из числа осмотренных    (гр 5):  определены группы здоровья -V"]
["","","3","4","5","6","7","8","9","10","11","12","13"]
["001","Дети в возрасте 0-14 лет вкл.                                     "]
["002","из них дети до 1 года"]
["003","Дети 15-17 лет вкл."]
["004","из общего числа детей 15-17 лет(стр03)-юношей"]
["005","Школьники(из суммы стр1+3)"]
["006","Континг. взр.населения (18л.и старше)-всего",{"$f":"C12+C13+C15","v":5973},{"$f":"D12+D13+D15","v":5973},1581,1466,179,382,1020,987,33,"х","х"]
["061","из них старше трудоспособного возраста",{"$f":"C14+C16","v":2886},{"$f":"D14+D16","v":2886},883,883,5,29,849,834,15,"х","х"]
[null,"профосмотры взрослых",{"$f":"'ДВН и профосмотр_общая '!AD11","v":1564},{"$f":"'ДВН и профосмотр_общая '!AE11","v":1564},{"$f":"'ДВН и профосмотр_общая '!AF11","v":391},{"$f":"'ДВН и профосмотр_общая '!AH11","v":391},{"$f":"'ДВН и профосмотр_общая '!AI11","v":144},{"$f":"'ДВН и профосмотр_общая '!AJ11","v":187},{"$f":"'ДВН и профосмотр_общая '!AK11","v":60},{"$f":"'ДВН и профосмотр_общая '!AL11","v":58},{"$f":"'ДВН и профосмотр_общая '!AM11","v":2},"х","х"]
[null,"предварительные и периодич.",{"$f":"'период. и предвар. осмотры'!D16","v":115},{"$f":"'период. и предвар. осмотры'!E16","v":115},{"$f":"'период. и предвар. осмотры'!H16","v":115},{"$f":"'период. и предвар. осмотры'!I16","v":0},{"$f":"'период. и предвар. осмотры'!L16","v":0},{"$f":"'период. и предвар. осмотры'!M16","v":0},{"$f":"'период. и предвар. осмотры'!N16","v":115},{"$f":"'период. и предвар. осмотры'!O16","v":115},{"$f":"'период. и предвар. осмотры'!P16","v":0},"х","х"]
[null,"из них старше трудоспособного возраста",{"$f":"'период. и предвар. осмотры'!D17","v":150},{"$f":"'период. и предвар. осмотры'!E17","v":150},{"$f":"'период. и предвар. осмотры'!H17","v":150},{"$f":"'период. и предвар. осмотры'!I17","v":150},{"$f":"'период. и предвар. осмотры'!L17","v":0},{"$f":"'период. и предвар. осмотры'!M17","v":0},{"$f":"'период. и предвар. осмотры'!N17","v":150},{"$f":"'период. и предвар. осмотры'!O17","v":150},{"$f":"'период. и предвар. осмотры'!P17","v":0},"х","х"]
["062","диспансеризация определ.групп взрослого населения",{"$f":"'ДВН и профосмотр_общая '!$A$11","v":4294},{"$f":"'ДВН и профосмотр_общая '!B11","v":4294},{"$f":"'ДВН и профосмотр_общая '!G11","v":1075},{"$f":"'ДВН и профосмотр_общая '!H11","v":1075},{"$f":"'ДВН и профосмотр_общая '!R11","v":35},{"$f":"'ДВН и профосмотр_общая '!S11","v":195},{"$f":"'ДВН и профосмотр_общая '!T11","v":845},{"$f":"'ДВН и профосмотр_общая '!U11","v":814},{"$f":"'ДВН и профосмотр_общая '!V11","v":31},"х","х"]
["621","из них старше трудоспособного возраста",{"$f":"'ДВН и профосмотр_общая '!C11","v":2736},{"$f":"'ДВН и профосмотр_общая '!D11","v":2736},{"$f":"'ДВН и профосмотр_общая '!I11","v":733},{"$f":"'ДВН и профосмотр_общая '!J11","v":733},{"$f":"'ДВН и профосмотр_общая '!W11","v":5},{"$f":"'ДВН и профосмотр_общая '!X11","v":29},{"$f":"'ДВН и профосмотр_общая '!Y11","v":699},{"$f":"'ДВН и профосмотр_общая '!Z11","v":684},{"$f":"'ДВН и профосмотр_общая '!AA11","v":15},"х","х"]
["007","всего  (сумма стр 1,3,6)",{"$f":"C10","v":5973},{"$f":"D10","v":5973},1581,1466,179,382,1020,987,33]

{"sheet":"таб. 2516 ф. 30","index":19,"n_rows":7,"n_cols":8,"rows_kept":7,"cut":false,"hidden":true,"merged":[[0,3,0,10]]}
[null,null,null,{"$f":"IF('ДВН и профосмотр_общая '!F4<>\"\",'ДВН и профосмотр_общая '!F4,\"\")","v":"ГБУЗ \"Кумылженская ЦРБ\""}]
[]
["таб.2516","подлежало осмотрам","осмотрено","выявлено подозрений на прфессиональное заболевание","не имели медицинских противопоказаний к работе","имели временные /постоянные противопоказания к работе","нуждаются в дополнит.обследовании в центре профпатологии","нуждаются в амбулаторном /стационарном обследовании и лечении"]
["","3","4","5","6","7","8","9"]
["всего                                                              ",{"$f":"SUM(B6:B7)","v":115},{"$f":"SUM(C6:C7)","v":115},0,115,0,0,0]
["из них раб.занят.на тяж.раб.и на раб.с вредн.и опасн.услов.труд.",{"$f":"'период. и предвар. осмотры'!D26","v":0},{"$f":"'период. и предвар. осмотры'!E26","v":0},{"$f":"'период. и предвар. осмотры'!F26","v":0},{"$f":"'период. и предвар. осмотры'!G26","v":0},{"$f":"'период. и предвар. осмотры'!H26","v":0},{"$f":"'период. и предвар. осмотры'!I26","v":0},{"$f":"'период. и предвар. осмотры'!J26","v":0}]
["декретированные контингенты",{"$f":"'период. и предвар. осмотры'!D27","v":115},{"$f":"'период. и предвар. осмотры'!E27","v":115},{"$f":"'период. и предвар. осмотры'!F27","v":0},{"$f":"'период. и предвар. осмотры'!G27","v":115},{"$f":"'период. и предвар. осмотры'!H27","v":0},{"$f":"'период. и предвар. осмотры'!I27","v":0},{"$f":"'период. и предвар. осмотры'!J27","v":0}]

{"sheet":"Старше труд._период и предвар.","index":20,"n_rows":22,"n_cols":26,"rows_kept":22,"cut":false,"hidden":true,"merged":[[10,0,10,6],[0,1,0,10],[1,2,1,5],[2,0,2,8],[3,0,3,19],[3,20,6,20],[4,0,5,0],[4,1,4,3],[4,4,4,6],[4,7,5,7],[4,8,5,8],[4,9,4,13],[4,17,5,17],[4,18,5,18],[4,19,5,19]]}
[{"$f":"AND('ДВН и профосмотр_общая '!F2<>0,'ДВН и профосмотр_общая '!F4<>0,'ДВН и профосмотр_общая '!D13<>0,'ДВН и профосмотр_общая '!D14<>0,'ДВН и профосмотр_общая '!D15<>0)","v":true},"Сведения о числе граждан, прошедших периодические и предварительные осмотры в 2022 году  (старше трудоспособн.)"]
[{"$f":"AND('ДВН и профосмотр_общая '!$F$2<>0,'ДВН и профосмотр_общая '!$F$4<>0,'ДВН и профосмотр_общая '!$D$13<>0,'ДВН и профосмотр_общая '!$D$14<>0,'ДВН и профосмотр_общая '!$D$15<>0)","v":true},null,"(нарастающим итогом)"]
["Национальный проект \"Здравоохранение\"      Развитие системы первичной медико -санитарной помощи"]
["заполняется  ЕЖЕНЕДЕЛЬНО ",null,null,null,null,null,null,null,null,null,null,null,null,null,null,null,null,null,null,null,"Проверка"]
["Контингенты","Осмотрено (завершили)",null,null,"из них сельских жителей",null,null,"Число ГРАЖДАН,      у которых в ходе  диспансериз. впервые выявлены неинфекцион. заболевания ВСЕГО","Число впервые выявлен. заболеваний в ходе диспансериз. ВСЕГО","число ГРАЖДАН, у которых впервые выявлены (из гр. 8):*",null,null,null,null,null,null,null,"Из числа ГРАЖДАН,   у которых выявлены неинфекц. заболевания           (из гр. 8), взяты на диспансерное наблюдение","Из числа ГРАЖДАН,    у которых впервые выявлены неинфекц. заболевания \n(из гр. 8), было начато лечение","из них сельских жителей \n(из гр. 18)"]
[null,"ВСЕГО","в вечернее время           (после 18:00) (из гр.2)"," в субботу (из гр.2)","всего                  (из гр.2)","в вечернее время           (после 18:00) (из гр. 5)"," в субботу (из гр. 5)",null,null,"БОЛЕЗНИ СИСТЕМЫ КРОВОБРАЩЕНИЯ","ЗЛОКАЧЕСТВЕН. НОВООБРАЗОВАНИЯ","в том числе в I и П стадиях               (из гр. 11)","САХАРНЫЙ ДИАБЕТ","в т.ч. сахарный диабет 1 типа","ГЛАУКОМА","ХРОНИЧЕСКИЕ БОЛЕЗНИ ОРГАНОВ ДЫХАНИЯ","БОЛЕЗНИ ОРГАНОВ ПИЩЕВАРЕНИЯ"]
[1,2,3,4,5,6,7,8,9,10,11,12,13,14,15,16,17,18,19,20]
["Всего в том числе:",{"$f":"'период. и предвар. осмотры'!$H$16","v":115},null,null,{"$f":"'период. и предвар. осмотры'!$I$16","v":0},null,null,null,null,null,null,null,null,null,null,null,null,null,null,null,{"$f":"IF(X8>0,\"гр.2 < гр.3+гр.4 по строке \"&W8,\"ОК\")","v":"ОК"},"гр.2  больше либо равна гр 3+ гр.4",{"$f":"IF(X8>0,INDEX($A$8:$A$9,X8,1),CHAR(151))","v":"—"},{"$f":"IF(ISERROR(MATCH(FALSE,Y8:Z8,0)),0,MATCH(FALSE,Y8:Z8,0))","v":0},{"$f":"IF(OR($B8<>0,SUM($C8:$D8)<>0),$B8>=SUM($C8:$D8),TRUE)","v":true},{"$f":"IF(OR($B9<>0,SUM($C9:$D9)<>0),$B9>=SUM($C9:$D9),TRUE)","v":true}]
["лица старше трудоспособного возраста (из табл.период и предварит.осмотры)",{"$f":"'период. и предвар. осмотры'!$H$17","v":150},null,null,{"$f":"'период. и предвар. осмотры'!$I$17","v":150},null,null,null,null,null,null,null,null,null,null,null,null,null,null,null,{"$f":"IF(X9>0,\"гр.2 < гр.5 по строке \"&W9,\"ОК\")","v":"ОК"},"гр.2  больше либо равна гр.5",{"$f":"IF(X9>0,INDEX($A$8:$A$9,X9,1),CHAR(151))","v":"—"},{"$f":"IF(ISERROR(MATCH(FALSE,Y9:Z9,0)),0,MATCH(FALSE,Y9:Z9,0))","v":0},{"$f":"IF(OR($B8<>0,$E8<>0),$B8>=$E8,TRUE)","v":true},{"$f":"IF(OR($B9<>0,$E9<>0),$B9>=$E9,TRUE)","v":true}]
[null,null,null,null,null,null,null,null,null,null,null,null,null,null,null,null,null,null,null,null,{"$f":"IF(X10>0,\"гр.5 < гр.6+гр.7 по строке \"&W10,\"ОК\")","v":"ОК"},"гр.5  больше либо равна гр 6+ гр7",{"$f":"IF(X10>0,INDEX($A$8:$A$9,X10,1),CHAR(151))","v":"—"},{"$f":"IF(ISERROR(MATCH(FALSE,Y10:Z10,0)),0,MATCH(FALSE,Y10:Z10,0))","v":0},{"$f":"IF(OR($E8>0,SUM($F8:$G8)<>0),$E8>=SUM($F8:$G8),TRUE)","v":true},{"$f":"IF(OR($E9>0,SUM($F9:$G9)<>0),$E9>=SUM($F9:$G9),TRUE)","v":true}]
[" просьба не ставить ноли при отсутствии значения",null,null,null,null,null,null,null,null,null,null,null,null,null,null,null,null,null,null,null,{"$f":"IF(X11>0,\"гр.9 < гр.10+гр.11+гр.13+гр.15+гр.16+гр.17 по строке \"&W11,\"ОК\")","v":"ОК"},"\nгр.9 больше либо равна сумме граф 10+11+13+15+16+17 по всем строкам",{"$f":"IF(X11>0,INDEX($A$8:$A$9,X11,1),CHAR(151))","v":"—"},{"$f":"IF(ISERROR(MATCH(FALSE,Y11:Z11,0)),0,MATCH(FALSE,Y11:Z11,0))","v":0},{"$f":"IF(OR($I8>0,SUM($J8:$K8,$M8,$O8:$Q8)<>0),$I8>=SUM($J8:$K8,$M8,$O8:$Q8),TRUE)","v":true},{"$f":"IF(OR($I9>0,SUM($J9:$K9,$M9,$O9:$Q9)<>0),$I9>=SUM($J9:$K9,$M9,$O9:$Q9),TRUE)","v":true}]
[null,null,null,null,null,null,null,null,null,null,null,null,null,null,null,null,null,null,null,null,{"$f":"IF(X12>0,\"гр.18 > гр.8 по строке \"&W12,\"ОК\")","v":"ОК"},"гр.18 меньше либо равна гр.8 по всем строкам",{"$f":"IF(X12>0,INDEX($A$8:$A$9,X12,1),CHAR(151))","v":"—"},{"$f":"IF(ISERROR(MATCH(FALSE,Y12:Z12,0)),0,MATCH(FALSE,Y12:Z12,0))","v":0},{"$f":"IF(OR($R8<>0,$H8<>0),$R8<=$H8,TRUE)","v":true},{"$f":"IF(OR($R9<>0,$H9<>0),$R9<=$H9,TRUE)","v":true}]
[null,null,null,null,null,null,null,null,null,null,null,null,null,null,null,null,null,null,null,null,{"$f":"IF(OR(H9<>0,I9<>0),IF(H9>I9,\"гр.8 > гр.9\",\"ОК\"),\"ОК\")","v":"ОК"},"гр.8 меньше либо равна гр.9"]
[null,null,null,null,null,null,null,null,null,null,null,null,null,null,null,null,null,null,null,null,{"$f":"IF(OR(C9<>0,F9<>0),IF(C9<F9,\"гр.3 < гр.6\",\"ОК\"),\"ОК\")","v":"ОК"},"гр.3  больше либо равна гр.6"]
[null,null,null,null,null,null,null,null,null,null,null,null,null,null,null,null,null,null,null,null,{"$f":"IF(OR(D9<>0,G9<>0),IF(D9<G9,\"гр.4 < гр.7\",\"ОК\"),\"ОК\")","v":"ОК"},"гр.4  больше либо равна гр.7"]
[null,null,null,null,null,null,null,null,null,null,null,null,null,null,null,null,null,null,null,null,{"$f":"IF(X16>0,\"гр.19 > гр.8 по строке \"&W16,\"ОК\")","v":"ОК"},"гр.19 меньше либо равна гр.8 по всем строкам",{"$f":"IF(X16>0,INDEX($A$8:$A$9,X16,1),CHAR(151))","v":"—"},{"$f":"IF(ISERROR(MATCH(FALSE,Y16:Z16,0)),0,MATCH(FALSE,Y16:Z16,0))","v":0},{"$f":"IF(OR($S8<>0,$H8<>0),$S8<=$H8,TRUE)","v":true},{"$f":"IF(OR($S9<>0,$H9<>0),$S9<=$H9,TRUE)","v":true}]
[null,null,null,null,null,null,null,null,null,null,null,null,null,null,null,null,null,null,null,null,{"$f":"IF(X17>0,\"гр.20 > гр.8 по строке \"&W17,\"ОК\")","v":"ОК"},"гр.20 меньше либо равна гр.18 по всем строкам",{"$f":"IF(X17>0,INDEX($A$8:$A$9,X17,1),CHAR(151))","v":"—"},{"$f":"IF(ISERROR(MATCH(FALSE,Y17:Z17,0)),0,MATCH(FALSE,Y17:Z17,0))","v":0},{"$f":"IF(OR($T8<>0,$R8<>0),$T8<=$R8,TRUE)","v":true},{"$f":"IF(OR($T9<>0,$R9<>0),$T9<=$R9,TRUE)","v":true}]
[null,null,null,null,null,null,null,null,null,null,null,null,null,null,null,null,null,null,null,null,{"$f":"IF(OR(K9<>0,L9<>0),IF(K9<L9,\"гр.11 < гр.12\",\"ОК\"),\"ОК\")","v":"ОК"},"гр.11 больше либо равна гр.12 по всем строкам"]
[null,null,null,null,null,null,null,null,null,null,null,null,null,null,null,null,null,null,null,null,{"$f":"IF(OR(M9<>0,N9<>0),IF(M9<N9,\"гр.13 < гр.14\",\"ОК\"),\"ОК\")","v":"ОК"},"гр. 13 больше либо равна гр.14 по всем строкам"]
[null,null,null,null,null,null,null,null,null,null,null,null,null,null,null,null,null,null,null,null,null,"СТРОКА 9 может быть меньше или равна строке 8 по всем графам"]
[null,null,null,null,null,null,null,null,null,null,null,null,null,null,null,null,null,null,null,null,null,"число заболеваний м.б. больше числа граждан: гр.9 м.б. больше или равна гр. 8 по всем строкам"]
[null,null,null,null,null,null,null,null,null,null,null,null,null,null,null,null,null,null,null,null,null,"данные гр.20 не м.б. больше данных гр.5 по соотв. строкам"]

{"sheet":"Включите макросы","index":21,"n_rows":28,"n_cols":33,"rows_kept":28,"cut":false,"hidden":false,"merged":[]}
[null,null,null,null,null,null,null,null,2003,null,null,null,null,null,null,null,null,null,null,null,null,null,null,null,null,null,null,null,null,null,null,null," "]
[]
["Сервис - Параметры - Безопасность- Безопасность макросов - Низкая"]
[]
[]
[]
[null,null,null,null,null,null,null,null,2007]
[]
[]
[]
[]
[]
[]
[]
[]
[]
[]
[]
[]
[]
[]
[]
[]
[]
[]
[]
[]
[null,null,null,null,null,null,null,null,2010]